BEGIN:VCALENDAR
VERSION:2.0
PRODID:-//Minnesota NOW - ECPv6.15.20//NONSGML v1.0//EN
CALSCALE:GREGORIAN
METHOD:PUBLISH
X-WR-CALNAME:Minnesota NOW
X-ORIGINAL-URL:https://mnnow.org
X-WR-CALDESC:Events for Minnesota NOW
REFRESH-INTERVAL;VALUE=DURATION:PT1H
X-Robots-Tag:noindex
X-PUBLISHED-TTL:PT1H
BEGIN:VTIMEZONE
TZID:America/New_York
BEGIN:DAYLIGHT
TZOFFSETFROM:-0500
TZOFFSETTO:-0400
TZNAME:EDT
DTSTART:20210314T070000
END:DAYLIGHT
BEGIN:STANDARD
TZOFFSETFROM:-0400
TZOFFSETTO:-0500
TZNAME:EST
DTSTART:20211107T060000
END:STANDARD
BEGIN:DAYLIGHT
TZOFFSETFROM:-0500
TZOFFSETTO:-0400
TZNAME:EDT
DTSTART:20220313T070000
END:DAYLIGHT
BEGIN:STANDARD
TZOFFSETFROM:-0400
TZOFFSETTO:-0500
TZNAME:EST
DTSTART:20221106T060000
END:STANDARD
BEGIN:DAYLIGHT
TZOFFSETFROM:-0500
TZOFFSETTO:-0400
TZNAME:EDT
DTSTART:20230312T070000
END:DAYLIGHT
BEGIN:STANDARD
TZOFFSETFROM:-0400
TZOFFSETTO:-0500
TZNAME:EST
DTSTART:20231105T060000
END:STANDARD
END:VTIMEZONE
BEGIN:VEVENT
DTSTART;TZID=America/New_York:20221012T160000
DTEND;TZID=America/New_York:20221012T170000
DTSTAMP:20260421T215824
CREATED:20220930T195137Z
LAST-MODIFIED:20220930T195221Z
UID:6649-1665590400-1665594000@mnnow.org
SUMMARY:Economic Justice Committee Meeting
DESCRIPTION:Economic Justice Committee Meeting\n\nThis exciting new initiative will explore how we can provide support services for women struggling\, including sharing resources and helping them navigate systems as well as learning how to take action. Join us to plan our initial meetings starting in January.\n\nhttps://us02web.zoom.us/j/83109676802Meeting ID: 831 0967 6802
URL:https://mnnow.org/event/economic-justice-committee-meeting-5/
CATEGORIES:Economic Justice
END:VEVENT
BEGIN:VEVENT
DTSTART;TZID=America/New_York:20221011T183000
DTEND;TZID=America/New_York:20221011T193000
DTSTAMP:20260421T215824
CREATED:20221005T120842Z
LAST-MODIFIED:20221013T154847Z
UID:6663-1665513000-1665516600@mnnow.org
SUMMARY:Special Event!!  Not Only Women Get Pregnant: Intersectional Language and Reproductive Rights
DESCRIPTION:Special Event!!\nPresented by the MN NOW LGBTQIA+ and MN NOW Reproductive Justice Committees:\n“Not Only Women Get Pregnant: Intersectional Language and Reproductive Rights” with Myrtle Lemon-Todd\, Gender Justice \nvia Zoom \nRegister here: https://www.genderjustice.us/not-only-women-get-pregnant-intersectional-language-reproductive-rights/
URL:https://mnnow.org/event/special-event-not-only-women-get-pregnant-intersectional-language-and-reproductive-rights/
CATEGORIES:LGBTQ Rights,Reproductive Rights
END:VEVENT
BEGIN:VEVENT
DTSTART;TZID=America/New_York:20221010T103000
DTEND;TZID=America/New_York:20221010T113000
DTSTAMP:20260421T215824
CREATED:20221005T120713Z
LAST-MODIFIED:20221005T120713Z
UID:6661-1665397800-1665401400@mnnow.org
SUMMARY:LGBTQIA+ Committee Meeting
DESCRIPTION:LGBTQIA+ Committee Meeting\nVia Zoom (Zoom moving forward.)
URL:https://mnnow.org/event/lgbtqia-committee-meeting-12/
CATEGORIES:LGBTQ Rights
END:VEVENT
BEGIN:VEVENT
DTSTART;TZID=America/New_York:20221009T150000
DTEND;TZID=America/New_York:20221009T170000
DTSTAMP:20260421T215824
CREATED:20220923T200221Z
LAST-MODIFIED:20220923T200221Z
UID:6633-1665327600-1665334800@mnnow.org
SUMMARY:MN NOW PAC Meeting
DESCRIPTION:A meeting of the Board of the MN NOW PAC will be held Sunday\, October 9\, 2022\, 3-5pm\, over zoom.
URL:https://mnnow.org/event/mn-now-pac-meeting-7/
CATEGORIES:Constitutional Equality,Economic Justice,Elections,Freedom from Violence,LGBTQ Rights,PAC,Racial Justice,Reproductive Rights
END:VEVENT
BEGIN:VEVENT
DTSTART;TZID=America/New_York:20221006T180000
DTEND;TZID=America/New_York:20221006T190000
DTSTAMP:20260421T215824
CREATED:20220930T195054Z
LAST-MODIFIED:20220930T195308Z
UID:6647-1665079200-1665082800@mnnow.org
SUMMARY:Freedom From Violence Committee Meeting
DESCRIPTION:Freedom From Violence Committee Meeting\n\nJoin us to learn about the candidates who are endorsed by NOW and who support ending violence against women. We will end the meeting with a call to action\, where we share information with others about National Domestic Violence Awareness Month.\n\nhttps://us02web.zoom.us/j/87295013378Meeting ID: 872 9501 3378
URL:https://mnnow.org/event/freedom-from-violence-committee-meeting-4/
CATEGORIES:Freedom from Violence
END:VEVENT
BEGIN:VEVENT
DTSTART;TZID=America/New_York:20221003T183000
DTEND;TZID=America/New_York:20221003T193000
DTSTAMP:20260421T215824
CREATED:20220930T195003Z
LAST-MODIFIED:20220930T195249Z
UID:6645-1664821800-1664825400@mnnow.org
SUMMARY:Reproductive Rights Committee Meeting
DESCRIPTION:Developed out of the Reproductive Rights Zoomside chats\, this is the first new committee meeting for this revitalized group.  We’ll be discussing what goals the group wants to work towards and how we can support the reproductive rights movement. \nhttps://us02web.zoom.us/j/82030575502Meeting ID: 820 3057 5502
URL:https://mnnow.org/event/reproductive-rights-committee-meeting-5/
CATEGORIES:Reproductive Rights
END:VEVENT
BEGIN:VEVENT
DTSTART;TZID=America/New_York:20221003T103000
DTEND;TZID=America/New_York:20221003T233000
DTSTAMP:20260421T215824
CREATED:20220802T163014Z
LAST-MODIFIED:20220802T163014Z
UID:6554-1664793000-1664839800@mnnow.org
SUMMARY:LBGTQIA+ Committee Meeting
DESCRIPTION:LBGTQIA+ Committee Meeting
URL:https://mnnow.org/event/lbgtqia-committee-meeting-3/
CATEGORIES:LGBTQ Rights
END:VEVENT
BEGIN:VEVENT
DTSTART;TZID=America/New_York:20221001T100000
DTEND;TZID=America/New_York:20221001T120000
DTSTAMP:20260421T215824
CREATED:20220707T171629Z
LAST-MODIFIED:20220707T171753Z
UID:6452-1664618400-1664625600@mnnow.org
SUMMARY:MN NOW Board Meeting
DESCRIPTION:Members are also invited to join us for the next MN NOW Board meeting as observers in order to learn more about what we are doing. \nJoin Zoom Meeting\nhttps://us02web.zoom.us/j/81761583627?pwd=NFRWdy9jTXFsWitHa1lhdzRvU0d2dz09 \nMeeting ID: 817 6158 3627
URL:https://mnnow.org/event/mn-now-board-meeting-12/
CATEGORIES:MN NOW
END:VEVENT
BEGIN:VEVENT
DTSTART;TZID=America/New_York:20220928T183000
DTEND;TZID=America/New_York:20220928T200000
DTSTAMP:20260421T215824
CREATED:20220922T214917Z
LAST-MODIFIED:20220922T214917Z
UID:6629-1664389800-1664395200@mnnow.org
SUMMARY:﻿MN Valley NOW Chapter Meeting
DESCRIPTION:6:30 pm Speaker Program highlights Cindy Bauerly\, the Public Policy Executive in Residence from the Women’s Foundation of Minnesota (WFMN). \nTo get Zoom link for this meeting\, send email request to MNValleyNOW.alta@gmail.com
URL:https://mnnow.org/event/mn-valley-now-chapter-meeting-7/
END:VEVENT
BEGIN:VEVENT
DTSTART;VALUE=DATE:20220920
DTEND;VALUE=DATE:20220921
DTSTAMP:20260421T215824
CREATED:20220920T231759Z
LAST-MODIFIED:20220920T231759Z
UID:6627-1663632000-1663718399@mnnow.org
SUMMARY:National Voter Registration Day Returns on September 20th 2022!
DESCRIPTION:Today is National Voter Registration Day! Celebrate With Minnesota NOW By Registering Yourself Or Helping A Friend Or Neighbor Register!\n\n\nLearn more about National Voter Registration Day below:\n\nhttps://nationalvoterregistrationday.org/\n\n\nNot sure where to register? Click on the link from the Minnesota Secretary Of State below:\nhttps://www.sos.state.mn.us/elections-voting/register-to-vote
URL:https://mnnow.org/event/national-voter-registration-day-returns-on-september-20th-2022/
CATEGORIES:Elections
END:VEVENT
BEGIN:VEVENT
DTSTART;TZID=America/New_York:20220912T103000
DTEND;TZID=America/New_York:20220912T113000
DTSTAMP:20260421T215824
CREATED:20220802T162945Z
LAST-MODIFIED:20220802T163046Z
UID:6552-1662978600-1662982200@mnnow.org
SUMMARY:LBGTQIA+ Committee Meeting
DESCRIPTION:LBGTQIA+ Committee Meeting
URL:https://mnnow.org/event/lbgtqia-committee-meeting-2/
CATEGORIES:LGBTQ Rights
END:VEVENT
BEGIN:VEVENT
DTSTART;TZID=America/New_York:20220901T180000
DTEND;TZID=America/New_York:20220901T190000
DTSTAMP:20260421T215824
CREATED:20220707T171330Z
LAST-MODIFIED:20220818T120811Z
UID:6449-1662055200-1662058800@mnnow.org
SUMMARY:Freedom from Violence Committee Info Session
DESCRIPTION:Freedom from Violence Committee Info Session\nSeptember 1\, 6:00 to 7:00 pm \nJoin Zoom Meeting\nhttps://us02web.zoom.us/j/87295013378
URL:https://mnnow.org/event/freedom-from-violence-committee-info-session-2/
CATEGORIES:Freedom from Violence
END:VEVENT
BEGIN:VEVENT
DTSTART;VALUE=DATE:20220831
DTEND;VALUE=DATE:20220901
DTSTAMP:20260421T215824
CREATED:20220802T162746Z
LAST-MODIFIED:20220802T162746Z
UID:6548-1661904000-1661990399@mnnow.org
SUMMARY:Potluck
DESCRIPTION:Fergus Falls chapter potluck
URL:https://mnnow.org/event/potluck/
END:VEVENT
BEGIN:VEVENT
DTSTART;TZID=America/New_York:20220829T180000
DTEND;TZID=America/New_York:20220829T190000
DTSTAMP:20260421T215824
CREATED:20220707T171243Z
LAST-MODIFIED:20220707T171430Z
UID:6447-1661796000-1661799600@mnnow.org
SUMMARY:Economic Justice Committee Info Session
DESCRIPTION:Economic Justice Committee Info Session\nAugust 29\, 6:00 to 7:00 pm \nJoin Zoom Meeting\nhttps://us02web.zoom.us/j/83109676802
URL:https://mnnow.org/event/economic-justice-committee-info-session-2/
CATEGORIES:Economic Justice
END:VEVENT
BEGIN:VEVENT
DTSTART;TZID=America/New_York:20220820T150000
DTEND;TZID=America/New_York:20220820T170000
DTSTAMP:20260421T215824
CREATED:20220805T222558Z
LAST-MODIFIED:20220805T222558Z
UID:6560-1661007600-1661014800@mnnow.org
SUMMARY:MN PAC Meeting
DESCRIPTION:The Minnesota PAC Board will meet Saturday\, August 20\, 2022\, 3-5pm over Zoom.
URL:https://mnnow.org/event/mn-pac-meeting-2/
CATEGORIES:Constitutional Equality,Economic Justice,Elections,Freedom from Violence,LGBTQ Rights,PAC,Racial Justice,Reproductive Rights
END:VEVENT
BEGIN:VEVENT
DTSTART;TZID=America/New_York:20220815T103000
DTEND;TZID=America/New_York:20220815T113000
DTSTAMP:20260421T215824
CREATED:20220802T162916Z
LAST-MODIFIED:20220802T163110Z
UID:6550-1660559400-1660563000@mnnow.org
SUMMARY:LBGTQIA+ Committee Meeting
DESCRIPTION:LBGTQIA+ Committee Meeting
URL:https://mnnow.org/event/lbgtqia-committee-meeting/
CATEGORIES:LGBTQ Rights
END:VEVENT
BEGIN:VEVENT
DTSTART;TZID=America/New_York:20220814T183000
DTEND;TZID=America/New_York:20220814T193000
DTSTAMP:20260421T215824
CREATED:20220802T162545Z
LAST-MODIFIED:20220802T162545Z
UID:6542-1660501800-1660505400@mnnow.org
SUMMARY:Reproductive Rights ‘Zoomside’ chats
DESCRIPTION:We will share what is currently happening legally\, and provide a space for conversation and questions. \nhttps://us02web.zoom.us/j/82030575502
URL:https://mnnow.org/event/reproductive-rights-zoomside-chats-3/
CATEGORIES:Reproductive Rights
END:VEVENT
BEGIN:VEVENT
DTSTART;TZID=America/New_York:20220807T183000
DTEND;TZID=America/New_York:20220807T193000
DTSTAMP:20260421T215824
CREATED:20220802T162423Z
LAST-MODIFIED:20220802T162430Z
UID:6539-1659897000-1659900600@mnnow.org
SUMMARY:Reproductive Rights ‘Zoomside’ chats
DESCRIPTION:We will share what is currently happening legally\, and provide a space for conversation and questions. \nhttps://us02web.zoom.us/j/82030575502
URL:https://mnnow.org/event/reproductive-rights-zoomside-chats-630-pm-730-pm/
CATEGORIES:Reproductive Rights
END:VEVENT
BEGIN:VEVENT
DTSTART;TZID=America/New_York:20220806T100000
DTEND;TZID=America/New_York:20220806T120000
DTSTAMP:20260421T215824
CREATED:20220609T150854Z
LAST-MODIFIED:20220609T150854Z
UID:6227-1659780000-1659787200@mnnow.org
SUMMARY:MN NOW Board Meeting
DESCRIPTION:Members are also invited to join us for the next MN NOW Board meeting as observers in order to learn more about what we are doing. \nJoin Zoom Meeting\nhttps://us02web.zoom.us/j/81761583627?pwd=NFRWdy9jTXFsWitHa1lhdzRvU0d2dz09 \nMeeting ID: 817 6158 3627\nPasscode: 309201 \nYou can learn more about MN NOW core issues on our website: https://mnnow.org/issues/
URL:https://mnnow.org/event/mn-now-board-meeting-10/
CATEGORIES:MN NOW
END:VEVENT
BEGIN:VEVENT
DTSTART;TZID=America/New_York:20220731T183000
DTEND;TZID=America/New_York:20220731T193000
DTSTAMP:20260421T215824
CREATED:20220731T113020Z
LAST-MODIFIED:20220725T180519Z
UID:6488-1659292200-1659295800@mnnow.org
SUMMARY:Reproductive Rights ‘Zoomside’ chats | 6:30 pm - 7:30 pm
DESCRIPTION:We will share what is currently happening legally\, and provide a space for conversation and questions. \nhttps://us02web.zoom.us/j/82030575502
URL:https://mnnow.org/event/reproductive-rights-zoomside-chats-july-31-630-pm-730-pm/
LOCATION:Via Zoom
CATEGORIES:Reproductive Rights
END:VEVENT
BEGIN:VEVENT
DTSTART;TZID=America/New_York:20220730T150000
DTEND;TZID=America/New_York:20220730T170000
DTSTAMP:20260421T215824
CREATED:20220727T215132Z
LAST-MODIFIED:20220727T215132Z
UID:6530-1659193200-1659200400@mnnow.org
SUMMARY:Minnesota NOW PAC Board Meeting
DESCRIPTION:The MN NOW PAC Board will meet Saturday\, July 30\, 2022\, 3-5pm via Zoom
URL:https://mnnow.org/event/minnesota-now-pac-board-meeting/
CATEGORIES:PAC
END:VEVENT
BEGIN:VEVENT
DTSTART;TZID=America/New_York:20220725T103000
DTEND;TZID=America/New_York:20220725T113000
DTSTAMP:20260421T215824
CREATED:20220620T213022Z
LAST-MODIFIED:20220620T213022Z
UID:6330-1658745000-1658748600@mnnow.org
SUMMARY:LGBTQIA+ Committee Meeting
DESCRIPTION:The LGBTQIA+ Committee will meet Monday\, July 25\, 2022\, 10:30-11:30am.
URL:https://mnnow.org/event/lgbtqia-committee-meeting-10/
CATEGORIES:LGBTQ Rights
END:VEVENT
BEGIN:VEVENT
DTSTART;VALUE=DATE:20220722
DTEND;VALUE=DATE:20220725
DTSTAMP:20260421T215824
CREATED:20220627T165259Z
LAST-MODIFIED:20220627T170051Z
UID:6400-1658448000-1658707199@mnnow.org
SUMMARY:Save Our Democracy – Vote for Womxn’s Lives!
DESCRIPTION:Save Our Democracy – Vote for Womxn’s Lives!\nJuly 22\, 2022 – July 24\, 2022 \nWe are excited to finally meet again in person for the 2022 National NOW Conference: Save Our Democracy – Vote for Womxn’s Lives! Join us in the windy city of Chicago at the ‘herstoric’ Palmer House Hilton hotel. Make your plans to join the united NOW member body to make new connections and reconnect with old friends and chapters from across the United States\, as we come together to vote on resolutions and bylaws and to reignite the excitement of ensuring our PAC is funded to endorse feminist candidates who will move our agenda forward. Chicago brings a multitude of big-city excitement\, and we will be supporting one of the largest unionized cities in America. This conference is another step toward bringing our organization back to its grassroots and uplifting the voice of the body. We look forward to seeing you in July! check back often for new updates! \nNational NOW and the chapters of Illinois NOW are busy planning an amazing conference for 2022. Check back often as the site will continually be updated.
URL:https://mnnow.org/event/save-our-democracy-vote-for-womxns-lives/
CATEGORIES:Constitutional Equality,Reproductive Rights
END:VEVENT
BEGIN:VEVENT
DTSTART;TZID=America/New_York:20220717T110000
DTEND;TZID=America/New_York:20220717T150000
DTSTAMP:20260421T215824
CREATED:20220628T212354Z
LAST-MODIFIED:20220629T032906Z
UID:6412-1658055600-1658070000@mnnow.org
SUMMARY:Our Future: March for Abortion Access
DESCRIPTION:Join MN NOW and UNRESTRICT MINNESOTA on July 17\, 2022\nRallying Point: 11:00 am\, location TBD near the Capitol \nThe Supreme Court has overturned Roe v. Wade\, and safe and legal abortion care for millions across the country is gone. It’s time to get loud and take action! \nAbortion is still legal in Minnesota – but with limited clinic coverage\, laws restricting access to abortion and high costs\, it is already out of reach for so many. Our state can do better\, and we need to do better now. Increasing access to abortion care is critical for our communities and those who are looking to Minnesota now for care. \nWe are ready to make this happen. Join us to demand that Minnesota be a leader in securing reproductive freedom for all! Join UnRestrict Minnesota and partners for a day of action on Sunday\, July 17 starting at 11:00 am in St. Paul. \nOur Future: March for Abortion Access is an action for everyone to show our leaders and our country what Minnesotans really stand for in this historic moment. Join us! \nClick here to visit the unrestrictmn.org website to let them know you’ll be there! \n \n*Content from: https://unrestrictmn.org/our-future-march-for-abortion-access/
URL:https://mnnow.org/event/our-future-march-for-abortion-access/
CATEGORIES:MN NOW,Reproductive Rights
END:VEVENT
BEGIN:VEVENT
DTSTART;TZID=America/New_York:20220716T150000
DTEND;TZID=America/New_York:20220716T153000
DTSTAMP:20260421T215824
CREATED:20220727T215318Z
LAST-MODIFIED:20220727T215318Z
UID:6532-1657983600-1657985400@mnnow.org
SUMMARY:Minnesota NOW Emergency PAC Board Meeting
DESCRIPTION:There will be an emergency meeting of the MN NOW PAC Board on Saturday\, July 16\, 3-3:30pm over Zoom.
URL:https://mnnow.org/event/minnesota-now-emergency-pac-board-meeting/
CATEGORIES:PAC
END:VEVENT
BEGIN:VEVENT
DTSTART;TZID=America/New_York:20220710T183000
DTEND;TZID=America/New_York:20220710T193000
DTSTAMP:20260421T215824
CREATED:20220707T171139Z
LAST-MODIFIED:20220707T171139Z
UID:6445-1657477800-1657481400@mnnow.org
SUMMARY:Reproductive Rights 'Zoomside' chats
DESCRIPTION:We will share what is currently happening legally\, and provide a space for conversation and questions.\nJuly 10\, 6:30 to 7:30 pm. \nJoin Zoom Meeting\nhttps://us02web.zoom.us/j/82030575502
URL:https://mnnow.org/event/reproductive-rights-zoomside-chats-2/
CATEGORIES:Reproductive Rights
END:VEVENT
BEGIN:VEVENT
DTSTART;TZID=America/New_York:20220710T150000
DTEND;TZID=America/New_York:20220710T170000
DTSTAMP:20260421T215824
CREATED:20220625T202639Z
LAST-MODIFIED:20220625T202657Z
UID:6377-1657465200-1657472400@mnnow.org
SUMMARY:Minnesota NOW PAC Board Meeting
DESCRIPTION:The Minnesota NOW PAC Board will meet Sunday\, July 10\, 3-5pm\, over zoom.
URL:https://mnnow.org/event/minnesota-now-pac-meeting/
CATEGORIES:Constitutional Equality,Economic Justice,Elections,Freedom from Violence,LGBTQ Rights,MN NOW,PAC,Primaries,Racial Justice,Reproductive Rights
END:VEVENT
BEGIN:VEVENT
DTSTART;TZID=America/New_York:20220706T180000
DTEND;TZID=America/New_York:20220706T190000
DTSTAMP:20260421T215824
CREATED:20220609T150733Z
LAST-MODIFIED:20220609T150733Z
UID:6225-1657130400-1657134000@mnnow.org
SUMMARY:Economic Justice Committee Info Session
DESCRIPTION:Economic Justice Committee Info Session
URL:https://mnnow.org/event/economic-justice-committee-info-session/
CATEGORIES:Economic Justice
END:VEVENT
BEGIN:VEVENT
DTSTART;TZID=America/New_York:20220705T180000
DTEND;TZID=America/New_York:20220705T190000
DTSTAMP:20260421T215824
CREATED:20220609T150643Z
LAST-MODIFIED:20220609T150643Z
UID:6223-1657044000-1657047600@mnnow.org
SUMMARY:Freedom from Violence Committee Info Session
DESCRIPTION:Freedom from Violence Committee Info Session
URL:https://mnnow.org/event/freedom-from-violence-committee-info-session/
CATEGORIES:Freedom from Violence
END:VEVENT
BEGIN:VEVENT
DTSTART;TZID=America/New_York:20220703T183000
DTEND;TZID=America/New_York:20220703T193000
DTSTAMP:20260421T215824
CREATED:20220609T150316Z
LAST-MODIFIED:20220627T165427Z
UID:6220-1656873000-1656876600@mnnow.org
SUMMARY:Reproductive Rights 'Zoomside' chats
DESCRIPTION:We will share what is currently happening legally\, and provide a space for conversation and questions.
URL:https://mnnow.org/event/reproductive-rights-zoomside-chats/
CATEGORIES:Reproductive Rights
END:VEVENT
END:VCALENDAR