BEGIN:VCALENDAR
VERSION:2.0
PRODID:-//Minnesota NOW - ECPv6.15.20//NONSGML v1.0//EN
CALSCALE:GREGORIAN
METHOD:PUBLISH
X-WR-CALNAME:Minnesota NOW
X-ORIGINAL-URL:https://mnnow.org
X-WR-CALDESC:Events for Minnesota NOW
REFRESH-INTERVAL;VALUE=DURATION:PT1H
X-Robots-Tag:noindex
X-PUBLISHED-TTL:PT1H
BEGIN:VTIMEZONE
TZID:America/New_York
BEGIN:DAYLIGHT
TZOFFSETFROM:-0500
TZOFFSETTO:-0400
TZNAME:EDT
DTSTART:20210314T070000
END:DAYLIGHT
BEGIN:STANDARD
TZOFFSETFROM:-0400
TZOFFSETTO:-0500
TZNAME:EST
DTSTART:20211107T060000
END:STANDARD
BEGIN:DAYLIGHT
TZOFFSETFROM:-0500
TZOFFSETTO:-0400
TZNAME:EDT
DTSTART:20220313T070000
END:DAYLIGHT
BEGIN:STANDARD
TZOFFSETFROM:-0400
TZOFFSETTO:-0500
TZNAME:EST
DTSTART:20221106T060000
END:STANDARD
BEGIN:DAYLIGHT
TZOFFSETFROM:-0500
TZOFFSETTO:-0400
TZNAME:EDT
DTSTART:20230312T070000
END:DAYLIGHT
BEGIN:STANDARD
TZOFFSETFROM:-0400
TZOFFSETTO:-0500
TZNAME:EST
DTSTART:20231105T060000
END:STANDARD
BEGIN:DAYLIGHT
TZOFFSETFROM:-0500
TZOFFSETTO:-0400
TZNAME:EDT
DTSTART:20240310T070000
END:DAYLIGHT
BEGIN:STANDARD
TZOFFSETFROM:-0400
TZOFFSETTO:-0500
TZNAME:EST
DTSTART:20241103T060000
END:STANDARD
END:VTIMEZONE
BEGIN:VEVENT
DTSTART;TZID=America/New_York:20230204T100000
DTEND;TZID=America/New_York:20230204T120000
DTSTAMP:20260421T173400
CREATED:20230130T154409Z
LAST-MODIFIED:20230130T154808Z
UID:6849-1675504800-1675512000@mnnow.org
SUMMARY:MN NOW Board Meeting
DESCRIPTION:Members are also invited to join us for the next MN NOW Board meeting as observers in order to learn more about what we are doing. \nJoin Zoom Meeting\nhttps://us02web.zoom.us/j/81761583627?pwd=NFRWdy9jTXFsWitHa1lhdzRvU0d2dz09 \nMeeting ID: 817 6158 3627\nPasscode: 309201
URL:https://mnnow.org/event/mn-now-board-meeting-14/
CATEGORIES:MN NOW
END:VEVENT
BEGIN:VEVENT
DTSTART;TZID=America/New_York:20230201T173000
DTEND;TZID=America/New_York:20230201T183000
DTSTAMP:20260421T173400
CREATED:20221221T225710Z
LAST-MODIFIED:20221221T225710Z
UID:6808-1675272600-1675276200@mnnow.org
SUMMARY:Disability Rights Committee
DESCRIPTION:Working to free ourselves and others from the confines of ableism and all forms of hate\, oppression\, and inequity. \nhttps://us02web.zoom.us/j/86562351131?pwd=SHNsN1ZlRkJKMkppOXo3OXBTVWJWdz09 \nMeeting ID: 865 6235 1131\nPasscode: 196299
URL:https://mnnow.org/event/disability-rights-committee/
END:VEVENT
BEGIN:VEVENT
DTSTART;TZID=America/New_York:20230122T173000
DTEND;TZID=America/New_York:20230122T183000
DTSTAMP:20260421T173400
CREATED:20230117T154457Z
LAST-MODIFIED:20230117T154457Z
UID:6822-1674408600-1674412200@mnnow.org
SUMMARY:Special Sunday Zoom Event: Talking Points Around Abortion
DESCRIPTION:Special Sunday Zoom Event: Talking Points Around Abortion\nSunday\, January 22 at 5:30 \nhttps://us02web.zoom.us/j/82030575502  \nMeeting ID: 861 9357 9484\nPasscode: NOW \nWe will share talking points about why it is important to support pro-choice legislation.
URL:https://mnnow.org/event/special-sunday-zoom-event-talking-points-around-abortion/
CATEGORIES:Reproductive Rights
END:VEVENT
BEGIN:VEVENT
DTSTART;TZID=America/New_York:20230122T150000
DTEND;TZID=America/New_York:20230122T170000
DTSTAMP:20260421T173400
CREATED:20221121T044301Z
LAST-MODIFIED:20221121T044301Z
UID:6769-1674399600-1674406800@mnnow.org
SUMMARY:MN NOW PAC Board Meeting
DESCRIPTION:The MN NOW PAC Board will meet Sunday\, January 22\, 2023\, 3-5pm via Zoom.
URL:https://mnnow.org/event/mn-now-pac-board-meeting-2/
CATEGORIES:PAC
END:VEVENT
BEGIN:VEVENT
DTSTART;TZID=America/New_York:20230118T170000
DTEND;TZID=America/New_York:20230118T190000
DTSTAMP:20260421T173400
CREATED:20221213T214204Z
LAST-MODIFIED:20221213T214204Z
UID:6795-1674061200-1674068400@mnnow.org
SUMMARY:FF Area Chapter of NOW Meeting
DESCRIPTION:Meeting of the FF Area Chapter of NOW on January 18 from 5 pm-7 pm at the Fergus Falls Public Library\, 205 E. Hampton Ave.\, Fergus Falls\, MN
URL:https://mnnow.org/event/ff-area-chapter-of-now-meeting/
CATEGORIES:MN NOW
END:VEVENT
BEGIN:VEVENT
DTSTART;TZID=America/New_York:20230118T170000
DTEND;TZID=America/New_York:20230118T183000
DTSTAMP:20260421T173400
CREATED:20230117T155517Z
LAST-MODIFIED:20230117T155517Z
UID:6826-1674061200-1674066600@mnnow.org
SUMMARY:Fergus Falls Area Chapter of NOW: January Meeting
DESCRIPTION:Fergus Falls Area Chapter of NOW: January Meeting \nWednesday\, Jan. 18 5 pm-6:30 pm  \nFergus Falls Public Library Teen Room or on Zoom \nMeeting ID: 861 9357 9484\nPasscode: NOW
URL:https://mnnow.org/event/fergus-falls-area-chapter-of-now-january-meeting/
CATEGORIES:MN NOW
END:VEVENT
BEGIN:VEVENT
DTSTART;TZID=America/New_York:20230116T170000
DTEND;TZID=America/New_York:20230116T183000
DTSTAMP:20260421T173400
CREATED:20221216T174323Z
LAST-MODIFIED:20230103T141924Z
UID:6799-1673888400-1673893800@mnnow.org
SUMMARY:Connecting History to Ourselves
DESCRIPTION:Connecting History to Ourselves\nHow do we make sense of the history of the United States? How do we place ourselves in this history? How do we understand the place of others in our shared history? \nJanuary 16\, 5-6:30 pm via Zoom\nIntroduction to The Rebellious Life of Rosa Parks (provided to those who register) \nWe will use the reading to explore US history and the myths we hold about some of our national figures. We’ll ask the question: How do we look at history to understand diverse perspectives and use this knowledge to take action in our world? It is not necessary to read the introduction before you come – a synopsis will be given. \nFor information and to register email: skhedtke@gmail.com\nThese Connections dialogues are a collaboration between WCI and MN NOW focused on expanding conversation around growing a truly inclusive world.
URL:https://mnnow.org/event/6799/
END:VEVENT
BEGIN:VEVENT
DTSTART;TZID=America/New_York:20230103T113000
DTEND;TZID=America/New_York:20230103T143000
DTSTAMP:20260421T173400
CREATED:20221116T154642Z
LAST-MODIFIED:20221116T154728Z
UID:6757-1672745400-1672756200@mnnow.org
SUMMARY:Rally At Capitol
DESCRIPTION:#Day1forERA!\nRally At Capitol \n11:30 for Capitol Action & Legislator Visits\n1:15 Rally in the Rotunda \nFor event info and to RSVP: info@eramn.org
URL:https://mnnow.org/event/rally-at-capitol/
END:VEVENT
BEGIN:VEVENT
DTSTART;TZID=America/New_York:20221227T173000
DTEND;TZID=America/New_York:20221227T183000
DTSTAMP:20260421T173400
CREATED:20221216T174826Z
LAST-MODIFIED:20221216T174826Z
UID:6801-1672162200-1672165800@mnnow.org
SUMMARY:Economic Justice Committee Meeting
DESCRIPTION:Economic Justice Committee Meeting \nhttps://us02web.zoom.us/j/83109676802
URL:https://mnnow.org/event/economic-justice-committee-meeting-9/
CATEGORIES:Economic Justice
END:VEVENT
BEGIN:VEVENT
DTSTART;TZID=America/New_York:20221217T113000
DTEND;TZID=America/New_York:20221217T133000
DTSTAMP:20260421T173400
CREATED:20221213T214055Z
LAST-MODIFIED:20221213T214055Z
UID:6793-1671276600-1671283800@mnnow.org
SUMMARY:Holiday Potluck
DESCRIPTION:Holiday Potluck this Saturday\, December 17 from 11:30 am-1:30 pm at the Kaddatz Gallery (Back Room) at 111 W. Lincoln Ave.\, Fergus Falls\, MN
URL:https://mnnow.org/event/holiday-potluck/
CATEGORIES:MN NOW
END:VEVENT
BEGIN:VEVENT
DTSTART;TZID=America/New_York:20221213T170000
DTEND;TZID=America/New_York:20221213T180000
DTSTAMP:20260421T173400
CREATED:20221202T154552Z
LAST-MODIFIED:20221202T154552Z
UID:6778-1670950800-1670954400@mnnow.org
SUMMARY:Economic Justice Committee Meeting
DESCRIPTION:Economic Justice Committee Meeting \nhttps://us02web.zoom.us/j/83109676802
URL:https://mnnow.org/event/economic-justice-committee-meeting-8/
CATEGORIES:Economic Justice
END:VEVENT
BEGIN:VEVENT
DTSTART;VALUE=DATE:20221211
DTEND;VALUE=DATE:20221212
DTSTAMP:20260421T173400
CREATED:20221108T145938Z
LAST-MODIFIED:20221108T145938Z
UID:6738-1670716800-1670803199@mnnow.org
SUMMARY:Mn Valley Chapter Holiday Potluck
DESCRIPTION:Mn Valley Chapter Holiday Potluck \nmnvalleynow.alta@gmail.com
URL:https://mnnow.org/event/mn-valley-chapter-holiday-potluck/
END:VEVENT
BEGIN:VEVENT
DTSTART;TZID=America/New_York:20221208T160000
DTEND;TZID=America/New_York:20221208T180000
DTSTAMP:20260421T173400
CREATED:20221116T154340Z
LAST-MODIFIED:20221116T154440Z
UID:6753-1670515200-1670522400@mnnow.org
SUMMARY:Celebrate The Minnesota Elections
DESCRIPTION:Celebrate The Minnesota Elections\nJoin ERAMN for some holiday cheer and to get ready for the 2023 legislative session!\nDecember 8th from 4-6PM at Urban Growler 2325 Endicott Street\, St Paul \nThere will be light hors-d’oeuvres\, a cash bar and loads of comeraderie! \nRSVP: info@eramn.org
URL:https://mnnow.org/event/celebrate-the-minnesota-elections/
END:VEVENT
BEGIN:VEVENT
DTSTART;TZID=America/New_York:20221205T190000
DTEND;TZID=America/New_York:20221205T200000
DTSTAMP:20260421T173400
CREATED:20221108T142257Z
LAST-MODIFIED:20221108T142257Z
UID:6723-1670266800-1670270400@mnnow.org
SUMMARY:Reproductive Rights Committee Meeting
DESCRIPTION:Reproductive Rights Committee Meeting
URL:https://mnnow.org/event/reproductive-rights-committee-meeting-6/
CATEGORIES:Reproductive Rights
END:VEVENT
BEGIN:VEVENT
DTSTART;TZID=America/New_York:20221203T100000
DTEND;TZID=America/New_York:20221203T120000
DTSTAMP:20260421T173400
CREATED:20220707T171730Z
LAST-MODIFIED:20220707T171730Z
UID:6454-1670061600-1670068800@mnnow.org
SUMMARY:MN NOW Board Meeting
DESCRIPTION:Members are also invited to join us for the next MN NOW Board meeting as observers in order to learn more about what we are doing. \nJoin Zoom Meeting\nhttps://us02web.zoom.us/j/81761583627?pwd=NFRWdy9jTXFsWitHa1lhdzRvU0d2dz09 \nMeeting ID: 817 6158 3627
URL:https://mnnow.org/event/mn-now-board-meeting-13/
CATEGORIES:MN NOW
END:VEVENT
BEGIN:VEVENT
DTSTART;VALUE=DATE:20221120
DTEND;VALUE=DATE:20221121
DTSTAMP:20260421T173400
CREATED:20221108T142841Z
LAST-MODIFIED:20221108T142841Z
UID:6729-1668902400-1668988799@mnnow.org
SUMMARY:Transgender Day Of Remembrance
DESCRIPTION:Transgender Day Of Remembrance \nOn November 20th of each year\, the names of the transgendered people that have been killed and murdered in the US that we know of are read aloud to honor and celebrate their lives. Look for educational events in your area all week or online.
URL:https://mnnow.org/event/transgender-day-of-remembrance/
CATEGORIES:LGBTQ Rights
END:VEVENT
BEGIN:VEVENT
DTSTART;TZID=America/New_York:20221119T100000
DTEND;TZID=America/New_York:20221119T230000
DTSTAMP:20260421T173400
CREATED:20221108T145841Z
LAST-MODIFIED:20221108T145841Z
UID:6736-1668852000-1668898800@mnnow.org
SUMMARY:ERA Minnesota Monthly Meeting
DESCRIPTION:ERA Minnesota Monthly Meeting \neramn2015@gmail.com
URL:https://mnnow.org/event/era-minnesota-monthly-meeting/
END:VEVENT
BEGIN:VEVENT
DTSTART;TZID=America/New_York:20221117T180000
DTEND;TZID=America/New_York:20221117T190000
DTSTAMP:20260421T173400
CREATED:20221108T145743Z
LAST-MODIFIED:20221116T212557Z
UID:6734-1668708000-1668711600@mnnow.org
SUMMARY:Freedom from Violence Committee Meeting
DESCRIPTION:Freedom from Violence Committee Meeting \nhttps://us02web.zoom.us/j/87295013378
URL:https://mnnow.org/event/freedom-from-violence-committee-meeting-5/
CATEGORIES:Freedom from Violence
END:VEVENT
BEGIN:VEVENT
DTSTART;TZID=America/New_York:20221116T170000
DTEND;TZID=America/New_York:20221116T180000
DTSTAMP:20260421T173400
CREATED:20221108T142657Z
LAST-MODIFIED:20221108T142657Z
UID:6727-1668618000-1668621600@mnnow.org
SUMMARY:Fergus Falls Chapter Meeting
DESCRIPTION:Fergus Falls Chapter Meeting \n@ Fergus Falls library and Zoom \nhttps://us02web.zoom.us/j/86193579484?pwd=dmFKd3FxZEZDekQwOVFoNG52eFZtQT09#success  \nMeeting ID: 857 7987 5786\nPasscode: 758588
URL:https://mnnow.org/event/fergus-falls-chapter-meeting-5/
CATEGORIES:LGBTQ Rights
END:VEVENT
BEGIN:VEVENT
DTSTART;TZID=America/New_York:20221116T170000
DTEND;TZID=America/New_York:20221116T180000
DTSTAMP:20260421T173400
CREATED:20221005T121015Z
LAST-MODIFIED:20221005T121015Z
UID:6667-1668618000-1668621600@mnnow.org
SUMMARY:Fergus Falls Chapter Meeting
DESCRIPTION:Fergus Falls Chapter Meeting
URL:https://mnnow.org/event/fergus-falls-chapter-meeting-4/
CATEGORIES:Local Chapters
END:VEVENT
BEGIN:VEVENT
DTSTART;TZID=America/New_York:20221114T103000
DTEND;TZID=America/New_York:20221114T113000
DTSTAMP:20260421T173400
CREATED:20221108T142550Z
LAST-MODIFIED:20221108T142550Z
UID:6725-1668421800-1668425400@mnnow.org
SUMMARY:LGBTQIA+ Committee Meeting
DESCRIPTION:LGBTQIA+ Committee Meeting
URL:https://mnnow.org/event/lgbtqia-committee-meeting-13/
CATEGORIES:LGBTQ Rights
END:VEVENT
BEGIN:VEVENT
DTSTART;TZID=America/New_York:20221113T180000
DTEND;TZID=America/New_York:20221113T190000
DTSTAMP:20260421T173400
CREATED:20221108T145645Z
LAST-MODIFIED:20221108T145645Z
UID:6732-1668362400-1668366000@mnnow.org
SUMMARY:Economic Justice Committee Meeting
DESCRIPTION:Economic Justice Committee Meeting \nhttps://us02web.zoom.us/j/83109676802
URL:https://mnnow.org/event/economic-justice-committee-meeting-7/
CATEGORIES:Economic Justice
END:VEVENT
BEGIN:VEVENT
DTSTART;TZID=America/New_York:20221113T150000
DTEND;TZID=America/New_York:20221113T170000
DTSTAMP:20260421T173400
CREATED:20221009T215159Z
LAST-MODIFIED:20221009T215159Z
UID:6671-1668351600-1668358800@mnnow.org
SUMMARY:MN NOW PAC Meeting
DESCRIPTION:The MN NOW PAC Board will meet Sunday\, November 13\, 3-5pm\, over zoom.
URL:https://mnnow.org/event/mn-now-pac-meeting-8/
CATEGORIES:PAC
END:VEVENT
BEGIN:VEVENT
DTSTART;VALUE=DATE:20221112
DTEND;VALUE=DATE:20221114
DTSTAMP:20260421T173400
CREATED:20220706T134538Z
LAST-MODIFIED:20220706T134538Z
UID:6437-1668211200-1668383999@mnnow.org
SUMMARY:FREC 14th Annual Overcoming Racism Conference
DESCRIPTION:FREC 14th Annual Overcoming Racism Conference:\nThe Power of Truth in Storytelling \nLivestream The Keynotes\, including: \n\nKao Kalia Yang\nDavid Scherer and Joe Davis\n\nSave The Date! Registration opens September 6\, 2022: OverComingRacism.org
URL:https://mnnow.org/event/frec-14th-annual-overcoming-racism-conference/
END:VEVENT
BEGIN:VEVENT
DTSTART;TZID=America/New_York:20221029T110000
DTEND;TZID=America/New_York:20221029T170000
DTSTAMP:20260421T173400
CREATED:20221020T040723Z
LAST-MODIFIED:20221020T040723Z
UID:6704-1667041200-1667062800@mnnow.org
SUMMARY:Rise for Roe: A Get Out the Vote Concert
DESCRIPTION:Join us on Saturday\, October 29th for RISE FOR ROE: A GET OUT THE VOTE CONCERT \nThis concert will be sparked with festivities for you to RISE and raise funding for reproductive freedom. Donate any amount you can for admission. Your donation helps clinics meet increasing needs and advocacy for the cause. National and local entertainment on stage pair with organizations and vendors to create a positive atmosphere. You will hear from pro-choice candidates defending your right to choose from the front line. \nFeaturing Music by: Chastity Brown\, Bad Bad Hats\, Lady Midnight\, Maria Isa\nComedy from: Mary Mack\, Maggie Faris\, Khadijah Cooper\nHosted by: Miss Shannan \nRise for Roe: A Get Out the Vote Concert\n11 a.m. – 5 p.m. | Stage starts at 12 noon\nSaturday\, Oct. 29\, 2022\n425 Rice Street\, St. Paul\, 55103\n(The former Sears store parking lot near the MN State Capitol) \nFor more information\, please visit https://rockwhatyougotlive.com/events/
URL:https://mnnow.org/event/rise-for-roe-a-get-out-the-vote-concert/
CATEGORIES:Elections,PAC,Reproductive Rights
END:VEVENT
BEGIN:VEVENT
DTSTART;TZID=America/New_York:20221028T170000
DTEND;TZID=America/New_York:20221028T180000
DTSTAMP:20260421T173400
CREATED:20221013T155318Z
LAST-MODIFIED:20221013T155318Z
UID:6695-1666976400-1666980000@mnnow.org
SUMMARY:Economic Justice Committee Meeting
DESCRIPTION:Economic Justice Committee Meeting\n\nThis exciting new initiative will explore how we can provide support services for women struggling\, including sharing resources and helping them navigate systems as well as learning how to take action. Join us to plan our initial meetings starting in January.\n\nhttps://us02web.zoom.us/j/83109676802Meeting ID: 831 0967 6802
URL:https://mnnow.org/event/economic-justice-committee-meeting-6/
CATEGORIES:Economic Justice
END:VEVENT
BEGIN:VEVENT
DTSTART;TZID=America/New_York:20221026T183000
DTEND;TZID=America/New_York:20221026T200000
DTSTAMP:20260421T173400
CREATED:20220922T215102Z
LAST-MODIFIED:20220922T215102Z
UID:6631-1666809000-1666814400@mnnow.org
SUMMARY:MN Valley NOW Chapter Meeting
DESCRIPTION:Starting at 6:30 pm Chapter Annual Meeting\nTiming and Speaker TBD\nBusiness Meeting will include Election of President and MN NOW Board Delegates/Alternates\n\nTo get Zoom link for this meeting\, send email request to MNValleyNOW.alta@gmail.com
URL:https://mnnow.org/event/mn-valley-now-chapter-meeting-8/
END:VEVENT
BEGIN:VEVENT
DTSTART;TZID=America/New_York:20221022T103000
DTEND;TZID=America/New_York:20221022T120000
DTSTAMP:20260421T173400
CREATED:20221013T155117Z
LAST-MODIFIED:20221013T155202Z
UID:6692-1666434600-1666440000@mnnow.org
SUMMARY:ERAMN Annual Membership Meeting
DESCRIPTION:ERAMN Annual Membership Meeting\nRSVP to attend at: info@eramn.org\nSaturday\, October 22\, 2022\,\n10:30 am to 12 noon\nat the Maplewood-Ramsey County Public Library\,\n3025 Southlawn Dr\, Maplewood\, MN 55109 \nERAMN members get to vote on issues in the organization.\nJoin today to participate in our annual meeting.\nMeet other volunteers\, celebrate our wins\, & win door prizes.\nhttps://www.eramn.org/membership.html \nRSVP to attend at: info@eramn.org \nWe need your support to add an Equal Rights Amendment to our MN Constitution and US Constitution. \nERAMN is MN NOW’s “Constitutional Equality” issues lead and welcomes you to volunteer\, become involved and join ERAMN to support Equal Legal Rights for All. \nWe have our annual volunteer meeting and celebration on October 22nd – see info below. \nPlease join us. We need women who show up to demand equality under the law. \nLearn more on our ERAMN organization website.\nwww.eramn.org
URL:https://mnnow.org/event/eramn-annual-membership-meeting/
END:VEVENT
BEGIN:VEVENT
DTSTART;TZID=America/New_York:20221019T170000
DTEND;TZID=America/New_York:20221019T180000
DTSTAMP:20260421T173400
CREATED:20221005T120920Z
LAST-MODIFIED:20221005T120920Z
UID:6665-1666198800-1666202400@mnnow.org
SUMMARY:Fergus Falls Chapter Meeting
DESCRIPTION:Fergus Falls Chapter Meeting
URL:https://mnnow.org/event/fergus-falls-chapter-meeting-3/
CATEGORIES:Local Chapters
END:VEVENT
BEGIN:VEVENT
DTSTART;TZID=America/New_York:20221017T183000
DTEND;TZID=America/New_York:20221017T193000
DTSTAMP:20260421T173400
CREATED:20221005T120413Z
LAST-MODIFIED:20221005T120413Z
UID:6659-1666031400-1666035000@mnnow.org
SUMMARY:MN NOW's Reproductive Rights Committee Meeting
DESCRIPTION:MN NOW’s Reproductive Rights Committee Meeting \nMonday\, October 17\, 6:30 pm\nhttps://us02web.zoom.us/j/82030575502 \nWe are working on creating some great communication pieces\, taking action in our community and working with our legislators to ensure women in Minnesota are able to continue to access the resources they need for healthy lives!
URL:https://mnnow.org/event/mn-nows-reproductive-rights-committee-meeting/
CATEGORIES:Reproductive Rights
END:VEVENT
END:VCALENDAR