BEGIN:VCALENDAR
VERSION:2.0
PRODID:-//Minnesota NOW - ECPv6.15.20//NONSGML v1.0//EN
CALSCALE:GREGORIAN
METHOD:PUBLISH
X-WR-CALNAME:Minnesota NOW
X-ORIGINAL-URL:https://mnnow.org
X-WR-CALDESC:Events for Minnesota NOW
REFRESH-INTERVAL;VALUE=DURATION:PT1H
X-Robots-Tag:noindex
X-PUBLISHED-TTL:PT1H
BEGIN:VTIMEZONE
TZID:America/New_York
BEGIN:DAYLIGHT
TZOFFSETFROM:-0500
TZOFFSETTO:-0400
TZNAME:EDT
DTSTART:20160313T070000
END:DAYLIGHT
BEGIN:STANDARD
TZOFFSETFROM:-0400
TZOFFSETTO:-0500
TZNAME:EST
DTSTART:20161106T060000
END:STANDARD
BEGIN:DAYLIGHT
TZOFFSETFROM:-0500
TZOFFSETTO:-0400
TZNAME:EDT
DTSTART:20170312T070000
END:DAYLIGHT
BEGIN:STANDARD
TZOFFSETFROM:-0400
TZOFFSETTO:-0500
TZNAME:EST
DTSTART:20171105T060000
END:STANDARD
BEGIN:DAYLIGHT
TZOFFSETFROM:-0500
TZOFFSETTO:-0400
TZNAME:EDT
DTSTART:20180311T070000
END:DAYLIGHT
BEGIN:STANDARD
TZOFFSETFROM:-0400
TZOFFSETTO:-0500
TZNAME:EST
DTSTART:20181104T060000
END:STANDARD
END:VTIMEZONE
BEGIN:VEVENT
DTSTART;TZID=America/New_York:20171017T180000
DTEND;TZID=America/New_York:20171017T200000
DTSTAMP:20260423T071452
CREATED:20180120T035816Z
LAST-MODIFIED:20180120T035816Z
UID:3067-1508263200-1508270400@mnnow.org
SUMMARY:Sherburne-Wright NOW Meeting
DESCRIPTION:
URL:https://mnnow.org/event/sherburne-wright-now-meeting/
LOCATION:Pancho Villa\, 100 7th Street West\, Monticello\, MN\, 55362\, United States
CATEGORIES:Local Chapters
END:VEVENT
BEGIN:VEVENT
DTSTART;TZID=America/New_York:20171016T193000
DTEND;TZID=America/New_York:20171016T210000
DTSTAMP:20260423T071452
CREATED:20180120T035436Z
LAST-MODIFIED:20180120T035436Z
UID:3064-1508182200-1508187600@mnnow.org
SUMMARY:Freedom From Violence Meeting
DESCRIPTION:
URL:https://mnnow.org/event/freedom-from-violence-meeting-3/
LOCATION:Davanni’s Pizza & Hot Hoagies\, 41 Cleveland Ave S\, St. Paul\, MN\, 55105\, United States
CATEGORIES:Freedom from Violence
END:VEVENT
BEGIN:VEVENT
DTSTART;TZID=America/New_York:20171014T120000
DTEND;TZID=America/New_York:20171014T140000
DTSTAMP:20260423T071452
CREATED:20170928T162304Z
LAST-MODIFIED:20170928T162314Z
UID:2790-1507982400-1507989600@mnnow.org
SUMMARY:Domestic and Relationship Violence Workshop
DESCRIPTION:Learn to prevent domestic and relationship violence for yourself\, your friends\, your family\, and your community. \nThis workshop will empower you to identify dangerous relationships\, find resources to help yourself and others\, and defend yourself physically. \nKnowledge is power. Let’s empower ourselves. \n\nPlease email info@mnnow.org to register.
URL:https://mnnow.org/event/domestic-and-relationship-violence-workshop/
LOCATION:Sabathani Community Center\, 310 E 38th St\, Minneapolis\, MN\, 55409
CATEGORIES:Freedom from Violence
END:VEVENT
BEGIN:VEVENT
DTSTART;TZID=America/New_York:20171009T193000
DTEND;TZID=America/New_York:20171009T210000
DTSTAMP:20260423T071452
CREATED:20180120T035002Z
LAST-MODIFIED:20180120T035002Z
UID:3061-1507577400-1507582800@mnnow.org
SUMMARY:Reproductive Rights Meeting
DESCRIPTION:
URL:https://mnnow.org/event/reproductive-rights-meeting/
LOCATION:Canteen\, 3255 Bryant Avenue S\, Minneapolis\, MN\, 55408\, United States
CATEGORIES:Reproductive Rights
END:VEVENT
BEGIN:VEVENT
DTSTART;TZID=America/New_York:20171007T080000
DTEND;TZID=America/New_York:20171007T120000
DTSTAMP:20260423T071452
CREATED:20170831T190555Z
LAST-MODIFIED:20170831T190555Z
UID:2716-1507363200-1507377600@mnnow.org
SUMMARY:Run Like a Girl 5K
DESCRIPTION:Here’s the thing: Women make up 51% of Minnesota’s population\, but are vastly underrepresented in elected office. When women run for office\, they win at the same rates as men. And when they win\, they tend to be really good at their jobs. \nWe need more people to run like girls. \nAll are welcome to join MSP NOW and The Progressive North for the Run Like a Girl 5k\, where we’ll raise money for WomenWinning\, a Minnesota-based organization that encourages\, promotes\, supports\, and elects pro-choice women of all political parties to all levels of public office. \nEvent Details\n•Location: Como Park on Saturday\, October 7th.\n•We’re offering both a 5K run and a 2.5K run/walk\n•Registration begins at 8:00AM.\n• 5K run will start at 9:00AM. The walk will start shortly thereafter. \nRegister online via the EventBrite at runlikeagirlMN.eventbrite.com.\nRegistration fees include a Run Like a Girl t-shirt\, running bib\, and post-race drinks and snacks. Stay tuned for additional details around our speakers and post-race fun!
URL:https://mnnow.org/event/run-like-a-girl-5k/
LOCATION:Como Park
CATEGORIES:Local Chapters
END:VEVENT
BEGIN:VEVENT
DTSTART;TZID=America/New_York:20170928T193000
DTEND;TZID=America/New_York:20170928T210000
DTSTAMP:20260423T071452
CREATED:20180120T034118Z
LAST-MODIFIED:20180120T034323Z
UID:3057-1506627000-1506632400@mnnow.org
SUMMARY:Freedom From Violence Meeting
DESCRIPTION:
URL:https://mnnow.org/event/freedom-from-violence-meeting-2/
LOCATION:Precision Grind Coffee\, 2223 E Franklin Avenue\, Minneapolis\, MN\, 55404\, United States
CATEGORIES:Freedom from Violence
END:VEVENT
BEGIN:VEVENT
DTSTART;TZID=America/New_York:20170926T173000
DTEND;TZID=America/New_York:20170926T200000
DTSTAMP:20260423T071452
CREATED:20170907T145137Z
LAST-MODIFIED:20170911T182953Z
UID:2747-1506447000-1506456000@mnnow.org
SUMMARY:Feminist Date Night
DESCRIPTION:Take a break from hate-watching Fox News to meet some of your fellow feminists! \nWe’re getting together to have some beers\, make some new friends\, and enjoy the one true silver lining coming out of this administration: the new connections we’re all making with smart\, badass feminists who make us feel better about the future we can build together. \nAnd of course\, feel free to invite your friends: MSP NOW might be hosting\, but this is definitely a more-the-merrier situation!
URL:https://mnnow.org/event/feminist-date-night/
LOCATION:Urban Growler Brewing Co.\, 2325 Endicott St\, St Paul\, MN\, 55114\, United States
CATEGORIES:Local Chapters
END:VEVENT
BEGIN:VEVENT
DTSTART;TZID=America/New_York:20170923T150000
DTEND;TZID=America/New_York:20170923T163000
DTSTAMP:20260423T071452
CREATED:20170917T151705Z
LAST-MODIFIED:20170917T151705Z
UID:2768-1506178800-1506184200@mnnow.org
SUMMARY:MN NOW Meet-up
DESCRIPTION:Join us for our next MN NOW Meet-Up! Come learn a little about Minnesota NOW and how to get involved while meeting current board members and feminist activists. This event is free and open to the public\, and light refreshments will be served.
URL:https://mnnow.org/event/mn-now-meet-up/
LOCATION:Excelsior Library\, 337 Water St\, Excelsior\, MN\, MN\, 55331
CATEGORIES:MN NOW
END:VEVENT
BEGIN:VEVENT
DTSTART;TZID=America/New_York:20170921T190000
DTEND;TZID=America/New_York:20170921T203000
DTSTAMP:20260423T071452
CREATED:20170831T190315Z
LAST-MODIFIED:20170831T191150Z
UID:2712-1506020400-1506025800@mnnow.org
SUMMARY:MSP NOW's Feminist Book Club
DESCRIPTION:The MSP NOW feminist book club is excited to share our next book club read: Ella Enchanted! What does this fairy tale have to do with feminism? ALL OF THE THINGS! Not only is it a great story\, but it deals with the topics of oppression\, consent\, privilege\, and what it means to be a woman in the world. Sounding more badass by the second\, right? We thought so\, too.
URL:https://mnnow.org/event/feminist-book-club/
LOCATION:Wedge Table\, 2412 Nicollet Ave\, Minneapolis\, MN
CATEGORIES:Local Chapters
END:VEVENT
BEGIN:VEVENT
DTSTART;TZID=America/New_York:20170920T123000
DTEND;TZID=America/New_York:20170920T133000
DTSTAMP:20260423T071452
CREATED:20180120T045905Z
LAST-MODIFIED:20180120T045905Z
UID:3111-1505910600-1505914200@mnnow.org
SUMMARY:Fergus Falls Area NOW Meeting
DESCRIPTION:
URL:https://mnnow.org/event/fergus-falls-area-now-meeting/
LOCATION:The Spot Panini & Wine\, 220 W Lincoln Avenue\, Fergus Falls\, MN\, 56537\, United States
CATEGORIES:Local Chapters
END:VEVENT
BEGIN:VEVENT
DTSTART;TZID=America/New_York:20170919T180000
DTEND;TZID=America/New_York:20170919T200000
DTSTAMP:20260423T071452
CREATED:20170831T191041Z
LAST-MODIFIED:20170831T191231Z
UID:2719-1505844000-1505851200@mnnow.org
SUMMARY:Resist\, Persist\, Vote! Planned Parenthood Fall Action Fund Event
DESCRIPTION:Join the Planned Parenthood Minnesota\, North Dakota\, South Dakota Action Fund President Sarah Stoesz\, and event chairs Anna Arkin\, Sarah Dodge and Frederick Ndip for our fall fundraiser: Keynote Speaker: Kerri Miller\, MPR News Host Advocate Award Winner & VIP Reception Speaker: Governor Mark Dayton
URL:https://mnnow.org/event/resist-persist-vote-planned-parenthood-fall-acton-fund-event/
LOCATION:Muse Event Center\, 107 3rd Ave N\, Minneapolis\, MN
CATEGORIES:Reproductive Rights
END:VEVENT
BEGIN:VEVENT
DTSTART;TZID=America/New_York:20170919T163000
DTEND;TZID=America/New_York:20170919T203000
DTSTAMP:20260423T071452
CREATED:20170810T034853Z
LAST-MODIFIED:20170810T034853Z
UID:2647-1505838600-1505853000@mnnow.org
SUMMARY:Carnitas and Beer ERA Fundraiser
DESCRIPTION:Help pass the Equal Rights Amendment into our Minnesota state constitution in 2018! \nJoin ERAMN for an evening of tasty food\, great hand-crafted beer\, a silent auction and more at Minnesota’s first woman-owned microbrewery!
URL:https://mnnow.org/event/carnitas-and-beer-era-fundraiser/
LOCATION:Urban Growler Brewing Co.\, 2325 Endicott St\, St Paul\, MN\, 55114\, United States
CATEGORIES:Constitutional Equality
END:VEVENT
BEGIN:VEVENT
DTSTART;TZID=America/New_York:20170915T193000
DTEND;TZID=America/New_York:20170915T210000
DTSTAMP:20260423T071452
CREATED:20170920T232452Z
LAST-MODIFIED:20170920T232452Z
UID:2780-1505503800-1505509200@mnnow.org
SUMMARY:LGBTQ Meeting
DESCRIPTION:
URL:https://mnnow.org/event/lgbtq-meeting/
LOCATION:Common Roots Cafe\, 2558 Lyndale Avenue South\, Minneapolis\, MN\, 55405\, United States
CATEGORIES:LGBTQ Rights
END:VEVENT
BEGIN:VEVENT
DTSTART;TZID=America/New_York:20170906T190000
DTEND;TZID=America/New_York:20170906T210000
DTSTAMP:20260423T071452
CREATED:20170831T191344Z
LAST-MODIFIED:20170831T191344Z
UID:2726-1504724400-1504731600@mnnow.org
SUMMARY:MN NOW Board Meeting
DESCRIPTION:
URL:https://mnnow.org/event/mn-now-board-meeting/
LOCATION:Wedge Table\, 2412 Nicollet Ave\, Minneapolis\, MN
CATEGORIES:MN NOW
END:VEVENT
BEGIN:VEVENT
DTSTART;TZID=America/New_York:20170828T193000
DTEND;TZID=America/New_York:20170828T210000
DTSTAMP:20260423T071452
CREATED:20170810T034626Z
LAST-MODIFIED:20170811T041415Z
UID:2645-1503948600-1503954000@mnnow.org
SUMMARY:Racial Justice Mtg
DESCRIPTION:Capitol Cafe\, 2417 E Franklin Ave\, Minneapolis\, MN 5540
URL:https://mnnow.org/event/racial-justice-mtg-2/
LOCATION:Capitol Cafe\, 2417 E Franklin Ave\, Minneapolis\, MN\, 55406\, United States
CATEGORIES:Racial Justice
END:VEVENT
BEGIN:VEVENT
DTSTART;TZID=America/New_York:20170826T190000
DTEND;TZID=America/New_York:20170826T210000
DTSTAMP:20260423T071452
CREATED:20170810T032419Z
LAST-MODIFIED:20170810T032541Z
UID:2638-1503774000-1503781200@mnnow.org
SUMMARY:Equal Means Equal Screening
DESCRIPTION:Humphrey School of Public Affairs\, 301 19th Ave S\, Minneapolis\, MN 55455\, USA
URL:https://mnnow.org/event/equal-means-equal-screening/
LOCATION:Humphrey School of Public Affairs\, 301 19th Ave S\, Minneapolis\, MN\, 55455\, United States
CATEGORIES:Constitutional Equality
END:VEVENT
BEGIN:VEVENT
DTSTART;TZID=America/New_York:20170826T100000
DTEND;TZID=America/New_York:20170826T190000
DTSTAMP:20260423T071452
CREATED:20170807T080340Z
LAST-MODIFIED:20180120T043933Z
UID:2423-1503741600-1503774000@mnnow.org
SUMMARY:ERA Leafleting
DESCRIPTION:Join us at the State Fair as we hand out leaflets to educate people about the need for the ERA! \nWe’ll meet on the northeast corner of Snelling and Midway Parkway intersection\, across the street from the main entrance to the State Fair. Shifts are from 9 AM to Noon\, Noon to 3 PM\, and 3 PM to 6 PM. \nFeminist costumes (suffragettes\, Wonder Woman\, Handmaid’s Tale\, Ruth Bader GInsburg\, etc) are encouraged but not required. \nFor more info or to sign up for a shift please contact Gordy Gustafson at gcgustafson@msn.com.
URL:https://mnnow.org/event/era-leafleting/
LOCATION:Minnesota State Fair\, 1265 Snelling Ave N\, Saint Paul\, MN\, 55108\, United States
CATEGORIES:Constitutional Equality
END:VEVENT
BEGIN:VEVENT
DTSTART;TZID=America/New_York:20170824T193000
DTEND;TZID=America/New_York:20170824T210000
DTSTAMP:20260423T071452
CREATED:20170810T034533Z
LAST-MODIFIED:20170811T041334Z
UID:2642-1503603000-1503608400@mnnow.org
SUMMARY:Reproductive Rights Mtg
DESCRIPTION:Vicinity Coffee\, 3350 Lyndale Ave S\, Minneapolis\, MN 55408
URL:https://mnnow.org/event/reproductive-rights-mtg/
LOCATION:Vicinity Coffee\, 3350 Lyndale Ave S\, Minneapolis\, MN\, 55408\, United States
CATEGORIES:Reproductive Rights
END:VEVENT
BEGIN:VEVENT
DTSTART;TZID=America/New_York:20170823T193000
DTEND;TZID=America/New_York:20170823T210000
DTSTAMP:20260423T071452
CREATED:20170920T231648Z
LAST-MODIFIED:20170920T231648Z
UID:2776-1503516600-1503522000@mnnow.org
SUMMARY:Freedom From Violence Meeting
DESCRIPTION:
URL:https://mnnow.org/event/freedom-from-violence-meeting/
LOCATION:Pizza Luce\, 2200 E. Franklin Avenue\, Minneapolis\, MN\, 55404\, United States
CATEGORIES:Freedom from Violence
END:VEVENT
BEGIN:VEVENT
DTSTART;TZID=America/New_York:20170823T190000
DTEND;TZID=America/New_York:20170823T203000
DTSTAMP:20260423T071452
CREATED:20180120T050243Z
LAST-MODIFIED:20180120T050243Z
UID:3116-1503514800-1503520200@mnnow.org
SUMMARY:Sustainability Committee Meeting
DESCRIPTION:
URL:https://mnnow.org/event/sustainability-committee-meeting/
LOCATION:Wedge Table\, 2412 Nicollet Ave\, Minneapolis\, MN
CATEGORIES:MN NOW
END:VEVENT
BEGIN:VEVENT
DTSTART;TZID=America/New_York:20170815T180000
DTEND;TZID=America/New_York:20170815T193000
DTSTAMP:20260423T071452
CREATED:20170810T081430Z
LAST-MODIFIED:20170811T041637Z
UID:2635-1502820000-1502825400@mnnow.org
SUMMARY:Sherburne-Wright NOW Mtg
DESCRIPTION:Mucho Loco Restaurant\, 19112 Freeport St E121\, Elk River\, MN 55330
URL:https://mnnow.org/event/sherburne-wright-now-mtg/
LOCATION:Mucho Loco Restaurant\, 19112 Freeport St E121\, Elk River\, MN\, 55330\, United States
CATEGORIES:Local Chapters
END:VEVENT
BEGIN:VEVENT
DTSTART;TZID=America/New_York:20170810T183000
DTEND;TZID=America/New_York:20170810T203000
DTSTAMP:20260423T071452
CREATED:20170810T081145Z
LAST-MODIFIED:20170811T041538Z
UID:2632-1502389800-1502397000@mnnow.org
SUMMARY:Action Mtg
DESCRIPTION:Chatterbox Pub\, 2229 E 35th St\, Minneapolis\, MN 55407
URL:https://mnnow.org/event/action-mtg/
LOCATION:Chatterbox Pub\, 2229 E 35th St\, Minneapolis\, MN\, 55407\, United States
CATEGORIES:MN NOW
END:VEVENT
BEGIN:VEVENT
DTSTART;TZID=America/New_York:20170809T180000
DTEND;TZID=America/New_York:20170809T210000
DTSTAMP:20260423T071452
CREATED:20170810T080737Z
LAST-MODIFIED:20170810T032055Z
UID:2626-1502301600-1502312400@mnnow.org
SUMMARY:Messy Conversations: Racial Bias
DESCRIPTION:Event presented by Women’s March Minnesota and co-facilitated by Leslie Redmond and Anika Bowie from Minneapolis NAACP. More info and registration here.
URL:https://mnnow.org/event/messy-conversations-racial-bias/
LOCATION:Southdale Library\, 7001 York Ave S\, Edina\, MN\, 55435\, United States
CATEGORIES:Racial Justice
END:VEVENT
BEGIN:VEVENT
DTSTART;TZID=America/New_York:20170809T140000
DTEND;TZID=America/New_York:20170809T160000
DTSTAMP:20260423T071452
CREATED:20170810T081003Z
LAST-MODIFIED:20170811T041722Z
UID:2629-1502287200-1502294400@mnnow.org
SUMMARY:Constitutional Equality Mtg
DESCRIPTION:Member’s House\, St. Paul
URL:https://mnnow.org/event/constitutional-equality-mtg/
LOCATION:Member’s House\, St. Paul\, MN\, United States
CATEGORIES:Constitutional Equality
END:VEVENT
BEGIN:VEVENT
DTSTART;TZID=America/New_York:20170807T193000
DTEND;TZID=America/New_York:20170807T213000
DTSTAMP:20260423T071452
CREATED:20170810T074623Z
LAST-MODIFIED:20170811T041740Z
UID:2622-1502134200-1502141400@mnnow.org
SUMMARY:LGBTQ Mtg
DESCRIPTION:Bob’s Java Hut\, 2651 Lyndale Ave S\, Minneapolis\, MN 5540
URL:https://mnnow.org/event/lgbtq-mtg/
LOCATION:Bob’s Java Hut\, 2651 Lyndale Ave S\, Minneapolis\, MN\, 55408\, United States
CATEGORIES:LGBTQ Rights
END:VEVENT
BEGIN:VEVENT
DTSTART;TZID=America/New_York:20170801T133000
DTEND;TZID=America/New_York:20170801T150000
DTSTAMP:20260423T071452
CREATED:20170802T233013Z
LAST-MODIFIED:20170920T230551Z
UID:2619-1501594200-1501599600@mnnow.org
SUMMARY:Racial Justice Mtg
DESCRIPTION:Capitol Cafe\, 2417 E Franklin Ave\, Minneapolis\, MN 55406
URL:https://mnnow.org/event/racial-justice-mtg/
LOCATION:Capitol Cafe\, 2417 E Franklin Ave\, Minneapolis\, MN\, 55406\, United States
CATEGORIES:Racial Justice
END:VEVENT
END:VCALENDAR