BEGIN:VCALENDAR
VERSION:2.0
PRODID:-//Minnesota NOW - ECPv6.15.20//NONSGML v1.0//EN
CALSCALE:GREGORIAN
METHOD:PUBLISH
X-WR-CALNAME:Minnesota NOW
X-ORIGINAL-URL:https://mnnow.org
X-WR-CALDESC:Events for Minnesota NOW
REFRESH-INTERVAL;VALUE=DURATION:PT1H
X-Robots-Tag:noindex
X-PUBLISHED-TTL:PT1H
BEGIN:VTIMEZONE
TZID:America/New_York
BEGIN:DAYLIGHT
TZOFFSETFROM:-0500
TZOFFSETTO:-0400
TZNAME:EDT
DTSTART:20170312T070000
END:DAYLIGHT
BEGIN:STANDARD
TZOFFSETFROM:-0400
TZOFFSETTO:-0500
TZNAME:EST
DTSTART:20171105T060000
END:STANDARD
BEGIN:DAYLIGHT
TZOFFSETFROM:-0500
TZOFFSETTO:-0400
TZNAME:EDT
DTSTART:20180311T070000
END:DAYLIGHT
BEGIN:STANDARD
TZOFFSETFROM:-0400
TZOFFSETTO:-0500
TZNAME:EST
DTSTART:20181104T060000
END:STANDARD
BEGIN:DAYLIGHT
TZOFFSETFROM:-0500
TZOFFSETTO:-0400
TZNAME:EDT
DTSTART:20190310T070000
END:DAYLIGHT
BEGIN:STANDARD
TZOFFSETFROM:-0400
TZOFFSETTO:-0500
TZNAME:EST
DTSTART:20191103T060000
END:STANDARD
END:VTIMEZONE
BEGIN:VEVENT
DTSTART;TZID=America/New_York:20180328T110000
DTEND;TZID=America/New_York:20180328T120000
DTSTAMP:20260422T231044
CREATED:20180303T154837Z
LAST-MODIFIED:20180303T160236Z
UID:3347-1522234800-1522238400@mnnow.org
SUMMARY:We Believe: Minnesotans Against Domestic Violence
DESCRIPTION:We believe in the power of survivors. We believe in the power of naming what is happening in our communities. We believe in listening to survivors\, victims and their loved ones. We believe that each person has the power – and responsibility – to make change in our communities and our state. \nWe believe we can take action and end domestic violence! \nJoin MCBW on March 28th in the Rotunda of the Minnesota State Capitol and take a stand against domestic violence in Minnesota
URL:https://mnnow.org/event/we-believe-minnesotans-against-domestic-violence/
LOCATION:Minnesota State Capitol\, 75 Rev Dr Martin Luther King Boulevard\, St. Paul\, MN\, 55155\, United States
CATEGORIES:Freedom from Violence
END:VEVENT
BEGIN:VEVENT
DTSTART;TZID=America/New_York:20180315T180000
DTEND;TZID=America/New_York:20180315T203000
DTSTAMP:20260422T231044
CREATED:20180216T172819Z
LAST-MODIFIED:20180216T172830Z
UID:3303-1521136800-1521145800@mnnow.org
SUMMARY:Third Thursdays : Equal Pay Day
DESCRIPTION:MSP NOW is hosting the March Third Thursday event to shed light on the gender wage gap and Equal Pay Day.
URL:https://mnnow.org/event/third-thursdays-equal-pay-day/
LOCATION:Twin Spirits Distillery\, 2931 CENTRAL AVE NE\, Minneapolis\, MN\, 55418
CATEGORIES:Economic Justice,Local Chapters
END:VEVENT
BEGIN:VEVENT
DTSTART;TZID=America/New_York:20180314T183000
DTEND;TZID=America/New_York:20180314T203000
DTSTAMP:20260422T231044
CREATED:20180225T020344Z
LAST-MODIFIED:20180225T020344Z
UID:3322-1521052200-1521059400@mnnow.org
SUMMARY:LGBTQ Meeting
DESCRIPTION:
URL:https://mnnow.org/event/lgbtq-meeting-7/
LOCATION:Common Roots Cafe\, 2558 Lyndale Avenue South\, Minneapolis\, MN\, 55405\, United States
CATEGORIES:LGBTQ Rights
END:VEVENT
BEGIN:VEVENT
DTSTART;TZID=America/New_York:20180314T173000
DTEND;TZID=America/New_York:20180314T193000
DTSTAMP:20260422T231044
CREATED:20180226T175848Z
LAST-MODIFIED:20180226T180537Z
UID:3326-1521048600-1521055800@mnnow.org
SUMMARY:Power Happy Hour
DESCRIPTION:Join the womenwinning LAUNCH Committee  for their next Power Happy Hour at Urban Growler Brewing Company. \nPower Happy Hours are FREE networking events for young professionals passionate about womenwinning’s work to elect pro-choice women to all levels of public office. There won’t be a formal speaking program – just a chance to chat with awesome\, like-minded Minnesotans! \nThis event is free\, but we hope that you’ll pre-register to help us plan. All are welcome\, so be sure to bring your friends!
URL:https://mnnow.org/event/power-happy-hour/
LOCATION:Urban Growler Brewing Co.\, 2325 Endicott St\, St Paul\, MN\, 55114\, United States
CATEGORIES:Reproductive Rights
END:VEVENT
BEGIN:VEVENT
DTSTART;TZID=America/New_York:20180308T170000
DTEND;TZID=America/New_York:20180308T220000
DTSTAMP:20260422T231044
CREATED:20180204T182824Z
LAST-MODIFIED:20180303T154054Z
UID:3192-1520528400-1520546400@mnnow.org
SUMMARY:FeMNist Day Night Market
DESCRIPTION:Join The Coven and Still Kickin’ on Thursday\, March 8th from 5-10PM for a fun evening featuring more than 50 of Minnesota’s most talented women makers and businesses. \nThe FeMNist Day 2018 Night Market will be held in the historic Grain Belt Bottling House in NE Minneapolis. It’s a family event\, so feel free to bring your baby feMNists! \nParking will be available in the lot off of Marshall St. and 13th Ave. Admission is free. And because everyone loves a good photobooth\, our friends from Selfie and Co. will be there to capture the perfect pic.
URL:https://mnnow.org/event/femnist-day-night-market/
LOCATION:Grain Belt Bottling House\, 79 13th Ave NE\, Minneapolis\, MN\, 55413
CATEGORIES:MN NOW
END:VEVENT
BEGIN:VEVENT
DTSTART;TZID=America/New_York:20180308T090000
DTEND;TZID=America/New_York:20180308T170000
DTSTAMP:20260422T231044
CREATED:20180204T182657Z
LAST-MODIFIED:20180226T180447Z
UID:3190-1520499600-1520528400@mnnow.org
SUMMARY:FeMNist Day Un-Conference
DESCRIPTION:Join The Coven\, Still Kickin and Nora McInerny to celebrate International Women’s Day 2018 with a full day of education\, empowerment and equity for and by women of Minnesota. More details to come in the coming weeks!
URL:https://mnnow.org/event/femnist-day-un-conference/
CATEGORIES:MN NOW
END:VEVENT
BEGIN:VEVENT
DTSTART;TZID=America/New_York:20180308T083000
DTEND;TZID=America/New_York:20180308T120000
DTSTAMP:20260422T231044
CREATED:20180226T175455Z
LAST-MODIFIED:20180226T180343Z
UID:3324-1520497800-1520510400@mnnow.org
SUMMARY:ERA Day of Action
DESCRIPTION:ERAMN & Women’s March MN are joining forces for International Women’s Day ERA Day of Action at the Capitol! \nHere’s a schedule for the day: \n8:30 am: Lobbying training \n10:30 am:  ERA Rally in the Rotunda \n11:15: Group photo on the south steps of the Capitol \nStay tuned for more information on this exciting event as we get closer to the big day!
URL:https://mnnow.org/event/era-day-of-action/
LOCATION:Minnesota State Capitol\, 75 Rev Dr Martin Luther King Boulevard\, St. Paul\, MN\, 55155\, United States
CATEGORIES:Constitutional Equality
END:VEVENT
BEGIN:VEVENT
DTSTART;TZID=America/New_York:20180304T183000
DTEND;TZID=America/New_York:20180304T200000
DTSTAMP:20260422T231044
CREATED:20180225T020247Z
LAST-MODIFIED:20180225T020247Z
UID:3320-1520188200-1520193600@mnnow.org
SUMMARY:Reproductive Rights Meeting
DESCRIPTION:
URL:https://mnnow.org/event/reproductive-rights-meeting-3/
LOCATION:Uptown Diner\, 2548 Hennepin Avenue\, Minneapolis\, MN\, 55405\, United States
CATEGORIES:Reproductive Rights
END:VEVENT
BEGIN:VEVENT
DTSTART;TZID=America/New_York:20180304T150000
DTEND;TZID=America/New_York:20180304T180000
DTSTAMP:20260422T231044
CREATED:20180216T172520Z
LAST-MODIFIED:20180216T172520Z
UID:3300-1520175600-1520186400@mnnow.org
SUMMARY:MSP NOW Birthday Party
DESCRIPTION:MSP NOW is turning one year old! \nWe hope you’ll help us mark this milestone with an afternoon of celebrating\, networking and planning our impending world domination. All are welcome to attend! \nChapter Elections* — 3:00-4:00pm\nBirthday Celebration— 4:00-6:00pm \n*All are welcome to join our election meeting\, however only official MSP NOW members are eligible to vote.
URL:https://mnnow.org/event/msp-now-birthday-party/
LOCATION:Indeed Brewing\, 711 15TH AVENUE NE\, Minneapolis\, MN\, 55413
CATEGORIES:Local Chapters
END:VEVENT
BEGIN:VEVENT
DTSTART;TZID=America/New_York:20180301T090000
DTEND;TZID=America/New_York:20180301T170000
DTSTAMP:20260422T231044
CREATED:20180204T181526Z
LAST-MODIFIED:20180204T181526Z
UID:3175-1519894800-1519923600@mnnow.org
SUMMARY:Pro-Choice Lobby Day
DESCRIPTION:With the Minnesota Legislature’s completely anti-choice majority in both Houses we cannot sit back and hope for the best. We need Minnesota’s Pro-Choice majority to join is at the Capitol to make our voices heard! Register here: https://act1.myngp.com/Forms/7866381174132703232 \nOnce you have registered\, event organizers will schedule your legislative visits. They will email you with your specific legislative meeting time and location. Registration deadline is Friday\, February 23\, 2018! \nAgenda for the day: \n9:00 — 10:30AM: Check in and packet pick up starts (snacks and beverages will be provided)\n10:30 — 11:30AM: Pro-Choice Lobby Day 101 training\, volunteer training\, and informational sessions\nEarly Packet Pickup available at this location. These trainings will be held at Saint Paul College in the theater (Room 1350).\n1:00PM: Check in and Packet Pickup in the Rotunda of the Minnesota Capitol\n1:30PM: Rally in the Rotunda\n2:00 — 5:00PM: Legislative visits. Your day ends with your last visit and packet drop off in the Rotunda.
URL:https://mnnow.org/event/pro-choice-lobby-day/
LOCATION:Minnesota State Capitol\, 75 Rev Dr Martin Luther King Boulevard\, St. Paul\, MN\, 55155\, United States
CATEGORIES:Reproductive Rights
END:VEVENT
BEGIN:VEVENT
DTSTART;TZID=America/New_York:20180226T183000
DTEND;TZID=America/New_York:20180226T183000
DTSTAMP:20260422T231044
CREATED:20180225T015952Z
LAST-MODIFIED:20180225T015952Z
UID:3317-1519669800-1519669800@mnnow.org
SUMMARY:VDAY 2018
DESCRIPTION:A Memory\, A Monologue\, A Rant & A Prayer: Writings to Stop Violence Against Women and Girls \n\nPresented by:\n\nEve Ensler and Mollie Doyle\n\n\nA Memory\, A Monologue\, A Rant and A Prayer: Writing To Stop Violence Against Women and Girls is a groundbreaking collection of monologues by world-renowned authors and playwrights\, edited by Eve Ensler and Mollie Doyle and commissioned by V-Day for the first V-Day: UNTIL THE VIOLENCE STOPS festival\, which took place June 2006 in New York City. It features pieces from “Until the Violence Stops\,” the international tour that brings the issue of violence against women and girls to the forefront of our consciousness. \nAll proceeds benefit Planned Parenthood Minnesota\, North Dakota\, South Dakota and Women Organizing Women (WOW) \nShow is 18+
URL:https://mnnow.org/event/vday-2018/
LOCATION:First Avenue – 7th Street Entry\, 701 N 1st Avenue\, Minneapolis\, MN\, 55403\, United States
CATEGORIES:Freedom from Violence
END:VEVENT
BEGIN:VEVENT
DTSTART;TZID=America/New_York:20180225T180000
DTEND;TZID=America/New_York:20180225T200000
DTSTAMP:20260422T231044
CREATED:20180225T014828Z
LAST-MODIFIED:20180225T014828Z
UID:3315-1519581600-1519588800@mnnow.org
SUMMARY:Freedom From Violence Meeting
DESCRIPTION:
URL:https://mnnow.org/event/freedom-from-violence-meeting-6/
LOCATION:Davanni’s Pizza & Hot Hoagies\, 41 Cleveland Ave S\, St. Paul\, MN\, 55105\, United States
CATEGORIES:Freedom from Violence
END:VEVENT
BEGIN:VEVENT
DTSTART;TZID=America/New_York:20180224T120000
DTEND;TZID=America/New_York:20180224T170000
DTSTAMP:20260422T231044
CREATED:20171230T173440Z
LAST-MODIFIED:20171230T173440Z
UID:2949-1519473600-1519491600@mnnow.org
SUMMARY:2018 Women's Summit and Film Screening
DESCRIPTION:Join us at a Women’s Summit to discuss feminism\, the current state of women’s rights and some of the realities of what it means to be a woman in the U.S. in today’s political climate. This event features a panel discussion with the female Minnesota gubernatorial candidates\, a viewing of the documentary Equal Means Equal\, and a selection of highly relevant breakout sessions led by local women’s issues leaders and experts. Minnesota NOW activists Kate Fitzgerald and Barbara Mahowald are leading a workshop on Feminism 101 during the breakout sessions later in the afternoon. 
URL:https://mnnow.org/event/2018-womens-summit-and-film-screening/
LOCATION:Carlson School of Management\, 321 19th Avenue South\, Minneapolis\, MN\, 55455
CATEGORIES:Constitutional Equality,MN NOW
END:VEVENT
BEGIN:VEVENT
DTSTART;TZID=America/New_York:20180220T180000
DTEND;TZID=America/New_York:20180220T200000
DTSTAMP:20260422T231044
CREATED:20180120T053237Z
LAST-MODIFIED:20180120T053237Z
UID:3122-1519149600-1519156800@mnnow.org
SUMMARY:Sherburne-Wright NOW Meeting
DESCRIPTION:
URL:https://mnnow.org/event/sherburne-wright-now-meeting-2/
LOCATION:Pancho Villa\, 100 7th Street West\, Monticello\, MN\, 55362\, United States
CATEGORIES:Local Chapters
END:VEVENT
BEGIN:VEVENT
DTSTART;TZID=America/New_York:20180218T183000
DTEND;TZID=America/New_York:20180218T200000
DTSTAMP:20260422T231044
CREATED:20180216T041052Z
LAST-MODIFIED:20180216T041052Z
UID:3293-1518978600-1518984000@mnnow.org
SUMMARY:LGBTQ Meeting
DESCRIPTION:
URL:https://mnnow.org/event/lgbtq-meeting-6/
LOCATION:Tiny Diner\, 1024 East 38th Street\, Minneapolis\, MN\, 55407\, United States
CATEGORIES:LGBTQ Rights
END:VEVENT
BEGIN:VEVENT
DTSTART;TZID=America/New_York:20180217T140000
DTEND;TZID=America/New_York:20180217T170000
DTSTAMP:20260422T231044
CREATED:20180216T040309Z
LAST-MODIFIED:20180216T174614Z
UID:3289-1518876000-1518886800@mnnow.org
SUMMARY:Galentine's Meet Up
DESCRIPTION:You are invited to join us Saturday February 17th for our Minnesota NOW Meet Up. Come learn more about MN NOW and the various volunteer opportunities available. Open to the public\, this is an informal meet ‘n greet with other MN NOW activists. We’ll also celebrate Galentine’s by writing our favorite feminist heroes. You’re welcome to come by anytime between 2 – 5 pm. \n\nMN NOW Meet Up\nSaturday February 17th\, 2 – 5 pm\nMeeting Room\n\n\nWayzata Public Library\n\n\nRSVPs are greatly appreciated\, but not required. Send your RSVPs to action@mnnow.org.
URL:https://mnnow.org/event/galentines-meet-up/
LOCATION:Wayzata Library\, 620 Rice Street\, Wayzata\, MN\, 55391\, United States
CATEGORIES:MN NOW
END:VEVENT
BEGIN:VEVENT
DTSTART;TZID=America/New_York:20180217T120000
DTEND;TZID=America/New_York:20180217T160000
DTSTAMP:20260422T231044
CREATED:20180204T182210Z
LAST-MODIFIED:20180204T182210Z
UID:3184-1518868800-1518883200@mnnow.org
SUMMARY:Wiki Workshop: Adding Female Artists to Wikipedia
DESCRIPTION:Less than 15% of all Wikipedia editors are women — which may explain why the entry on Teenage Mutant Ninja Turtles is more comprehensive than the entry for Toni Morrison. ? \nSo on February 17\, MSP NOW is joining the Minneapolis Institute of Art for their Wikipedia Edit-a-Thon\, where we’ll spend the afternoon adding and enhancing the Wikipedia entries for female artists. \nFree tickets available here: https://ticket.artsmia.org/products/to-wikipedia-with-love
URL:https://mnnow.org/event/wiki-workshop-adding-female-artists-to-wikipedia/
LOCATION:Minneapolis Institute of Art\, 2300 S 3rd Ave\, 55404
CATEGORIES:Local Chapters
END:VEVENT
BEGIN:VEVENT
DTSTART;TZID=America/New_York:20180215T180000
DTEND;TZID=America/New_York:20180215T200000
DTSTAMP:20260422T231044
CREATED:20180204T181200Z
LAST-MODIFIED:20180204T181200Z
UID:3173-1518717600-1518724800@mnnow.org
SUMMARY:Roe Unrealized: What's at Stake in Minnesota
DESCRIPTION:Join Women’s March Minnesota as we host a discussion on reproductive justice. We’ll be joined by Karen Law of Our Justice who will lead us in a discussion on how reproductive rights and access to resources\, such as birth control\, abortion and women’s health\, are talked about\, exploited and addressed locally and nationally.
URL:https://mnnow.org/event/roe-unrealized-whats-at-stake-in-minnesota/
LOCATION:Black Dog Cafe\, 308 Prince St\, St. Paul\, MN\, 55101\, United States
CATEGORIES:Reproductive Rights
END:VEVENT
BEGIN:VEVENT
DTSTART;TZID=America/New_York:20180214T110000
DTEND;TZID=America/New_York:20180214T140000
DTSTAMP:20260422T231044
CREATED:20180204T181927Z
LAST-MODIFIED:20180204T181947Z
UID:3181-1518606000-1518616800@mnnow.org
SUMMARY:Missing and Murdered Indigenous People's March
DESCRIPTION:March for Missing and Murdered Indigenous Women\, Girls\, Boys\, Two Spirit and Transgender Relatives \nWEAR RED! Bring Banners\, Posters\, Staffs\, Drums\, Rattles
URL:https://mnnow.org/event/missing-and-murdered-indigenous-peoples-march/
LOCATION:Minneapolis American Indian Center\, 1530 E Franklin Ave\, Minneapolis\, MN\, 55404
CATEGORIES:Freedom from Violence
END:VEVENT
BEGIN:VEVENT
DTSTART;TZID=America/New_York:20180213T173000
DTEND;TZID=America/New_York:20180213T193000
DTSTAMP:20260422T231044
CREATED:20180204T181752Z
LAST-MODIFIED:20180204T181752Z
UID:3178-1518543000-1518550200@mnnow.org
SUMMARY:Wine\, Chocolate\, and Choice
DESCRIPTION:womenwinning is fired up to elect pro-choice women from all political parties to all levels of public office and 2018 is going to be our BIGGEST. YEAR. YET. With six statewide races on the ballot in Minnesota\, not to mention key congressional\, state\, and local elections\, there is a lot at stake. Join a powerful room of pro-choice leaders\, show your support\, and help us kick off this critical year at Wine\, Chocolate & Choice. \nTickets available here: https://services.myngp.com/ngponlineservices/event.aspx?Y=FrZ0S4jyDpU97rMYBA1uHNtRsGd2opWrgYiGsmNo8XhsnJVL%2fkGvbw%3d%3d
URL:https://mnnow.org/event/wine-chocolate-and-choice/
LOCATION:MInneapolis Event Centers\, 212 2nd St SE\, Minneapolis\, MN\, 55414
CATEGORIES:Reproductive Rights
END:VEVENT
BEGIN:VEVENT
DTSTART;TZID=America/New_York:20180213T130000
DTEND;TZID=America/New_York:20180213T143000
DTSTAMP:20260422T231044
CREATED:20180204T182440Z
LAST-MODIFIED:20180204T182440Z
UID:3187-1518526800-1518532200@mnnow.org
SUMMARY:Campus Sexual Assault: Responses to Changes in Federal Title IX Policy
DESCRIPTION:In September of 2017\, Secretary of Education Betsy DeVos rescinded Obama-era guidance on how colleges and universities handle sexual assaults under Title IX law. Join the Center on Women\, Gender and Public Policy for a moderated discussion of how the University of Minnesota-Twin Cities campus and Minnesota state legislators are responding to these federal changes. \n\nKaren Miksch\, Associate Professor of Organizational Leadership\, Policy and Development and co-chair of the UMN President’s Initiative to Prevent Sexual Misconduct\nState Representative Erin Murphy\, author of proposed state legislation to strengthen consent guidelines at all colleges and universities in the state\nLena Palacios\, Assistant Professor\, Gender\, Women’s and Sexuality Studies and co-author of a dear colleagues letter raising concerns about mandatory reporting\nRose Miron\, Ph.D. Candidate\, American Studies and co-author of a dear colleagues letter raising concerns about mandatory reporting\nModerated by Professor Christina Ewig \nEvent is free and open to the public. Please contact cwgpp@umn.edu to request disability accommodations.
URL:https://mnnow.org/event/campus-sexual-assault-responses-to-changes-in-federal-title-ix-policy/
LOCATION:Humphrey School of Public Affairs\, 301 19th Ave S\, Minneapolis\, MN\, 55455\, United States
CATEGORIES:Freedom from Violence
END:VEVENT
BEGIN:VEVENT
DTSTART;TZID=America/New_York:20180129T183000
DTEND;TZID=America/New_York:20180129T203000
DTSTAMP:20260422T231044
CREATED:20180120T043706Z
LAST-MODIFIED:20180120T043706Z
UID:3106-1517250600-1517257800@mnnow.org
SUMMARY:Freedom From Violence Meeting
DESCRIPTION:
URL:https://mnnow.org/event/freedom-from-violence-meeting-5/
LOCATION:Groundswell\, 1340 Thomas Avenue W\, St. Paul\, MN\, 55104\, United States
CATEGORIES:Freedom from Violence
END:VEVENT
BEGIN:VEVENT
DTSTART;TZID=America/New_York:20180128T090000
DTEND;TZID=America/New_York:20180128T170000
DTSTAMP:20260422T231044
CREATED:20171216T223350Z
LAST-MODIFIED:20180104T162842Z
UID:2930-1517130000-1517158800@mnnow.org
SUMMARY:MNxMN 2018: Beyond Resistance Conference
DESCRIPTION:MNxMN 2018: Beyond Resistance is a brand new social justice conference designed to bring together new and experienced activists from around the state to focus on issues affecting all Minnesotans. Our goal is for participants to become more effective advocates in preparation for the 2018 legislative session\, mid-term elections and ongoing grassroots activism. \nThis one-day event will feature workshops\, speakers\, forums and activities to deepen knowledge\, develop advocacy skills and build relationships between new and existing activist organizations and individuals. Sessions will be based on the following themes: \n\n\nCommunity Building \n\n\nSkills for Effective Activism \n\n\nUnderstanding the Issues: Passion to Purpose \n\n\n  \nInterested in applying for a MN NOW Scholarship for this event? In order to receive a scholarship you have to be a Minnesota NOW member\, and you have to commit to bringing what you’ve learned back to the organization in some way or another. Some options include: writing a blog post about your experience\, updating an issue page on our website\, planning an action or working with a committee to plan an action based on what you learned\, or giving a short presentation at a board or chapter meeting. \nFill out the following form to apply for a scholarship to the conference. The info below is what we need to register you. Deadline for applying is January 14th. \n\n	Notice: JavaScript is required for this content.
URL:https://mnnow.org/event/mnxmn-2018-beyond-resistance-conference/
LOCATION:Harding High School\, 1540 6th St E\, St. Paul\, MN\, 55106
CATEGORIES:MN NOW
END:VEVENT
BEGIN:VEVENT
DTSTART;TZID=America/New_York:20180124T183000
DTEND;TZID=America/New_York:20180124T203000
DTSTAMP:20260422T231044
CREATED:20180120T043518Z
LAST-MODIFIED:20180120T043518Z
UID:3103-1516818600-1516825800@mnnow.org
SUMMARY:Action Committee Meeting
DESCRIPTION:
URL:https://mnnow.org/event/action-committee-meeting-3/
LOCATION:Uptown Diner\, 2548 Hennepin Avenue\, Minneapolis\, MN\, 55405\, United States
CATEGORIES:MN NOW
END:VEVENT
BEGIN:VEVENT
DTSTART;TZID=America/New_York:20180122T120000
DTEND;TZID=America/New_York:20180122T140000
DTSTAMP:20260422T231044
CREATED:20180120T043309Z
LAST-MODIFIED:20180120T191944Z
UID:3100-1516622400-1516629600@mnnow.org
SUMMARY:Roe Anniversary Rally
DESCRIPTION:Join us at a rally to mark the anniversary of the Roe v. Wade decision. Bring your signs and banners and meet us in Leif Erickson Park\, near the State Office Building.
URL:https://mnnow.org/event/roe-v-wade-rally/
LOCATION:Minnesota State Capitol\, 75 Rev Dr Martin Luther King Boulevard\, St. Paul\, MN\, 55155\, United States
CATEGORIES:Reproductive Rights
END:VEVENT
BEGIN:VEVENT
DTSTART;TZID=America/New_York:20180122T090000
DTEND;TZID=America/New_York:20180122T120000
DTSTAMP:20260422T231044
CREATED:20180120T042655Z
LAST-MODIFIED:20180120T042655Z
UID:3095-1516611600-1516622400@mnnow.org
SUMMARY:MN Human Trafficking Task Force Meeting
DESCRIPTION:
URL:https://mnnow.org/event/mn-human-trafficking-task-force-meeting/
LOCATION:Wilder Foundation\, 451 Lexington Pkwy N\, St. Paul\, MN\, 55104\, United States
CATEGORIES:Freedom from Violence
END:VEVENT
BEGIN:VEVENT
DTSTART;TZID=America/New_York:20180121T160000
DTEND;TZID=America/New_York:20180121T190000
DTSTAMP:20260422T231044
CREATED:20171216T215819Z
LAST-MODIFIED:20171216T224339Z
UID:2926-1516550400-1516561200@mnnow.org
SUMMARY:Minnesota Women's March: Hear Our Voice
DESCRIPTION:From a march to a movement. \nJoin Women’s March Minnesota Jan. 21\, 2018 at the Union Depot in St. Paul as we move from protest to power. \nEnjoy an evening of music and messages from feminist leaders to celebrate the one year anniversary of the Women’s March movement and Women’s March Minnesota. Reignite your passion and help us harness the power of all women to create change for the better. \nSign up here to receive updates on the event: https://visitor.r20.constantcontact.com/manage/optin?v=00151JVVoC7oicCXHWLpJWzB-sylHvYbBqo6LG9sMivKoR74dO944F_pCJLZ34l4gJtF1tbU_KwWQ5U_MLuxg1XzG9slYdB14nYg8F1aE-T5Xk%3D \nConfirmed artists include: Maria Isa and K. Raydio — more to be announced soon! Stay tuned to https://www.womensmarchmn.com/events-calendar/hear-our-voice-2018 for more details! \nThere will be limited tickets so be sure to sign up to have first access for tickets and other important details about the event. Hungry for more information now? While we work out the final details\, check out our Frequently Asked Questions page for more information: https://www.womensmarchmn.com/hear-our-voice-frequently-asked-questions
URL:https://mnnow.org/event/hear-our-voice-event/
LOCATION:Union Depot\, 214 4th Street East\, St. Paul\, 55101
END:VEVENT
BEGIN:VEVENT
DTSTART;TZID=America/New_York:20180120T163000
DTEND;TZID=America/New_York:20180120T203000
DTSTAMP:20260422T231044
CREATED:20171230T172759Z
LAST-MODIFIED:20171230T172759Z
UID:2945-1516465800-1516480200@mnnow.org
SUMMARY:ERAMN Year of the Woman Kickoff
DESCRIPTION:Spend the evening with ERA Minnesota as we gear up to demand the Equal Rights Amendment be put on the ballot in MN this November! In order to do that\, WE NEED YOUR HELP! Join us as we strategize how to get legislators’ attention\, learn why the ERA is needed now more than ever and how to most effectively lobby your legislators. We’ll also hear from women leaders directly about their experiences of how the passage of the ERA would benefit women in their industries. \nSchedule for the evening: \n4:30-5:30: Happy Hour & Socializing with ERAMN; Learn how to lobby your legislator\n5:30-6:00: Introduction from ERAMN\n6-7:00: Hear from Women Leaders & Bill Authors\n7-7:30: Fundraising Ask and Q&A from ERAMN\n7:30-8:30: Socializing and tabling on lobbying your legislators
URL:https://mnnow.org/event/eramn-year-of-the-woman-kickoff/
LOCATION:Sweeney’s Saloon\, 96 Dale St N\, St. Paul\, MN\, 55102
CATEGORIES:Constitutional Equality
END:VEVENT
BEGIN:VEVENT
DTSTART;TZID=America/New_York:20180115T183000
DTEND;TZID=America/New_York:20180115T193000
DTSTAMP:20260422T231044
CREATED:20180120T042033Z
LAST-MODIFIED:20180120T042033Z
UID:3093-1516041000-1516044600@mnnow.org
SUMMARY:LGBTQ Meeting
DESCRIPTION:
URL:https://mnnow.org/event/lgbtq-meeting-5/
LOCATION:Conference Call
CATEGORIES:LGBTQ Rights
END:VEVENT
BEGIN:VEVENT
DTSTART;TZID=America/New_York:20180112T190000
DTEND;TZID=America/New_York:20180112T203000
DTSTAMP:20260422T231044
CREATED:20180120T041837Z
LAST-MODIFIED:20180120T041837Z
UID:3091-1515783600-1515789000@mnnow.org
SUMMARY:Action Committee Meeting
DESCRIPTION:
URL:https://mnnow.org/event/action-committee-meeting-2/
LOCATION:Conference Call
CATEGORIES:MN NOW
END:VEVENT
END:VCALENDAR