BEGIN:VCALENDAR
VERSION:2.0
PRODID:-//Minnesota NOW - ECPv6.15.20//NONSGML v1.0//EN
CALSCALE:GREGORIAN
METHOD:PUBLISH
X-WR-CALNAME:Minnesota NOW
X-ORIGINAL-URL:https://mnnow.org
X-WR-CALDESC:Events for Minnesota NOW
REFRESH-INTERVAL;VALUE=DURATION:PT1H
X-Robots-Tag:noindex
X-PUBLISHED-TTL:PT1H
BEGIN:VTIMEZONE
TZID:America/New_York
BEGIN:DAYLIGHT
TZOFFSETFROM:-0500
TZOFFSETTO:-0400
TZNAME:EDT
DTSTART:20220313T070000
END:DAYLIGHT
BEGIN:STANDARD
TZOFFSETFROM:-0400
TZOFFSETTO:-0500
TZNAME:EST
DTSTART:20221106T060000
END:STANDARD
BEGIN:DAYLIGHT
TZOFFSETFROM:-0500
TZOFFSETTO:-0400
TZNAME:EDT
DTSTART:20230312T070000
END:DAYLIGHT
BEGIN:STANDARD
TZOFFSETFROM:-0400
TZOFFSETTO:-0500
TZNAME:EST
DTSTART:20231105T060000
END:STANDARD
BEGIN:DAYLIGHT
TZOFFSETFROM:-0500
TZOFFSETTO:-0400
TZNAME:EDT
DTSTART:20240310T070000
END:DAYLIGHT
BEGIN:STANDARD
TZOFFSETFROM:-0400
TZOFFSETTO:-0500
TZNAME:EST
DTSTART:20241103T060000
END:STANDARD
END:VTIMEZONE
BEGIN:VEVENT
DTSTART;TZID=America/New_York:20230927T190000
DTEND;TZID=America/New_York:20230927T200000
DTSTAMP:20260421T053954
CREATED:20230209T154759Z
LAST-MODIFIED:20230209T154759Z
UID:6895-1695841200-1695844800@mnnow.org
SUMMARY:MN Valley Chapter Meeting
DESCRIPTION:Social/7 pm meeting: MN Valley Chapter Meeting.
URL:https://mnnow.org/event/mn-valley-chapter-meeting-7/
END:VEVENT
BEGIN:VEVENT
DTSTART;TZID=America/New_York:20230918T190000
DTEND;TZID=America/New_York:20230918T200000
DTSTAMP:20260421T053954
CREATED:20230227T154003Z
LAST-MODIFIED:20230227T154003Z
UID:6944-1695063600-1695067200@mnnow.org
SUMMARY:Reproductive Rights Committee Meeting
DESCRIPTION:Reproductive Rights Committee Meeting \nhttps://us02web.zoom.us/j/82030575502  \nMeeting ID: 861 9357 9484\nPasscode: NOW
URL:https://mnnow.org/event/reproductive-rights-committee-meeting-14/
CATEGORIES:Reproductive Rights
END:VEVENT
BEGIN:VEVENT
DTSTART;TZID=America/New_York:20230917T190000
DTEND;TZID=America/New_York:20230917T200000
DTSTAMP:20260421T053954
CREATED:20230321T150458Z
LAST-MODIFIED:20230321T150458Z
UID:6996-1694977200-1694980800@mnnow.org
SUMMARY:Reproductive Rights Committee Meeting
DESCRIPTION:Reproductive Rights Committee Meeting \nhttps://us02web.zoom.us/j/82030575502 \nMeeting ID: 861 9357 9484\nPasscode: NOW
URL:https://mnnow.org/event/reproductive-rights-committee-meeting-23/
CATEGORIES:Reproductive Rights
END:VEVENT
BEGIN:VEVENT
DTSTART;TZID=America/New_York:20230821T190000
DTEND;TZID=America/New_York:20230821T200000
DTSTAMP:20260421T053954
CREATED:20230227T153928Z
LAST-MODIFIED:20230227T153928Z
UID:6942-1692644400-1692648000@mnnow.org
SUMMARY:Reproductive Rights Committee Meeting
DESCRIPTION:Reproductive Rights Committee Meeting \nhttps://us02web.zoom.us/j/82030575502  \nMeeting ID: 861 9357 9484\nPasscode: NOW
URL:https://mnnow.org/event/reproductive-rights-committee-meeting-13/
CATEGORIES:Reproductive Rights
END:VEVENT
BEGIN:VEVENT
DTSTART;TZID=America/New_York:20230820T190000
DTEND;TZID=America/New_York:20230820T200000
DTSTAMP:20260421T053954
CREATED:20230321T150413Z
LAST-MODIFIED:20230321T150413Z
UID:6994-1692558000-1692561600@mnnow.org
SUMMARY:Reproductive Rights Committee Meeting
DESCRIPTION:Reproductive Rights Committee Meeting \nhttps://us02web.zoom.us/j/82030575502 \nMeeting ID: 861 9357 9484\nPasscode: NOW
URL:https://mnnow.org/event/reproductive-rights-committee-meeting-22/
CATEGORIES:Reproductive Rights
END:VEVENT
BEGIN:VEVENT
DTSTART;TZID=America/New_York:20230726T190000
DTEND;TZID=America/New_York:20230726T200000
DTSTAMP:20260421T053954
CREATED:20230209T154730Z
LAST-MODIFIED:20230209T154730Z
UID:6893-1690398000-1690401600@mnnow.org
SUMMARY:MN Valley Chapter Meeting
DESCRIPTION:Social/7 pm meeting: MN Valley Chapter Meeting.
URL:https://mnnow.org/event/mn-valley-chapter-meeting-6/
CATEGORIES:MN NOW
END:VEVENT
BEGIN:VEVENT
DTSTART;TZID=America/New_York:20230717T190000
DTEND;TZID=America/New_York:20230717T200000
DTSTAMP:20260421T053954
CREATED:20230227T153825Z
LAST-MODIFIED:20230227T153825Z
UID:6940-1689620400-1689624000@mnnow.org
SUMMARY:Reproductive Rights Committee Meeting
DESCRIPTION:Reproductive Rights Committee Meeting \nhttps://us02web.zoom.us/j/82030575502  \nMeeting ID: 861 9357 9484\nPasscode: NOW
URL:https://mnnow.org/event/reproductive-rights-committee-meeting-12/
CATEGORIES:Reproductive Rights
END:VEVENT
BEGIN:VEVENT
DTSTART;TZID=America/New_York:20230716T190000
DTEND;TZID=America/New_York:20230716T200000
DTSTAMP:20260421T053954
CREATED:20230321T150340Z
LAST-MODIFIED:20230321T150340Z
UID:6992-1689534000-1689537600@mnnow.org
SUMMARY:Reproductive Rights Committee Meeting
DESCRIPTION:Reproductive Rights Committee Meeting \nhttps://us02web.zoom.us/j/82030575502 \nMeeting ID: 861 9357 9484\nPasscode: NOW
URL:https://mnnow.org/event/reproductive-rights-committee-meeting-21/
CATEGORIES:Reproductive Rights
END:VEVENT
BEGIN:VEVENT
DTSTART;TZID=America/New_York:20230629T163000
DTEND;TZID=America/New_York:20230629T190000
DTSTAMP:20260421T053954
CREATED:20230627T163529Z
LAST-MODIFIED:20230627T163529Z
UID:7062-1688056200-1688065200@mnnow.org
SUMMARY:Grand ERA Celebration
DESCRIPTION:Time to Celebrate ERA!\nJoin us for appetizers and desserts as we celebrate our most successful ERA session in 50 years! \nTHURSDAY\, June 29 from 4:30 to to 7 PM at FOOD BUILDING\, at 1401 Marshall St. NE\, in Minneapolis!   \nThere’ll be dignitaries\, food\, fun\, and fascinating  company in the fabulous\, funky FOOD BUILDING atmosphere in the heart of northeast Minneapolis. I do hope you’ll join us.  \nFREE PARKING IS ON THE STREET OR IN THE 1414 STUDIO PARKING LOT (THEY HAVE GRACIOUSLY ALLOWED US 40 SPOTS).  \nRSVP HERE: https://www.eventbrite.com/e/time-to-celebrate-era-tickets-659752937797
URL:https://mnnow.org/event/grand-era-celebration/
END:VEVENT
BEGIN:VEVENT
DTSTART;TZID=America/New_York:20230628T190000
DTEND;TZID=America/New_York:20230628T200000
DTSTAMP:20260421T053954
CREATED:20230209T154657Z
LAST-MODIFIED:20230209T154657Z
UID:6891-1687978800-1687982400@mnnow.org
SUMMARY:MN Valley Chapter Meeting
DESCRIPTION:Social/7 pm meeting: MN Valley Chapter Meeting.
URL:https://mnnow.org/event/mn-valley-chapter-meeting-5/
CATEGORIES:MN NOW
END:VEVENT
BEGIN:VEVENT
DTSTART;TZID=America/New_York:20230619T190000
DTEND;TZID=America/New_York:20230619T200000
DTSTAMP:20260421T053954
CREATED:20230227T153750Z
LAST-MODIFIED:20230227T153750Z
UID:6938-1687201200-1687204800@mnnow.org
SUMMARY:Reproductive Rights Committee Meeting
DESCRIPTION:Reproductive Rights Committee Meeting \nhttps://us02web.zoom.us/j/82030575502  \nMeeting ID: 861 9357 9484\nPasscode: NOW
URL:https://mnnow.org/event/reproductive-rights-committee-meeting-11/
CATEGORIES:Reproductive Rights
END:VEVENT
BEGIN:VEVENT
DTSTART;TZID=America/New_York:20230618T190000
DTEND;TZID=America/New_York:20230618T200000
DTSTAMP:20260421T053954
CREATED:20230321T150300Z
LAST-MODIFIED:20230321T150300Z
UID:6990-1687114800-1687118400@mnnow.org
SUMMARY:Reproductive Rights Committee Meeting
DESCRIPTION:Reproductive Rights Committee Meeting \nhttps://us02web.zoom.us/j/82030575502 \nMeeting ID: 861 9357 9484\nPasscode: NOW
URL:https://mnnow.org/event/reproductive-rights-committee-meeting-20/
CATEGORIES:Reproductive Rights
END:VEVENT
BEGIN:VEVENT
DTSTART;TZID=America/New_York:20230604T120000
DTEND;TZID=America/New_York:20230604T133000
DTSTAMP:20260421T053954
CREATED:20230130T154459Z
LAST-MODIFIED:20230508T154724Z
UID:6851-1685880000-1685885400@mnnow.org
SUMMARY:MN NOW Board Meeting
DESCRIPTION:Members are also invited to join us for the next MN NOW Board meeting as observers in order to learn more about what we are doing. \nJoin Zoom Meeting\nhttps://us02web.zoom.us/j/81761583627?pwd=NFRWdy9jTXFsWitHa1lhdzRvU0d2dz09 \nMeeting ID: 817 6158 3627\nPasscode: 309201
URL:https://mnnow.org/event/mn-now-board-meeting-15/
CATEGORIES:MN NOW
END:VEVENT
BEGIN:VEVENT
DTSTART;TZID=America/New_York:20230524T190000
DTEND;TZID=America/New_York:20230524T200000
DTSTAMP:20260421T053954
CREATED:20230209T154604Z
LAST-MODIFIED:20230209T154604Z
UID:6889-1684954800-1684958400@mnnow.org
SUMMARY:MN Valley Chapter Meeting
DESCRIPTION:Social/7 pm meeting: MN Valley Chapter Meeting.
URL:https://mnnow.org/event/mn-valley-chapter-meeting-4/
CATEGORIES:MN NOW
END:VEVENT
BEGIN:VEVENT
DTSTART;TZID=America/New_York:20230521T190000
DTEND;TZID=America/New_York:20230521T200000
DTSTAMP:20260421T053954
CREATED:20230321T150217Z
LAST-MODIFIED:20230321T150217Z
UID:6988-1684695600-1684699200@mnnow.org
SUMMARY:Reproductive Rights Committee Meeting
DESCRIPTION:Reproductive Rights Committee Meeting \nhttps://us02web.zoom.us/j/82030575502 \nMeeting ID: 861 9357 9484\nPasscode: NOW
URL:https://mnnow.org/event/reproductive-rights-committee-meeting-19/
CATEGORIES:Reproductive Rights
END:VEVENT
BEGIN:VEVENT
DTSTART;TZID=America/New_York:20230515T190000
DTEND;TZID=America/New_York:20230515T200000
DTSTAMP:20260421T053954
CREATED:20230227T153721Z
LAST-MODIFIED:20230227T153721Z
UID:6936-1684177200-1684180800@mnnow.org
SUMMARY:Reproductive Rights Committee Meeting
DESCRIPTION:Reproductive Rights Committee Meeting \nhttps://us02web.zoom.us/j/82030575502  \nMeeting ID: 861 9357 9484\nPasscode: NOW
URL:https://mnnow.org/event/reproductive-rights-committee-meeting-10/
CATEGORIES:Reproductive Rights
END:VEVENT
BEGIN:VEVENT
DTSTART;TZID=America/New_York:20230510T163000
DTEND;TZID=America/New_York:20230510T173000
DTSTAMP:20260421T053954
CREATED:20230413T150743Z
LAST-MODIFIED:20230413T150743Z
UID:7017-1683736200-1683739800@mnnow.org
SUMMARY:Disability rights committee meeting
DESCRIPTION:Disability rights committee meeting \nWorking to free ourselves and others from the confines of ableism and all forms of hate\, oppression\, and inequity. \nhttps://us02web.zoom.us/j/86562351131?pwd=SHNsN1ZlRkJKMkppOXo3OXBTVWJWdz09 \nMeeting ID: 865 6235 1131\nPasscode: 196299
URL:https://mnnow.org/event/disability-rights-committee-meeting-2/
END:VEVENT
BEGIN:VEVENT
DTSTART;TZID=America/New_York:20230426T190000
DTEND;TZID=America/New_York:20230426T200000
DTSTAMP:20260421T053954
CREATED:20230209T154525Z
LAST-MODIFIED:20230209T154536Z
UID:6886-1682535600-1682539200@mnnow.org
SUMMARY:MN Valley Chapter Meeting
DESCRIPTION:Social/7 pm meeting: MN Valley Chapter Meeting.
URL:https://mnnow.org/event/mn-valley-chapter-meeting-3/
CATEGORIES:MN NOW
END:VEVENT
BEGIN:VEVENT
DTSTART;TZID=America/New_York:20230419T170000
DTEND;TZID=America/New_York:20230419T183000
DTSTAMP:20260421T053954
CREATED:20230316T185854Z
LAST-MODIFIED:20230316T185854Z
UID:6972-1681923600-1681929000@mnnow.org
SUMMARY:Fergus Falls Area NOW Chapter
DESCRIPTION:Fergus Falls Area NOW Chapter\nFergus Falls Public Library Teen Room and Zoom\n(contact fergusfallsareanow@yahoo.com for access)
URL:https://mnnow.org/event/fergus-falls-area-now-chapter-2/
CATEGORIES:MN NOW
END:VEVENT
BEGIN:VEVENT
DTSTART;TZID=America/New_York:20230417T190000
DTEND;TZID=America/New_York:20230417T200000
DTSTAMP:20260421T053954
CREATED:20230227T153642Z
LAST-MODIFIED:20230227T153642Z
UID:6934-1681758000-1681761600@mnnow.org
SUMMARY:Reproductive Rights Committee Meeting
DESCRIPTION:Reproductive Rights Committee Meeting \nhttps://us02web.zoom.us/j/82030575502  \nMeeting ID: 861 9357 9484\nPasscode: NOW
URL:https://mnnow.org/event/reproductive-rights-committee-meeting-9/
CATEGORIES:Reproductive Rights
END:VEVENT
BEGIN:VEVENT
DTSTART;TZID=America/New_York:20230416T190000
DTEND;TZID=America/New_York:20230416T200000
DTSTAMP:20260421T053954
CREATED:20230321T150106Z
LAST-MODIFIED:20230321T150106Z
UID:6986-1681671600-1681675200@mnnow.org
SUMMARY:Reproductive Rights Committee Meeting
DESCRIPTION:Reproductive Rights Committee Meeting \nhttps://us02web.zoom.us/j/82030575502 \nMeeting ID: 861 9357 9484\nPasscode: NOW
URL:https://mnnow.org/event/reproductive-rights-committee-meeting-18/
CATEGORIES:Reproductive Rights
END:VEVENT
BEGIN:VEVENT
DTSTART;TZID=America/New_York:20230403T103000
DTEND;TZID=America/New_York:20230403T113000
DTSTAMP:20260421T053954
CREATED:20230316T190000Z
LAST-MODIFIED:20230316T190000Z
UID:6974-1680517800-1680521400@mnnow.org
SUMMARY:NOW LGBTQIA+ Committee Meeting
DESCRIPTION:NOW LGBTQIA+ Committee Meeting\nZoom (contact fergusfallsareanow@yahoo.com for access)
URL:https://mnnow.org/event/now-lgbtqia-committee-meeting/
CATEGORIES:LGBTQ Rights
END:VEVENT
BEGIN:VEVENT
DTSTART;TZID=America/New_York:20230401T100000
DTEND;TZID=America/New_York:20230401T120000
DTSTAMP:20260421T053954
CREATED:20230209T154406Z
LAST-MODIFIED:20230220T232452Z
UID:6882-1680343200-1680350400@mnnow.org
SUMMARY:MN NOW Annual Conference Business Meeting
DESCRIPTION:MN NOW Annual Conference Business Meeting \nJoin Zoom Meeting \nhttps://us02web.zoom.us/j/81761583627?pwd=NFRWdy9jTXFsWitHa1lhdzRvU0d2dz09 \n  \nMeeting ID: 817 6158 3627 \nPasscode: 309201
URL:https://mnnow.org/event/mn-now-annual-meeting/
CATEGORIES:MN NOW
END:VEVENT
BEGIN:VEVENT
DTSTART;TZID=America/New_York:20230322T183000
DTEND;TZID=America/New_York:20230322T200000
DTSTAMP:20260421T053954
CREATED:20230209T154453Z
LAST-MODIFIED:20230321T145856Z
UID:6884-1679509800-1679515200@mnnow.org
SUMMARY:MN Valley Chapter Meeting.
DESCRIPTION:MN Valley NOW Meeting \nJoin Zoom Meeting \nhttps://us02web.zoom.us/j/81253626122?pwd=d2ZqTmc2ZlJzTHgrenAxNzA4eDZiQT09 \nMeeting ID: 812 5362 6122 \nPasscode: 772399
URL:https://mnnow.org/event/mn-valley-chapter-meeting-2/
CATEGORIES:MN NOW
END:VEVENT
BEGIN:VEVENT
DTSTART;TZID=America/New_York:20230320T190000
DTEND;TZID=America/New_York:20230320T200000
DTSTAMP:20260421T053954
CREATED:20230227T153559Z
LAST-MODIFIED:20230227T153559Z
UID:6932-1679338800-1679342400@mnnow.org
SUMMARY:Reproductive Rights Committee Meeting
DESCRIPTION:Reproductive Rights Committee Meeting \nhttps://us02web.zoom.us/j/82030575502  \nMeeting ID: 861 9357 9484\nPasscode: NOW
URL:https://mnnow.org/event/reproductive-rights-committee-meeting-8/
CATEGORIES:Reproductive Rights
END:VEVENT
BEGIN:VEVENT
DTSTART;TZID=America/New_York:20230315T160000
DTEND;TZID=America/New_York:20230315T183000
DTSTAMP:20260421T053954
CREATED:20230314T171736Z
LAST-MODIFIED:20230314T171736Z
UID:6966-1678896000-1678905000@mnnow.org
SUMMARY:Fergus Falls Area NOW Chapter
DESCRIPTION:Wednesday\, March 15\, 4-6:30 pm \nFergus Falls Public Library Conference Room and Zoom\n(contact fergusfallsareanow@yahoo.com for access)
URL:https://mnnow.org/event/fergus-falls-area-now-chapter/
END:VEVENT
BEGIN:VEVENT
DTSTART;TZID=America/New_York:20230305T150000
DTEND;TZID=America/New_York:20230305T170000
DTSTAMP:20260421T053954
CREATED:20230305T210025Z
LAST-MODIFIED:20230305T210025Z
UID:6956-1678028400-1678035600@mnnow.org
SUMMARY:MN NOW PAC Meeting
DESCRIPTION:The MN NOW PAC will meet on Sunday\, March 5\, 3-5pm\, via Zoom.
URL:https://mnnow.org/event/mn-now-pac-meeting-10/
CATEGORIES:Elections,PAC
END:VEVENT
BEGIN:VEVENT
DTSTART;TZID=America/New_York:20230301T173000
DTEND;TZID=America/New_York:20230301T183000
DTSTAMP:20260421T053954
CREATED:20230220T191256Z
LAST-MODIFIED:20230220T191256Z
UID:6912-1677691800-1677695400@mnnow.org
SUMMARY:Disability rights committee meeting
DESCRIPTION:Disability rights committee meeting \nWorking to free ourselves and others from the confines of ableism and all forms of hate\, oppression\, and inequity. \nhttps://us02web.zoom.us/j/86562351131?pwd=SHNsN1ZlRkJKMkppOXo3OXBTVWJWdz09 \nMeeting ID: 865 6235 1131\nPasscode: 196299
URL:https://mnnow.org/event/disability-rights-committee-meeting/
END:VEVENT
BEGIN:VEVENT
DTSTART;TZID=America/New_York:20230227T180000
DTEND;TZID=America/New_York:20230227T190000
DTSTAMP:20260421T053954
CREATED:20230209T154257Z
LAST-MODIFIED:20230223T185154Z
UID:6880-1677520800-1677524400@mnnow.org
SUMMARY:Mpls Pride Event Planning
DESCRIPTION:CANCELED\n6 to 7 pm: Mpls Pride Event Planning \nEmail Action@mnnow.org for information.
URL:https://mnnow.org/event/mpls-pride-event-planning/
END:VEVENT
BEGIN:VEVENT
DTSTART;TZID=America/New_York:20230226T153000
DTEND;TZID=America/New_York:20230226T173000
DTSTAMP:20260421T053954
CREATED:20230111T175128Z
LAST-MODIFIED:20230216T181804Z
UID:6819-1677425400-1677432600@mnnow.org
SUMMARY:Where does the money go?
DESCRIPTION:Do you feel like you are living paycheck to paycheck with no way out of your cycle of debt? Do you have bills that overwhelm you\, leaving you feeling hopeless at ever getting free of them?\nDo you feel like other people judge you for your debt?\nOur judgment free series is for people like you\, who want to learn about resources they can use to manage their lives and reduce their debt. We’ll offer information on things like budgeting and saving\, but also talk about how to negotiate for higher salaries or how to tackle big debt like student loans or medical bills. We’ll also explore all sorts of free resources you don’t know you have access to! And we invite you to share your favorite money management ideas.  \nJoin Zoom Meeting\nhttps://us02web.zoom.us/j/86594641647?pwd=VXREclhMekJWN0hpRnZ3MVZ5eW5MZz09 \nMeeting ID: 865 9464 1647\nPasscode: 277914
URL:https://mnnow.org/event/where-does-the-money-go/
CATEGORIES:Economic Justice
END:VEVENT
END:VCALENDAR