BEGIN:VCALENDAR
VERSION:2.0
PRODID:-//Minnesota NOW - ECPv6.15.20//NONSGML v1.0//EN
CALSCALE:GREGORIAN
METHOD:PUBLISH
X-WR-CALNAME:Minnesota NOW
X-ORIGINAL-URL:https://mnnow.org
X-WR-CALDESC:Events for Minnesota NOW
REFRESH-INTERVAL;VALUE=DURATION:PT1H
X-Robots-Tag:noindex
X-PUBLISHED-TTL:PT1H
BEGIN:VTIMEZONE
TZID:America/New_York
BEGIN:DAYLIGHT
TZOFFSETFROM:-0500
TZOFFSETTO:-0400
TZNAME:EDT
DTSTART:20170312T070000
END:DAYLIGHT
BEGIN:STANDARD
TZOFFSETFROM:-0400
TZOFFSETTO:-0500
TZNAME:EST
DTSTART:20171105T060000
END:STANDARD
BEGIN:DAYLIGHT
TZOFFSETFROM:-0500
TZOFFSETTO:-0400
TZNAME:EDT
DTSTART:20180311T070000
END:DAYLIGHT
BEGIN:STANDARD
TZOFFSETFROM:-0400
TZOFFSETTO:-0500
TZNAME:EST
DTSTART:20181104T060000
END:STANDARD
BEGIN:DAYLIGHT
TZOFFSETFROM:-0500
TZOFFSETTO:-0400
TZNAME:EDT
DTSTART:20190310T070000
END:DAYLIGHT
BEGIN:STANDARD
TZOFFSETFROM:-0400
TZOFFSETTO:-0500
TZNAME:EST
DTSTART:20191103T060000
END:STANDARD
BEGIN:DAYLIGHT
TZOFFSETFROM:-0500
TZOFFSETTO:-0400
TZNAME:EDT
DTSTART:20200308T070000
END:DAYLIGHT
BEGIN:STANDARD
TZOFFSETFROM:-0400
TZOFFSETTO:-0500
TZNAME:EST
DTSTART:20201101T060000
END:STANDARD
BEGIN:DAYLIGHT
TZOFFSETFROM:-0500
TZOFFSETTO:-0400
TZNAME:EDT
DTSTART:20210314T070000
END:DAYLIGHT
BEGIN:STANDARD
TZOFFSETFROM:-0400
TZOFFSETTO:-0500
TZNAME:EST
DTSTART:20211107T060000
END:STANDARD
END:VTIMEZONE
BEGIN:VEVENT
DTSTART;TZID=America/New_York:20200519T000000
DTEND;TZID=America/New_York:20200519T000000
DTSTAMP:20260422T152450
CREATED:20200519T134532Z
LAST-MODIFIED:20200519T134532Z
UID:4912-1589846400-1589846400@mnnow.org
SUMMARY:Why the ERA Should Be Added to MN Constitution
DESCRIPTION:Join us for an evening of presentations on the Equal Rights Amendment and why it should be included in the Minnesota Constitution. Register here: ERA event. \n\n\n\n\n\n\nAbout this Event\n\n\nWhy the Equal Rights Amendment Should Be Added to the Minnesota Constitution \nHosted by: Think Again Brooklyns\, ERA Minnesota & LWV Brooklyn Park\, Osseo\, Maple Grove \nJoin as we hear from: \nYixiu Chen – Manager of Open Door Learning Centers for Literacy Minnesota – she will be discusing how the Equal Rights Amendment could improve immigrant women’s lives. \nHeather Allison – President ERAMN – As a nonprofit board chair\, Heather Allison is a passionate advocate dedicated to passing an Equal Rights Amendment in Minnesota and at the federal level. The ERA would add a simple statement regarding women’s rights to the Minnesota Constitution: “Equality under the law shall not be abridged or denied on account of gender.” Heather will give us background on the development of women’s rights and the ERA and let us know what we need to do to get it passed at the MN and federal levels. \nHollies and Latrice Winston – will discuss how the ERA can help husbands and wives balance work and home responsibilities and can contribute to a better life for their children and aging family members who need their help. Hollies is Chair and CEO at Guaranteed America\, Inc. where he advocates on behalf of both private and public businesses and provides trainings and client acquisition services. Latrice organizes couples retreats and events for Couples Connecting Community. \nRuben Vazquez – Vice President\, Racial Justice and Public Policy at the Minneapolis YWCA – Ruben Vazquez manages the overall strategy of the Mpls YWCA and promotes its mission of racial justice\, gender equality\, and human dignity. Rubén represents YWCA Minneapolis on racial justice and public policy related issues both locally and nationally. He will explain how adding the Equal Rights Amendment to the Minnesota Constitution can contribute to building community partnerships and integrate the race and gender equity initiative of partners and members. \nIf the Minnesota House and Senate votes in favor of adding the Equal Rights Amendment to the Minnesota Constitution\, the ERA Amendment will appear on your ballot. Please vote in favor of it.
URL:https://mnnow.org/event/why-the-era-should-be-added-to-mn-constitution/
END:VEVENT
BEGIN:VEVENT
DTSTART;TZID=America/New_York:20200314T080000
DTEND;TZID=America/New_York:20200314T170000
DTSTAMP:20260422T152450
CREATED:20191116T191653Z
LAST-MODIFIED:20191116T191700Z
UID:4690-1584172800-1584205200@mnnow.org
SUMMARY:MN NOW State Conference 2020
DESCRIPTION:
URL:https://mnnow.org/event/mn-now-state-conference/
END:VEVENT
BEGIN:VEVENT
DTSTART;TZID=America/New_York:20200309T180000
DTEND;TZID=America/New_York:20200309T200000
DTSTAMP:20260422T152450
CREATED:20200107T145205Z
LAST-MODIFIED:20200114T022454Z
UID:4792-1583776800-1583784000@mnnow.org
SUMMARY:PAC Meeting
DESCRIPTION:For additional details and meeting location\, contact pac@mnnow.org.
URL:https://mnnow.org/event/pac-meeting-2/
END:VEVENT
BEGIN:VEVENT
DTSTART;TZID=America/New_York:20200220T180000
DTEND;TZID=America/New_York:20200220T200000
DTSTAMP:20260422T152450
CREATED:20200124T185748Z
LAST-MODIFIED:20200124T185748Z
UID:4818-1582221600-1582228800@mnnow.org
SUMMARY:Caucuses: What\, Why & How to Make the Most of Yours
DESCRIPTION:Join us as we host an educational event around just what caucusing is\, how it works\, what to expect\, and how you can use the caucus in your neighborhood to help elect pro-choice women in 2020. \nRSVP via Facebook
URL:https://mnnow.org/event/caucuses-what-why-how-to-make-the-most-of-yours/
LOCATION:Black Dog Cafe\, 308 Prince St\, St. Paul\, MN\, 55101\, United States
END:VEVENT
BEGIN:VEVENT
DTSTART;TZID=America/New_York:20200219T080000
DTEND;TZID=America/New_York:20200219T170000
DTSTAMP:20260422T152450
CREATED:20200107T144413Z
LAST-MODIFIED:20200218T160254Z
UID:4787-1582099200-1582131600@mnnow.org
SUMMARY:Reproductive Freedom Lobby Day
DESCRIPTION:As Reproductive Freedom comes under attack across the nation\, we know that ensuring Minnesotans have full Reproductive Freedom will take all of us stepping up and loudly telling lawmakers that Minnesotans want laws that support our health\, freedom\, and autonomy. That’s why MN NOW is joining more than 20 other organizations for Reproductive Freedom Lobby Day on February 19\, 2020. But we need YOU there to make sure our message is heard!
URL:https://mnnow.org/event/reproductive-freedom-lobby-day/
LOCATION:Minnesota State Capitol\, 75 Rev Dr Martin Luther King Boulevard\, St. Paul\, MN\, 55155\, United States
END:VEVENT
BEGIN:VEVENT
DTSTART;TZID=America/New_York:20200210T180000
DTEND;TZID=America/New_York:20200210T200000
DTSTAMP:20260422T152450
CREATED:20200107T145010Z
LAST-MODIFIED:20200114T022532Z
UID:4790-1581357600-1581364800@mnnow.org
SUMMARY:PAC Meeting
DESCRIPTION:For additional details and meeting location\, contact pac@mnnow.org.
URL:https://mnnow.org/event/pac-meeting/
LOCATION:MN\, United States
END:VEVENT
BEGIN:VEVENT
DTSTART;TZID=America/New_York:20200125T110000
DTEND;TZID=America/New_York:20200125T130000
DTSTAMP:20260422T152450
CREATED:20191116T192134Z
LAST-MODIFIED:20191116T192134Z
UID:4694-1579950000-1579957200@mnnow.org
SUMMARY:MN NOW Sustainability Committee Meeting
DESCRIPTION:
URL:https://mnnow.org/event/mn-now-sustainability-committee-meeting/
END:VEVENT
BEGIN:VEVENT
DTSTART;TZID=America/New_York:20200113T180000
DTEND;TZID=America/New_York:20200113T200000
DTSTAMP:20260422T152450
CREATED:20200106T145047Z
LAST-MODIFIED:20200114T022557Z
UID:4776-1578938400-1578945600@mnnow.org
SUMMARY:MN NOW PAC Meeting
DESCRIPTION:For additional details and meeting location\, contact pac@mnnow.org.
URL:https://mnnow.org/event/mn-now-pac-meeting/
LOCATION:MN\, United States
END:VEVENT
BEGIN:VEVENT
DTSTART;TZID=America/New_York:20200105T140000
DTEND;TZID=America/New_York:20200105T160000
DTSTAMP:20260422T152450
CREATED:20191205T163350Z
LAST-MODIFIED:20191205T163350Z
UID:4733-1578232800-1578240000@mnnow.org
SUMMARY:MN NOW January Board Meeting
DESCRIPTION:
URL:https://mnnow.org/event/mn-now-january-board-meeting/
LOCATION:Davannis Pizza\, 663 Winnetka Ave\, Golden Valley\, MN\, 55427\, United States
CATEGORIES:MN NOW
END:VEVENT
BEGIN:VEVENT
DTSTART;TZID=America/New_York:20191219T060000
DTEND;TZID=America/New_York:20191219T220000
DTSTAMP:20260422T152450
CREATED:20191205T145753Z
LAST-MODIFIED:20191205T145753Z
UID:4721-1576735200-1576792800@mnnow.org
SUMMARY:Do Good\, Together
DESCRIPTION:On this night of community\, action\, and politics\, we’ll celebrate the end of 2019 and kick off 2020 with power and purpose. \n\nEnjoy a fun night out socializing with fellow activists\nDo some good with a service project (assemble abortion aftercare kits\, make scarves for new refugees\, write thank-yous to legislators\, etc.) and bring donations (books or money) to benefit local organizations\nWatch the Democratic debate\nHear what topics the Third Thursdays coalition will tackle in the first half of 2020
URL:https://mnnow.org/event/do-good-together/
LOCATION:Black Dog Cafe\, 308 Prince St\, St. Paul\, MN\, 55101\, United States
CATEGORIES:Local Chapters
END:VEVENT
BEGIN:VEVENT
DTSTART;TZID=America/New_York:20191211T180000
DTEND;TZID=America/New_York:20191211T193000
DTSTAMP:20260422T152451
CREATED:20191205T145556Z
LAST-MODIFIED:20191205T145556Z
UID:4719-1576087200-1576092600@mnnow.org
SUMMARY:UnRestrict House Party with Erin Maye Quade
DESCRIPTION:Join MSP NOW and Erin Maye Quade for a conversation about reproductive rights in Minnesota: what laws are on the books\, what new bullshit has been proposed by our legislature\, and how we can all do better. \n\nDrinks and snacks provided\nAll are welcome but space is limited\, so registration is required. If you register and are no longer able to attend\, please let me know so I can release your ticket.
URL:https://mnnow.org/event/unrestrict-house-party-with-erin-maye-quade/
CATEGORIES:Reproductive Rights
END:VEVENT
BEGIN:VEVENT
DTSTART;TZID=America/New_York:20191117T140000
DTEND;TZID=America/New_York:20191117T160000
DTSTAMP:20260422T152451
CREATED:20191112T165405Z
LAST-MODIFIED:20191117T191946Z
UID:4682-1573999200-1574006400@mnnow.org
SUMMARY:MN NOW Board Meeting
DESCRIPTION:
URL:https://mnnow.org/event/mn-now-board-meeting-agenda/
LOCATION:Davanni’s Pizza & Hot Hoagies\, 41 Cleveland Ave S\, St. Paul\, MN\, 55105\, United States
END:VEVENT
BEGIN:VEVENT
DTSTART;VALUE=DATE:20190719
DTEND;VALUE=DATE:20190722
DTSTAMP:20260422T152451
CREATED:20190318T033036Z
LAST-MODIFIED:20190318T033036Z
UID:4511-1563494400-1563753599@mnnow.org
SUMMARY:2019 National NOW Conference July 19th-21st in Bloomington\, MN
DESCRIPTION:FEMINIST AGENDA RISING: OUR TIME IS NOW\nLocated in Bloomington\, MN\nHotel and reservation information is available on National NOW’s website. \nRegistration is now open! \n\nNOW Member Registration\nNon-member Registration
URL:https://mnnow.org/event/2019-national-now-conference-july-19th-21st-in-bloomington-mn/
LOCATION:Hilton Minneapolis/St. Paul Airport Mall of America\, 3800 American Blvd. E\, Bloomington\, MN\, 55425\, United States
END:VEVENT
BEGIN:VEVENT
DTSTART;TZID=America/New_York:20190406T100000
DTEND;TZID=America/New_York:20190406T140000
DTSTAMP:20260422T152451
CREATED:20190312T034839Z
LAST-MODIFIED:20190404T001804Z
UID:4496-1554544800-1554559200@mnnow.org
SUMMARY:2019 Minnesota NOW State Conference
DESCRIPTION:We have excellent speakers committed to the Minnesota NOW State Conference including State Representative Ami Wazlawik\, Ramsey County Commissioner Trista MatasCastillo\, and NOW President Toni Van Pelt!  The State Conference registration is only $15.00 and includes lunch. \nRegistration has closed\, but walk-ins are welcome for the State Conference. You can still Donate on our website www.mnnow.org.
URL:https://mnnow.org/event/minnesota-now-state-conference/
LOCATION:Black Dog Cafe\, 308 Prince St\, St. Paul\, MN\, 55101\, United States
END:VEVENT
BEGIN:VEVENT
DTSTART;TZID=America/New_York:20190308T090000
DTEND;TZID=America/New_York:20190308T140000
DTSTAMP:20260422T152451
CREATED:20181231T040209Z
LAST-MODIFIED:20190302T233146Z
UID:4357-1552035600-1552053600@mnnow.org
SUMMARY:International Women's Day\, ERA Rally at the Capitol
DESCRIPTION:We will be holding our annual rally complete with bill authors\, speakers and resources to help you find your reps and talk to them about what the ERA means to you! This year we’re wearing GREEN and want to make sure every spare bit of space is GREEN and covered in the letters E.R.A!! Go to ERAMN.org for details   \nAgenda: \n\n​9:00 – 10:00 am  Lobbying\nMeet in the rotunda for guidance in lobbying (talking to) your legislators.  We can help you find out who they are\, what their current position is on the ERA\, give you ERA postcards you can personalize and/or give you sample language to talk to them.\n10:00 – 10:45 am  Rally\nRally in the rotunda! Complete with bill authors and  speakers to unite us in support.\n10:45 – 11:00 am Photo Op!  Smile!\n11:00 – 12:00 noon  Lobbying\n​More lobbying your legislators.  We’ll have resources to help you find your reps and talk to them (lobby them) about what the ERA means to you!​\nNoon – 2:00 pm  NETWORKING LUNCHEON\nNetworking Luncheon at the Best Western Capitol Ridge\, Peddler’s Pub located at: 161 St Anthony Ave\, St Paul\, MN 55103
URL:https://mnnow.org/event/international-womens-day-era-rally-at-the-capitol/
LOCATION:Minnesota State Capitol\, 75 Rev Dr Martin Luther King Boulevard\, St. Paul\, MN\, 55155\, United States
END:VEVENT
BEGIN:VEVENT
DTSTART;VALUE=DATE:20190224
DTEND;VALUE=DATE:20190225
DTSTAMP:20260422T152451
CREATED:20181231T040053Z
LAST-MODIFIED:20181231T040053Z
UID:4354-1550966400-1551052799@mnnow.org
SUMMARY:MNxMN 2019 - Beyond The Vote
DESCRIPTION:ERAMN along with many more Minnesota-based organizations will be holding educational sessions\, workshops\, exhibit tables and more at this 2nd annual conference designed to “take activism to elections to legislation in 2019!”\n\nFor more information on MNxMN visit HERE
URL:https://mnnow.org/event/mnxmn-2019-beyond-the-vote/
LOCATION:Harding Senior High\, 1540 6th St E\, St Paul\, MN\, 55106\, United States
END:VEVENT
BEGIN:VEVENT
DTSTART;TZID=America/New_York:20190220T150000
DTEND;TZID=America/New_York:20190220T180000
DTSTAMP:20260422T152451
CREATED:20190212T043717Z
LAST-MODIFIED:20190212T043717Z
UID:4418-1550674800-1550685600@mnnow.org
SUMMARY:MN Women's Consortium Annual Meeting and Community Report
DESCRIPTION:Be sure to mark Wednesday\, February 20\, for the Consortium’s Annual Meeting and Community Report. It will be held at Hallie Q. Brown Community Center\, 270 North Kent\, Saint Paul from 3 PM to 6 PM. \nMN Women’s Consortium recently completed a strategic re-evaluation process and is eager to share the outcomes with our community. Join us before the Community Report Session to meet MWC member groups as they conduct MWC business including the finance and governance.
URL:https://mnnow.org/event/mn-womens-consortium-annual-meeting-and-community-report/
LOCATION:Hallie Q. Brown Community Center\, 270 North Kent\, Saint Paul
END:VEVENT
BEGIN:VEVENT
DTSTART;TZID=America/New_York:20190216T150000
DTEND;TZID=America/New_York:20190216T170000
DTSTAMP:20260422T152451
CREATED:20190131T031814Z
LAST-MODIFIED:20190131T031814Z
UID:4399-1550329200-1550336400@mnnow.org
SUMMARY:Feb 16th - Planning Meeting for National NOW Conference in Minnesota\, July 19th – July 21st\, 2019
DESCRIPTION:We need your help to plan for the National NOW Conference in Minnesota in July 2019. Please come to the next planning meeting if you are interested in volunteering. Chapter representatives\, please publicize to your chapters.  We need everyone! Come to the Blue Water Lounge on February 16th from 3-5 pm. at Hilton Minneapolis/St. Paul Airport Mall of America\, 3800 American Blvd\, Bloomington\, MN.
URL:https://mnnow.org/event/feb-16th-planning-meeting-for-national-now-conference-in-minnesota-july-19th-july-21st-2019/
LOCATION:Hilton Minneapolis/St. Paul Airport Mall of America\, 3800 American Blvd. E\, Bloomington\, MN\, 55425\, United States
END:VEVENT
BEGIN:VEVENT
DTSTART;TZID=America/New_York:20190202T130000
DTEND;TZID=America/New_York:20190202T160000
DTSTAMP:20260422T152451
CREATED:20181231T035736Z
LAST-MODIFIED:20190130T044036Z
UID:4349-1549112400-1549123200@mnnow.org
SUMMARY:Groundhog's Day with ERA MN
DESCRIPTION:Annual ERA MN Showcase Event. \nIt will be an afternoon of celebration and advocacy as we watch the compelling and groundbreaking short documentary film “Legalize Equality“\, hear from some of our bill authors\, sample appetizers from Gandhi Mahal and enjoy the entertainment of community performers!
URL:https://mnnow.org/event/groundhogs-day-with-era/
LOCATION:Hook and Ladder Theater\, 3010 Minnehaha Ave\, Minneapolis\, MN\, 55406\, United States
CATEGORIES:Constitutional Equality
END:VEVENT
BEGIN:VEVENT
DTSTART;TZID=America/New_York:20190119T120000
DTEND;TZID=America/New_York:20190119T140000
DTSTAMP:20260422T152451
CREATED:20181231T035857Z
LAST-MODIFIED:20181231T035857Z
UID:4352-1547899200-1547906400@mnnow.org
SUMMARY:Women's March 2019
DESCRIPTION:We’re proud to be a part of this year’s march! Join us and show your support for women and the ERA! We’ll have signs to hold and buttons to wear! \nFor more information on the March visit HERE
URL:https://mnnow.org/event/womens-march-2019/
LOCATION:Minnesota State Capitol\, 75 Rev Dr Martin Luther King Boulevard\, St. Paul\, MN\, 55155\, United States
END:VEVENT
BEGIN:VEVENT
DTSTART;TZID=America/New_York:20190112T093000
DTEND;TZID=America/New_York:20190112T113000
DTSTAMP:20260422T152451
CREATED:20181231T035539Z
LAST-MODIFIED:20181231T035539Z
UID:4347-1547285400-1547292600@mnnow.org
SUMMARY:ERAMN Annual Organizational Meeting & Election of Officers
DESCRIPTION:Positions being voted on are: Vice President (x2)\, Secretary and Marketing & Public Relations
URL:https://mnnow.org/event/eramn-annual-organizational-meeting-election-of-officers/
LOCATION:Brookdale Library\, 6125 Shingle Creek Parkway\, Brooklyn Center\, MN\, 55430
END:VEVENT
BEGIN:VEVENT
DTSTART;TZID=America/New_York:20180826T100000
DTEND;TZID=America/New_York:20180826T160000
DTSTAMP:20260422T152451
CREATED:20180725T033920Z
LAST-MODIFIED:20180725T033920Z
UID:3639-1535277600-1535299200@mnnow.org
SUMMARY:Promote ERA at the MN State Fair on August 26th -  Women's Equality Day
DESCRIPTION:The more the mightier! Many volunteers are needed for 2 hour shifts to hand out fun printed materials on Women’s Equality Day on Sunday\, August 26\, 2018 educating about and urging the passage of a state ERA. Leafletting will occur on the public sidewalks at the entrance to the state fair. We are not allowed to distribute materials on the fairgrounds except at a booth. Sign up at Doodle Sign UP
URL:https://mnnow.org/event/promote-era-at-the-mn-state-fair-on-august-26th-womens-equality-day/
LOCATION:Minnesota State Fair\, 1265 Snelling Ave N\, Saint Paul\, MN\, 55108\, United States
END:VEVENT
BEGIN:VEVENT
DTSTART;TZID=America/New_York:20180706T080000
DTEND;TZID=America/New_York:20180708T170000
DTSTAMP:20260422T152451
CREATED:20180120T191527Z
LAST-MODIFIED:20180120T191527Z
UID:3129-1530864000-1531069200@mnnow.org
SUMMARY:National Conference
DESCRIPTION:This year’s National Conference is in San Jose\, California. Stay tuned for more details!
URL:https://mnnow.org/event/national-conference/
CATEGORIES:National NOW
END:VEVENT
BEGIN:VEVENT
DTSTART;TZID=America/New_York:20180701T183000
DTEND;TZID=America/New_York:20180701T200000
DTSTAMP:20260422T152451
CREATED:20180708T013050Z
LAST-MODIFIED:20180708T013050Z
UID:3627-1530469800-1530475200@mnnow.org
SUMMARY:Action Meeting
DESCRIPTION:
URL:https://mnnow.org/event/action-meeting-2/
LOCATION:Member’s House\, St. Paul\, MN\, United States
CATEGORIES:MN NOW
END:VEVENT
BEGIN:VEVENT
DTSTART;TZID=America/New_York:20180626T193000
DTEND;TZID=America/New_York:20180626T203000
DTSTAMP:20260422T152451
CREATED:20180707T233428Z
LAST-MODIFIED:20180707T234244Z
UID:3577-1530041400-1530045000@mnnow.org
SUMMARY:Constitutional Equality Meeting
DESCRIPTION:Join us for another constitutional equality meeting! We will be talking about the MN ERA and planning MN NOW’s event for Women’s Equality Day!
URL:https://mnnow.org/event/constitutional-equality-meeting/
LOCATION:Common Roots Cafe\, 2558 Lyndale Avenue South\, Minneapolis\, MN\, 55405\, United States
CATEGORIES:Constitutional Equality
END:VEVENT
BEGIN:VEVENT
DTSTART;VALUE=DATE:20180623
DTEND;VALUE=DATE:20180625
DTSTAMP:20260422T152451
CREATED:20180708T011656Z
LAST-MODIFIED:20180708T011656Z
UID:3623-1529712000-1529884799@mnnow.org
SUMMARY:Twin Cities Pride Festival
DESCRIPTION:
URL:https://mnnow.org/event/twin-cities-pride-festival/
LOCATION:Loring Park\, Minneapolis\, MN\, United States
CATEGORIES:LGBTQ Rights
END:VEVENT
BEGIN:VEVENT
DTSTART;TZID=America/New_York:20180621T193000
DTEND;TZID=America/New_York:20180621T210000
DTSTAMP:20260422T152451
CREATED:20180708T010804Z
LAST-MODIFIED:20180708T010804Z
UID:3621-1529609400-1529614800@mnnow.org
SUMMARY:Pride Volunteer Meeting
DESCRIPTION:
URL:https://mnnow.org/event/pride-volunteer-meeting/
LOCATION:Member’s House\, St. Paul\, MN\, United States
CATEGORIES:LGBTQ Rights
END:VEVENT
BEGIN:VEVENT
DTSTART;TZID=America/New_York:20180620T193000
DTEND;TZID=America/New_York:20180620T210000
DTSTAMP:20260422T152451
CREATED:20180708T010043Z
LAST-MODIFIED:20180708T010043Z
UID:3619-1529523000-1529528400@mnnow.org
SUMMARY:MN NOW Board Meeting
DESCRIPTION:
URL:https://mnnow.org/event/mn-now-board-meeting-4/
LOCATION:Pizza Luce\, 2200 E. Franklin Avenue\, Minneapolis\, MN\, 55404\, United States
CATEGORIES:MN NOW
END:VEVENT
BEGIN:VEVENT
DTSTART;TZID=America/New_York:20180619T180000
DTEND;TZID=America/New_York:20180619T193000
DTSTAMP:20260422T152451
CREATED:20180708T005929Z
LAST-MODIFIED:20180708T005929Z
UID:3617-1529431200-1529436600@mnnow.org
SUMMARY:Sherburne-Wright NOW Meeting
DESCRIPTION:
URL:https://mnnow.org/event/sherburne-wright-now-meeting-4/
LOCATION:Mucho Loco Restaurant\, 19112 Freeport St E121\, Elk River\, MN\, 55330\, United States
CATEGORIES:Local Chapters
END:VEVENT
BEGIN:VEVENT
DTSTART;TZID=America/New_York:20180612T193000
DTEND;TZID=America/New_York:20180612T193000
DTSTAMP:20260422T152451
CREATED:20180707T233658Z
LAST-MODIFIED:20180707T234226Z
UID:3579-1528831800-1528831800@mnnow.org
SUMMARY:Action Meeting
DESCRIPTION:The Action committee will meet to discuss future events and progress on issue committees.
URL:https://mnnow.org/event/action-meeting/
LOCATION:Member’s House\, St. Paul\, MN\, United States
CATEGORIES:MN NOW
END:VEVENT
END:VCALENDAR