BEGIN:VCALENDAR
VERSION:2.0
PRODID:-//Minnesota NOW - ECPv6.15.20//NONSGML v1.0//EN
CALSCALE:GREGORIAN
METHOD:PUBLISH
X-WR-CALNAME:Minnesota NOW
X-ORIGINAL-URL:https://mnnow.org
X-WR-CALDESC:Events for Minnesota NOW
REFRESH-INTERVAL;VALUE=DURATION:PT1H
X-Robots-Tag:noindex
X-PUBLISHED-TTL:PT1H
BEGIN:VTIMEZONE
TZID:America/New_York
BEGIN:DAYLIGHT
TZOFFSETFROM:-0500
TZOFFSETTO:-0400
TZNAME:EDT
DTSTART:20180311T070000
END:DAYLIGHT
BEGIN:STANDARD
TZOFFSETFROM:-0400
TZOFFSETTO:-0500
TZNAME:EST
DTSTART:20181104T060000
END:STANDARD
BEGIN:DAYLIGHT
TZOFFSETFROM:-0500
TZOFFSETTO:-0400
TZNAME:EDT
DTSTART:20190310T070000
END:DAYLIGHT
BEGIN:STANDARD
TZOFFSETFROM:-0400
TZOFFSETTO:-0500
TZNAME:EST
DTSTART:20191103T060000
END:STANDARD
BEGIN:DAYLIGHT
TZOFFSETFROM:-0500
TZOFFSETTO:-0400
TZNAME:EDT
DTSTART:20200308T070000
END:DAYLIGHT
BEGIN:STANDARD
TZOFFSETFROM:-0400
TZOFFSETTO:-0500
TZNAME:EST
DTSTART:20201101T060000
END:STANDARD
BEGIN:DAYLIGHT
TZOFFSETFROM:-0500
TZOFFSETTO:-0400
TZNAME:EDT
DTSTART:20210314T070000
END:DAYLIGHT
BEGIN:STANDARD
TZOFFSETFROM:-0400
TZOFFSETTO:-0500
TZNAME:EST
DTSTART:20211107T060000
END:STANDARD
BEGIN:DAYLIGHT
TZOFFSETFROM:-0500
TZOFFSETTO:-0400
TZNAME:EDT
DTSTART:20220313T070000
END:DAYLIGHT
BEGIN:STANDARD
TZOFFSETFROM:-0400
TZOFFSETTO:-0500
TZNAME:EST
DTSTART:20221106T060000
END:STANDARD
END:VTIMEZONE
BEGIN:VEVENT
DTSTART;TZID=America/New_York:20210508T100000
DTEND;TZID=America/New_York:20210508T120000
DTSTAMP:20260422T120743
CREATED:20210410T223424Z
LAST-MODIFIED:20210410T223424Z
UID:5424-1620468000-1620475200@mnnow.org
SUMMARY:MN NOW Board Meeting
DESCRIPTION:The MN NOW Board will meet Saturday\, May 8\, 2021\, at 10am. We’ll meet on Zoom.
URL:https://mnnow.org/event/mn-now-board-meeting-7/
CATEGORIES:Constitutional Equality,Economic Justice,Freedom from Violence,LGBTQ Rights,Local Chapters,MN NOW,Racial Justice,Reproductive Rights
END:VEVENT
BEGIN:VEVENT
DTSTART;TZID=America/New_York:20210428T183000
DTEND;TZID=America/New_York:20210428T203000
DTSTAMP:20260422T120743
CREATED:20210425T163126Z
LAST-MODIFIED:20210425T163157Z
UID:5568-1619634600-1619641800@mnnow.org
SUMMARY:Minnesota Valley NOW: Business Meeting and Social Gathering
DESCRIPTION:The April Zoom meeting of Minnesota Valley NOW will feature Lexi Finnegan speaking on her research on mass shootings and her current position as an advocate for safety for women. \n\n6:30PM Social time\n7:00-8:30PM Speaker and brief meeting.
URL:https://mnnow.org/event/minnesota-valley-now-business-meeting-and-social-gathering/
CATEGORIES:Freedom from Violence,Local Chapters
END:VEVENT
BEGIN:VEVENT
DTSTART;VALUE=DATE:20210410
DTEND;VALUE=DATE:20210411
DTSTAMP:20260422T120743
CREATED:20210305T172305Z
LAST-MODIFIED:20210305T172305Z
UID:5341-1618012800-1618099199@mnnow.org
SUMMARY:MN NOW State Conference
DESCRIPTION:Our State Conference will be held virtually this year on April 10\, 2021. Please mark your calendars.
URL:https://mnnow.org/event/mn-now-state-conference-2/
CATEGORIES:Elections,Local Chapters,MN NOW
END:VEVENT
BEGIN:VEVENT
DTSTART;TZID=America/New_York:20210313T100000
DTEND;TZID=America/New_York:20210313T110000
DTSTAMP:20260422T120743
CREATED:20210123T211628Z
LAST-MODIFIED:20210123T214829Z
UID:5296-1615629600-1615633200@mnnow.org
SUMMARY:Sustainability Committee Meeting
DESCRIPTION:The Sustainability Committee will meet Mar 13\, 2021\, 10a on zoom.
URL:https://mnnow.org/event/sustainability-committee/
CATEGORIES:MN NOW
END:VEVENT
BEGIN:VEVENT
DTSTART;VALUE=DATE:20210312
DTEND;VALUE=DATE:20210313
DTSTAMP:20260422T120743
CREATED:20210304T181040Z
LAST-MODIFIED:20210304T181040Z
UID:5334-1615507200-1615593599@mnnow.org
SUMMARY:Reproductive Freedom Lobby Day with UnRestrictMN
DESCRIPTION:Register to join us with UnRestrictMN for a virtual Reproductive Freedom Lobby Day. For more information and to register\, please visit https://unrestrictmn.org/lobbyday/.
URL:https://mnnow.org/event/reproductive-freedom-lobby-day-with-unrestrictmn/
CATEGORIES:Reproductive Rights
END:VEVENT
BEGIN:VEVENT
DTSTART;VALUE=DATE:20210308
DTEND;VALUE=DATE:20210309
DTSTAMP:20260422T120743
CREATED:20210304T180620Z
LAST-MODIFIED:20210304T180620Z
UID:5331-1615161600-1615247999@mnnow.org
SUMMARY:International Women's Day with ERA MN
DESCRIPTION:ERA Rally\nERA Celebration\nERA Silent Auction\nInternational Women’s Day – A day full of a variety of events!  Join us!! \nERA Rally!\nWHAT: Hear from bill authors\, calls to action and more!\nWHERE: Zoom\nWHEN: Monday\, March 8th\nTIME: 10:30 am.\nRSVP: info@eraMN.org with name & address \nERA & International Women’s Day Celebration!\nWHAT: Guest speaker Carol Jenkins\, CEO ERA Coalition & prize winning journalist! Stick around for the letter writing campaign and auction kickoff.\nWHERE: Zoom\nWHEN: Monday\, March 8th\nTIME: 7:00 p.m.\nRSVP: info@eraMN.org with name & address \nERA MN Online Auction/Fundraiser!\nWHAT: Bid on your favorite items and raise money to support ERA MN so we can all continue our push to make equality the law!  (FYI – IF we use GalaBid: After you have donated\, or bid on an item\, you are given the option to make a small contribution to GalaBid to cover the costs of the auction platform\, that way ERA MN gets all of the funds you bid/donate.)\nWHERE:  Online – auction site TBD\nWHEN: Monday\, March 8th\nSTART TIME:  7:00 pm kick off  – bidding continues for 7 – 10 days.\nEND DATE/TIME:  TBD\nRSVP: info@eraMN.org with name & address \nIn previous years we would lobby in person and then have a big rally in the rotunda – but due to the pandemic it will be virtual this year.  We have to do things a little differently\, but it won’t stop us from fighting to make sure our MN legislature puts the Equal Rights Amendment on the ballot so the citizens of Minnesota can decide if it should be an amendment or not!
URL:https://mnnow.org/event/international-womens-day-with-era-mn/
CATEGORIES:Constitutional Equality,Local Chapters,Local Partners,MN NOW
END:VEVENT
BEGIN:VEVENT
DTSTART;TZID=America/New_York:20210306T100000
DTEND;TZID=America/New_York:20210306T120000
DTSTAMP:20260422T120743
CREATED:20210123T184121Z
LAST-MODIFIED:20210123T184121Z
UID:5288-1615024800-1615032000@mnnow.org
SUMMARY:MN NOW Board Meeting
DESCRIPTION:Our board meeting on March 6\, 2021\, 10am-12n\, will be held online.
URL:https://mnnow.org/event/mn-now-board-meeting-6/
CATEGORIES:Constitutional Equality,Economic Justice,Freedom from Violence,LGBTQ Rights,Local Chapters,MN NOW,Racial Justice,Reproductive Rights
END:VEVENT
BEGIN:VEVENT
DTSTART;TZID=America/New_York:20210305T103000
DTEND;TZID=America/New_York:20210305T113000
DTSTAMP:20260422T120743
CREATED:20210304T035654Z
LAST-MODIFIED:20210304T035654Z
UID:5329-1614940200-1614943800@mnnow.org
SUMMARY:Communications Committee
DESCRIPTION:The Communications Committee is meeting Fri\, Mar 5\, 10:30am\, via Zoom.
URL:https://mnnow.org/event/communications-committee-2/
CATEGORIES:Constitutional Equality,Economic Justice,Freedom from Violence,LGBTQ Rights,Local Chapters,Local Partners,MN NOW,Racial Justice,Reproductive Rights
END:VEVENT
BEGIN:VEVENT
DTSTART;TZID=America/New_York:20210220T100000
DTEND;TZID=America/New_York:20210220T120000
DTSTAMP:20260422T120743
CREATED:20210123T200551Z
LAST-MODIFIED:20210123T200551Z
UID:5294-1613815200-1613822400@mnnow.org
SUMMARY:ERA Minnesota Monthly WG Meeting
DESCRIPTION:Monthly on the third Saturday\n\n\n\n\n\nDescription:Monthly ERAMN Meeting
URL:https://mnnow.org/event/era-minnesota-monthly-wg-meeting/
CATEGORIES:Constitutional Equality
END:VEVENT
BEGIN:VEVENT
DTSTART;TZID=America/New_York:20210212T103000
DTEND;TZID=America/New_York:20210212T113000
DTSTAMP:20260422T120743
CREATED:20210129T175659Z
LAST-MODIFIED:20210129T175735Z
UID:5312-1613125800-1613129400@mnnow.org
SUMMARY:Communications Committee
DESCRIPTION:The Communications Committee will meet Friday\, February 12\, 2021\, 10:30-11:30am. We’ll meet in Zoom.
URL:https://mnnow.org/event/communications-committee/
CATEGORIES:Constitutional Equality,Economic Justice,Freedom from Violence,LGBTQ Rights,Local Chapters,Local Partners,MN NOW,Racial Justice,Reproductive Rights
END:VEVENT
BEGIN:VEVENT
DTSTART;TZID=America/New_York:20210129T103000
DTEND;TZID=America/New_York:20210129T233000
DTSTAMP:20260422T120743
CREATED:20210123T184459Z
LAST-MODIFIED:20210123T184459Z
UID:5290-1611916200-1611963000@mnnow.org
SUMMARY:Communications Committee Meeting
DESCRIPTION:A meeting of the Communications Committee will occur on January 29\, 2021\, 10:30 am. We’ll meet online.
URL:https://mnnow.org/event/communications-committee-meeting/
CATEGORIES:Local Chapters,MN NOW
END:VEVENT
BEGIN:VEVENT
DTSTART;TZID=America/New_York:20210127T183000
DTEND;TZID=America/New_York:20210127T200000
DTSTAMP:20260422T120743
CREATED:20210123T194935Z
LAST-MODIFIED:20210123T194935Z
UID:5292-1611772200-1611777600@mnnow.org
SUMMARY:MN Valley NOW Chapter Meeting
DESCRIPTION:MN Valley NOW will be meeting Wednesday\, January 27\, on Zoom. 6:30pm social time; 7:00pm business meeting.
URL:https://mnnow.org/event/mn-valley-now-chapter-meeting/
CATEGORIES:Local Chapters
END:VEVENT
BEGIN:VEVENT
DTSTART;TZID=America/New_York:20210123T100000
DTEND;TZID=America/New_York:20210123T120000
DTSTAMP:20260422T120743
CREATED:20210107T231501Z
LAST-MODIFIED:20210107T231501Z
UID:5285-1611396000-1611403200@mnnow.org
SUMMARY:MN NOW State Board Meeting
DESCRIPTION:A State Board meeting will be held Sat\, Jan 23\, 10am CT.
URL:https://mnnow.org/event/mn-now-state-board-meeting/
CATEGORIES:Constitutional Equality,Economic Justice,Freedom from Violence,LGBTQ Rights,Local Chapters,MN NOW,Racial Justice,Reproductive Rights
END:VEVENT
BEGIN:VEVENT
DTSTART;TZID=America/New_York:20201103T070000
DTEND;TZID=America/New_York:20201103T200000
DTSTAMP:20260422T120743
CREATED:20200806T165752Z
LAST-MODIFIED:20200806T170001Z
UID:5041-1604386800-1604433600@mnnow.org
SUMMARY:November Elections
DESCRIPTION:The November elections are November 3\, 2020. Please register to vote and request your mail-in ballot if you haven’t already. \n\nHere’s a list of candidates we endorse. For candidates seeking endorsement\, please visit the Candidates Seeking Endorsement page.
URL:https://mnnow.org/event/november-elections/
CATEGORIES:Elections
ATTACH;FMTTYPE=image/jpeg:https://mnnow.org/wp-content/uploads/2020/08/vote.jpg
END:VEVENT
BEGIN:VEVENT
DTSTART;TZID=America/New_York:20200829T100000
DTEND;TZID=America/New_York:20200829T120000
DTSTAMP:20260422T120743
CREATED:20200818T164201Z
LAST-MODIFIED:20200818T164213Z
UID:5082-1598695200-1598702400@mnnow.org
SUMMARY:MN NOW Board Meeting
DESCRIPTION:A meeting for the MN NOW Board will be held on Saturday\, August 29\, 2020\, 10a-12n.
URL:https://mnnow.org/event/mn-now-board-meeting-5/
CATEGORIES:Local Chapters,MN NOW
END:VEVENT
BEGIN:VEVENT
DTSTART;TZID=America/New_York:20200826T190000
DTEND;TZID=America/New_York:20200826T200000
DTSTAMP:20260422T120743
CREATED:20200812T025543Z
LAST-MODIFIED:20200817T181930Z
UID:5045-1598468400-1598472000@mnnow.org
SUMMARY:#FaceTheMusic4ERA
DESCRIPTION:Join us on #WomensEqualityDay August 26th #WED2020 to raise our voices with music & calls-to-action for Racial & Gender Justice\, and to put Gender Equality into the US Constitution! \n#FaceTheMusic4ERA is a virtual concert featuring an amazing line-up of artists and speakers from across the country celebrating how far the #ERA has come\, and laying out concrete next steps to get the job done! It’s an opportunity for organizations & activists to come together\, celebrate our accomplishments with music\, and learn how you can help make the ERA the 28th Amendment to the US Constitution. \nWatch for our national Artists and top ERA Speakers soon! \nWHEN: August 26th\, 2020\nTIME: 5pm PST – 7pm CST – 8pm EST\nWHERE: FaceBook Live & Online\nWHY: Celebrate\, educate\, agitate & activate for the 28th Amendment\, the ERA! \n\nFind the FB event page here: https://www.facebook.com/events/894488094294679/ \nFor event details visit: https://www.eramn.org/womens-equality-day-2020.html
URL:https://mnnow.org/event/facethemusic4era/
CATEGORIES:Constitutional Equality,Economic Justice
ATTACH;FMTTYPE=image/jpeg:https://mnnow.org/wp-content/uploads/2020/08/face-the-music.jpg
END:VEVENT
BEGIN:VEVENT
DTSTART;TZID=America/New_York:20200826T170000
DTEND;TZID=America/New_York:20200826T193000
DTSTAMP:20260422T120743
CREATED:20200817T181340Z
LAST-MODIFIED:20200817T181619Z
UID:5063-1598461200-1598470200@mnnow.org
SUMMARY:Celebrate Women's Equality Day with MNNOW's Endorsed Candidates!
DESCRIPTION:On behalf of our new MN NOW President\, Mariquita Anderson\, and our new Vice President\, Kathleen Murphy\, and the MN NOW PAC\, we are hosting a fundraiser in recognition of the candidates that uphold the core feminist issues of NOW. \nYou may be aware that August 26th is the ACTUAL 100th Anniversary of the final ratification of the 19th Amendment that allowed women across the nation to finally be able to VOTE. We at MN NOW would like to recognize that date with our endorsed candidates. \nPlease join us either IN PERSON (in an extremely spacious backyard with social distancing and masks enforced) OR virtually if you cannot make it to Saint Paul. \nIf you are in greater Minnesota or unable to attend in person (don’t worry\, we get it)\, we hope you’ll be able to join us on Zoom. \nWe will be encouraging attendees to contribute directly to the candidates as well as to our PAC\, which we will distribute all funds raised that evening evenly to all of our candidates. \nAll are welcome! \nAnd if you’d like to stick around for the national ERA Zoom event at 7pm\, we will be airing that in the backyard too!
URL:https://mnnow.org/event/celebrate-womens-equality-day-with-mnnows-endorsed-candidates/
CATEGORIES:Constitutional Equality,Economic Justice,Elections,Freedom from Violence,LGBTQ Rights,Local Chapters,Local Partners,MN NOW,Racial Justice,Reproductive Rights
ATTACH;FMTTYPE=image/jpeg:https://mnnow.org/wp-content/uploads/2020/08/mnnow-pac-fundraiser.jpg
END:VEVENT
BEGIN:VEVENT
DTSTART;TZID=America/New_York:20200811T070000
DTEND;TZID=America/New_York:20200811T200000
DTSTAMP:20260422T120743
CREATED:20200806T165441Z
LAST-MODIFIED:20200806T165518Z
UID:5036-1597129200-1597176000@mnnow.org
SUMMARY:Minnesota Primary Elections on August 11
DESCRIPTION:The Minnesota Primary Elections are Tuesday\, August\, 11\, 2020. If you have your mail-in ballot\, please mail it today. \nHere’s a list of candidates we endorse. For candidates seeking endorsement\, please visit the Candidates Seeking Endorsement page.
URL:https://mnnow.org/event/minnesota-now-primary-elections/
CATEGORIES:Elections,Primaries
ATTACH;FMTTYPE=image/jpeg:https://mnnow.org/wp-content/uploads/2020/08/vote.jpg
END:VEVENT
BEGIN:VEVENT
DTSTART;TZID=America/New_York:20200714T130000
DTEND;TZID=America/New_York:20200714T153000
DTSTAMP:20260422T120743
CREATED:20200713T041724Z
LAST-MODIFIED:20200713T041724Z
UID:4983-1594731600-1594740600@mnnow.org
SUMMARY:END RACISM IN NOW 24x24
DESCRIPTION:MN NOW is participating in a national END RACISM NOW campaign spearheaded by California NOW to pressure National NOW President Toni Van Pelt to resign. Join this discussion by reaching out to info@mnnow.org and the online discussion details will be sent directly to MN NOW members.
URL:https://mnnow.org/event/end-racism-in-now-24x24/
END:VEVENT
BEGIN:VEVENT
DTSTART;TZID=America/New_York:20200520T080000
DTEND;TZID=America/New_York:20200705T170000
DTSTAMP:20260422T120743
CREATED:20200429T144422Z
LAST-MODIFIED:20200713T134311Z
UID:4871-1589961600-1593968400@mnnow.org
SUMMARY:Collaboration with Minnesota Billboard Project
DESCRIPTION:Minnesota NOW and the Minnesota NOW Foundation are excited that our joint project with Minnesota Billboard Project is UP AND RUNNING!  We are promoting and helping to fund pro-choice billboards in various Minnesota locations. \nThe Project is a progressive artist collective; see more info here:  Minnesota Billboard Project \nHelp support this project with a donation by clicking here: \nMinnesota Billboard Project Donations
URL:https://mnnow.org/event/collaboration-with-minnesota-billboard-project/
CATEGORIES:Reproductive Rights
END:VEVENT
BEGIN:VEVENT
DTSTART;TZID=America/New_York:20200519T000000
DTEND;TZID=America/New_York:20200519T000000
DTSTAMP:20260422T120743
CREATED:20200519T134532Z
LAST-MODIFIED:20200519T134532Z
UID:4912-1589846400-1589846400@mnnow.org
SUMMARY:Why the ERA Should Be Added to MN Constitution
DESCRIPTION:Join us for an evening of presentations on the Equal Rights Amendment and why it should be included in the Minnesota Constitution. Register here: ERA event. \n\n\n\n\n\n\nAbout this Event\n\n\nWhy the Equal Rights Amendment Should Be Added to the Minnesota Constitution \nHosted by: Think Again Brooklyns\, ERA Minnesota & LWV Brooklyn Park\, Osseo\, Maple Grove \nJoin as we hear from: \nYixiu Chen – Manager of Open Door Learning Centers for Literacy Minnesota – she will be discusing how the Equal Rights Amendment could improve immigrant women’s lives. \nHeather Allison – President ERAMN – As a nonprofit board chair\, Heather Allison is a passionate advocate dedicated to passing an Equal Rights Amendment in Minnesota and at the federal level. The ERA would add a simple statement regarding women’s rights to the Minnesota Constitution: “Equality under the law shall not be abridged or denied on account of gender.” Heather will give us background on the development of women’s rights and the ERA and let us know what we need to do to get it passed at the MN and federal levels. \nHollies and Latrice Winston – will discuss how the ERA can help husbands and wives balance work and home responsibilities and can contribute to a better life for their children and aging family members who need their help. Hollies is Chair and CEO at Guaranteed America\, Inc. where he advocates on behalf of both private and public businesses and provides trainings and client acquisition services. Latrice organizes couples retreats and events for Couples Connecting Community. \nRuben Vazquez – Vice President\, Racial Justice and Public Policy at the Minneapolis YWCA – Ruben Vazquez manages the overall strategy of the Mpls YWCA and promotes its mission of racial justice\, gender equality\, and human dignity. Rubén represents YWCA Minneapolis on racial justice and public policy related issues both locally and nationally. He will explain how adding the Equal Rights Amendment to the Minnesota Constitution can contribute to building community partnerships and integrate the race and gender equity initiative of partners and members. \nIf the Minnesota House and Senate votes in favor of adding the Equal Rights Amendment to the Minnesota Constitution\, the ERA Amendment will appear on your ballot. Please vote in favor of it.
URL:https://mnnow.org/event/why-the-era-should-be-added-to-mn-constitution/
END:VEVENT
BEGIN:VEVENT
DTSTART;TZID=America/New_York:20200314T080000
DTEND;TZID=America/New_York:20200314T170000
DTSTAMP:20260422T120743
CREATED:20191116T191653Z
LAST-MODIFIED:20191116T191700Z
UID:4690-1584172800-1584205200@mnnow.org
SUMMARY:MN NOW State Conference 2020
DESCRIPTION:
URL:https://mnnow.org/event/mn-now-state-conference/
END:VEVENT
BEGIN:VEVENT
DTSTART;TZID=America/New_York:20200309T180000
DTEND;TZID=America/New_York:20200309T200000
DTSTAMP:20260422T120743
CREATED:20200107T145205Z
LAST-MODIFIED:20200114T022454Z
UID:4792-1583776800-1583784000@mnnow.org
SUMMARY:PAC Meeting
DESCRIPTION:For additional details and meeting location\, contact pac@mnnow.org.
URL:https://mnnow.org/event/pac-meeting-2/
END:VEVENT
BEGIN:VEVENT
DTSTART;TZID=America/New_York:20200220T180000
DTEND;TZID=America/New_York:20200220T200000
DTSTAMP:20260422T120743
CREATED:20200124T185748Z
LAST-MODIFIED:20200124T185748Z
UID:4818-1582221600-1582228800@mnnow.org
SUMMARY:Caucuses: What\, Why & How to Make the Most of Yours
DESCRIPTION:Join us as we host an educational event around just what caucusing is\, how it works\, what to expect\, and how you can use the caucus in your neighborhood to help elect pro-choice women in 2020. \nRSVP via Facebook
URL:https://mnnow.org/event/caucuses-what-why-how-to-make-the-most-of-yours/
LOCATION:Black Dog Cafe\, 308 Prince St\, St. Paul\, MN\, 55101\, United States
END:VEVENT
BEGIN:VEVENT
DTSTART;TZID=America/New_York:20200219T080000
DTEND;TZID=America/New_York:20200219T170000
DTSTAMP:20260422T120743
CREATED:20200107T144413Z
LAST-MODIFIED:20200218T160254Z
UID:4787-1582099200-1582131600@mnnow.org
SUMMARY:Reproductive Freedom Lobby Day
DESCRIPTION:As Reproductive Freedom comes under attack across the nation\, we know that ensuring Minnesotans have full Reproductive Freedom will take all of us stepping up and loudly telling lawmakers that Minnesotans want laws that support our health\, freedom\, and autonomy. That’s why MN NOW is joining more than 20 other organizations for Reproductive Freedom Lobby Day on February 19\, 2020. But we need YOU there to make sure our message is heard!
URL:https://mnnow.org/event/reproductive-freedom-lobby-day/
LOCATION:Minnesota State Capitol\, 75 Rev Dr Martin Luther King Boulevard\, St. Paul\, MN\, 55155\, United States
END:VEVENT
BEGIN:VEVENT
DTSTART;TZID=America/New_York:20200210T180000
DTEND;TZID=America/New_York:20200210T200000
DTSTAMP:20260422T120743
CREATED:20200107T145010Z
LAST-MODIFIED:20200114T022532Z
UID:4790-1581357600-1581364800@mnnow.org
SUMMARY:PAC Meeting
DESCRIPTION:For additional details and meeting location\, contact pac@mnnow.org.
URL:https://mnnow.org/event/pac-meeting/
LOCATION:MN\, United States
END:VEVENT
BEGIN:VEVENT
DTSTART;TZID=America/New_York:20200125T110000
DTEND;TZID=America/New_York:20200125T130000
DTSTAMP:20260422T120743
CREATED:20191116T192134Z
LAST-MODIFIED:20191116T192134Z
UID:4694-1579950000-1579957200@mnnow.org
SUMMARY:MN NOW Sustainability Committee Meeting
DESCRIPTION:
URL:https://mnnow.org/event/mn-now-sustainability-committee-meeting/
END:VEVENT
BEGIN:VEVENT
DTSTART;TZID=America/New_York:20200113T180000
DTEND;TZID=America/New_York:20200113T200000
DTSTAMP:20260422T120743
CREATED:20200106T145047Z
LAST-MODIFIED:20200114T022557Z
UID:4776-1578938400-1578945600@mnnow.org
SUMMARY:MN NOW PAC Meeting
DESCRIPTION:For additional details and meeting location\, contact pac@mnnow.org.
URL:https://mnnow.org/event/mn-now-pac-meeting/
LOCATION:MN\, United States
END:VEVENT
BEGIN:VEVENT
DTSTART;TZID=America/New_York:20200105T140000
DTEND;TZID=America/New_York:20200105T160000
DTSTAMP:20260422T120743
CREATED:20191205T163350Z
LAST-MODIFIED:20191205T163350Z
UID:4733-1578232800-1578240000@mnnow.org
SUMMARY:MN NOW January Board Meeting
DESCRIPTION:
URL:https://mnnow.org/event/mn-now-january-board-meeting/
LOCATION:Davannis Pizza\, 663 Winnetka Ave\, Golden Valley\, MN\, 55427\, United States
CATEGORIES:MN NOW
END:VEVENT
BEGIN:VEVENT
DTSTART;TZID=America/New_York:20191219T060000
DTEND;TZID=America/New_York:20191219T220000
DTSTAMP:20260422T120743
CREATED:20191205T145753Z
LAST-MODIFIED:20191205T145753Z
UID:4721-1576735200-1576792800@mnnow.org
SUMMARY:Do Good\, Together
DESCRIPTION:On this night of community\, action\, and politics\, we’ll celebrate the end of 2019 and kick off 2020 with power and purpose. \n\nEnjoy a fun night out socializing with fellow activists\nDo some good with a service project (assemble abortion aftercare kits\, make scarves for new refugees\, write thank-yous to legislators\, etc.) and bring donations (books or money) to benefit local organizations\nWatch the Democratic debate\nHear what topics the Third Thursdays coalition will tackle in the first half of 2020
URL:https://mnnow.org/event/do-good-together/
LOCATION:Black Dog Cafe\, 308 Prince St\, St. Paul\, MN\, 55101\, United States
CATEGORIES:Local Chapters
END:VEVENT
END:VCALENDAR