BEGIN:VCALENDAR
VERSION:2.0
PRODID:-//Minnesota NOW - ECPv6.15.20//NONSGML v1.0//EN
CALSCALE:GREGORIAN
METHOD:PUBLISH
X-WR-CALNAME:Minnesota NOW
X-ORIGINAL-URL:https://mnnow.org
X-WR-CALDESC:Events for Minnesota NOW
REFRESH-INTERVAL;VALUE=DURATION:PT1H
X-Robots-Tag:noindex
X-PUBLISHED-TTL:PT1H
BEGIN:VTIMEZONE
TZID:America/New_York
BEGIN:DAYLIGHT
TZOFFSETFROM:-0500
TZOFFSETTO:-0400
TZNAME:EDT
DTSTART:20210314T070000
END:DAYLIGHT
BEGIN:STANDARD
TZOFFSETFROM:-0400
TZOFFSETTO:-0500
TZNAME:EST
DTSTART:20211107T060000
END:STANDARD
BEGIN:DAYLIGHT
TZOFFSETFROM:-0500
TZOFFSETTO:-0400
TZNAME:EDT
DTSTART:20220313T070000
END:DAYLIGHT
BEGIN:STANDARD
TZOFFSETFROM:-0400
TZOFFSETTO:-0500
TZNAME:EST
DTSTART:20221106T060000
END:STANDARD
BEGIN:DAYLIGHT
TZOFFSETFROM:-0500
TZOFFSETTO:-0400
TZNAME:EDT
DTSTART:20230312T070000
END:DAYLIGHT
BEGIN:STANDARD
TZOFFSETFROM:-0400
TZOFFSETTO:-0500
TZNAME:EST
DTSTART:20231105T060000
END:STANDARD
END:VTIMEZONE
BEGIN:VEVENT
DTSTART;VALUE=DATE:20220625
DTEND;VALUE=DATE:20220627
DTSTAMP:20260421T203248
CREATED:20220609T171847Z
LAST-MODIFIED:20220609T171847Z
UID:6238-1656115200-1656287999@mnnow.org
SUMMARY:Twin Cities Pride Festival!
DESCRIPTION:Minnesota NOW and ERA Minnesota will be sharing a booth at Twin Cities Pride Festival in Loring Park the weekend of June 25-26\, 2022. Come out and see us! Join the fun!
URL:https://mnnow.org/event/twin-cities-pride-festival-2/
CATEGORIES:LGBTQ Rights
END:VEVENT
BEGIN:VEVENT
DTSTART;VALUE=DATE:20220623
DTEND;VALUE=DATE:20220627
DTSTAMP:20260421T203248
CREATED:20220609T174648Z
LAST-MODIFIED:20220609T174727Z
UID:6254-1655942400-1656287999@mnnow.org
SUMMARY:Fergus Falls Pride!
DESCRIPTION:Fergus Pride is June 23-26\, 2022. Please see the graphic for specific events. See you there!
URL:https://mnnow.org/event/fergus-falls-pride/
CATEGORIES:LGBTQ Rights
END:VEVENT
BEGIN:VEVENT
DTSTART;TZID=America/New_York:20220622T063000
DTEND;TZID=America/New_York:20220622T200000
DTSTAMP:20260421T203248
CREATED:20220609T172607Z
LAST-MODIFIED:20220609T172607Z
UID:6244-1655879400-1655928000@mnnow.org
SUMMARY:MN Valley NOW Chapter Meeting
DESCRIPTION:The Minnesota Valley Chapter of NOW will meet Wednesday\, June 22\, 2022. Social time starts at 6:30pm while the business section starts at 7pm. Meetings are currently over zoom.
URL:https://mnnow.org/event/mn-valley-now-chapter-meeting-2/
CATEGORIES:Local Chapters
END:VEVENT
BEGIN:VEVENT
DTSTART;TZID=America/New_York:20220620T101500
DTEND;TZID=America/New_York:20220620T111500
DTSTAMP:20260421T203248
CREATED:20220609T172053Z
LAST-MODIFIED:20220609T172053Z
UID:6240-1655720100-1655723700@mnnow.org
SUMMARY:LGBTQIA+ Committee Meeting
DESCRIPTION:The LGBTQIA+ Committee will meet Monday\, June 20\, 2022\, 10:15-11:15am\, via zoom.
URL:https://mnnow.org/event/lgbtqia-committee-meeting-8/
CATEGORIES:LGBTQ Rights
END:VEVENT
BEGIN:VEVENT
DTSTART;TZID=America/New_York:20220619T183000
DTEND;TZID=America/New_York:20220619T203000
DTSTAMP:20260421T203248
CREATED:20220613T151817Z
LAST-MODIFIED:20220613T151836Z
UID:6276-1655663400-1655670600@mnnow.org
SUMMARY:MN NOW PAC Meeting
DESCRIPTION:The MN NOW PAC will meet Sunday\, June 19\, 6:30-8:30pm. We’ll meet over zoom.
URL:https://mnnow.org/event/mn-now-pac-meeting-6/
END:VEVENT
BEGIN:VEVENT
DTSTART;VALUE=DATE:20220619
DTEND;VALUE=DATE:20220620
DTSTAMP:20260421T203248
CREATED:20220609T172320Z
LAST-MODIFIED:20220609T172320Z
UID:6242-1655596800-1655683199@mnnow.org
SUMMARY:Juneteenth!
DESCRIPTION:Today is Juneteenth! Find a celebration in your area at www.juneteenthminnesota.com!
URL:https://mnnow.org/event/juneteenth/
CATEGORIES:Racial Justice
END:VEVENT
BEGIN:VEVENT
DTSTART;TZID=America/New_York:20220612T180000
DTEND;TZID=America/New_York:20220612T190000
DTSTAMP:20260421T203248
CREATED:20220609T171224Z
LAST-MODIFIED:20220609T171224Z
UID:6232-1655056800-1655060400@mnnow.org
SUMMARY:Reproductive Rights Committee Meeting
DESCRIPTION:The Reproductive Rights Committee will meet Sunday\, June 12\, 2022\, 6-7pm via zoom.
URL:https://mnnow.org/event/reproductive-rights-committee-meeting-3/
CATEGORIES:Reproductive Rights
END:VEVENT
BEGIN:VEVENT
DTSTART;TZID=America/New_York:20220612T120000
DTEND;TZID=America/New_York:20220612T133000
DTSTAMP:20260421T203248
CREATED:20220609T171113Z
LAST-MODIFIED:20220609T171113Z
UID:6230-1655035200-1655040600@mnnow.org
SUMMARY:MN NOW PAC Meeting
DESCRIPTION:Our PAC Board will meet Sunday\, June 12\, 2022\, 12n-1:30om via zoom.
URL:https://mnnow.org/event/mn-now-pac-meeting-4/
CATEGORIES:Elections,PAC
END:VEVENT
BEGIN:VEVENT
DTSTART;TZID=America/New_York:20220604T120000
DTEND;TZID=America/New_York:20220604T133000
DTSTAMP:20260421T203248
CREATED:20220609T171504Z
LAST-MODIFIED:20220609T171504Z
UID:6236-1654344000-1654349400@mnnow.org
SUMMARY:MN NOW PAC Meeting
DESCRIPTION:The MN NOW PAC Board will meet Saturday\, June 4\, 12n-1:30pm\, right after the State Board meeting. We’ll meet over zoom.
URL:https://mnnow.org/event/mn-now-pac-meeting-5/
CATEGORIES:Elections,PAC
END:VEVENT
BEGIN:VEVENT
DTSTART;TZID=America/New_York:20220604T100000
DTEND;TZID=America/New_York:20220604T120000
DTSTAMP:20260421T203248
CREATED:20220609T171334Z
LAST-MODIFIED:20220609T171357Z
UID:6234-1654336800-1654344000@mnnow.org
SUMMARY:MN NOW Board Meeting
DESCRIPTION:The State Board meeting will be held Saturday\, June 4\, 2022\, 10a-12n\, via zoom.
URL:https://mnnow.org/event/mn-now-board-meeting-11/
CATEGORIES:MN NOW
END:VEVENT
BEGIN:VEVENT
DTSTART;TZID=America/New_York:20220525T183000
DTEND;TZID=America/New_York:20220525T200000
DTSTAMP:20260421T203248
CREATED:20220609T173037Z
LAST-MODIFIED:20220609T173037Z
UID:6252-1653503400-1653508800@mnnow.org
SUMMARY:MN Valley NOW Chapter Meeting
DESCRIPTION:The Minnesota Valley Chapter of NOW will meet Wednesday\, May 25\, 2022. Social time starts at 6:30pm while the business section starts at 7pm. Meetings are currently over zoom.
URL:https://mnnow.org/event/mn-valley-now-chapter-meeting-6/
CATEGORIES:Local Chapters
END:VEVENT
BEGIN:VEVENT
DTSTART;TZID=America/New_York:20220524T100000
DTEND;TZID=America/New_York:20220524T110000
DTSTAMP:20260421T203248
CREATED:20220613T152553Z
LAST-MODIFIED:20220613T152621Z
UID:6284-1653386400-1653390000@mnnow.org
SUMMARY:MN NOW Interns Meeting
DESCRIPTION:The MN NOW Interns will meet with incoming President Renee Cardarelle on Tuesday\, May 24\, 2022\, 10-11am. We’ll meet over zoom.
URL:https://mnnow.org/event/mn-now-interns-meeting/
END:VEVENT
BEGIN:VEVENT
DTSTART;TZID=America/New_York:20220522T120000
DTEND;TZID=America/New_York:20220522T130000
DTSTAMP:20260421T203248
CREATED:20220613T152048Z
LAST-MODIFIED:20220613T152048Z
UID:6278-1653220800-1653224400@mnnow.org
SUMMARY:MN NOW PAC Board Meeting
DESCRIPTION:The MN NOW PAC Board will meet Sunday\, May 22\, 2022\, 12n-1pm. We’ll meet over zoom.
URL:https://mnnow.org/event/mn-now-pac-board-meeting/
CATEGORIES:Elections,PAC
END:VEVENT
BEGIN:VEVENT
DTSTART;TZID=America/New_York:20220516T101500
DTEND;TZID=America/New_York:20220516T111500
DTSTAMP:20260421T203248
CREATED:20220613T152413Z
LAST-MODIFIED:20220613T152413Z
UID:6282-1652696100-1652699700@mnnow.org
SUMMARY:LGBTQIA+ Committee Meeting
DESCRIPTION:LGBTQIA+ Committee will meet Monday\, May 16\, 2022\, 10:15-11:15a\, over zoom.
URL:https://mnnow.org/event/lgbtqia-committee-meeting-9/
END:VEVENT
BEGIN:VEVENT
DTSTART;TZID=America/New_York:20220515T180000
DTEND;TZID=America/New_York:20220515T190000
DTSTAMP:20260421T203248
CREATED:20220613T152240Z
LAST-MODIFIED:20220613T152240Z
UID:6280-1652637600-1652641200@mnnow.org
SUMMARY:Reproductive Rights Committee Meeting
DESCRIPTION:The Reproductive Rights Committee will meet Sunday\, May 15\, 2022\, 6-7pm\, over zoom.
URL:https://mnnow.org/event/reproductive-rights-committee-meeting-4/
CATEGORIES:Reproductive Rights
END:VEVENT
BEGIN:VEVENT
DTSTART;TZID=America/New_York:20220427T183000
DTEND;TZID=America/New_York:20220427T200000
DTSTAMP:20260421T203248
CREATED:20220609T172956Z
LAST-MODIFIED:20220609T172956Z
UID:6250-1651084200-1651089600@mnnow.org
SUMMARY:MN Valley NOW Chapter Meeting
DESCRIPTION:The Minnesota Valley Chapter of NOW will meet Wednesday\, April 27\, 2022. Social time starts at 6:30pm while the business section starts at 7pm. Meetings are currently over zoom.
URL:https://mnnow.org/event/mn-valley-now-chapter-meeting-5/
CATEGORIES:Local Chapters
END:VEVENT
BEGIN:VEVENT
DTSTART;TZID=America/New_York:20220411T101500
DTEND;TZID=America/New_York:20220411T111500
DTSTAMP:20260421T203248
CREATED:20220621T031145Z
LAST-MODIFIED:20220621T031145Z
UID:6336-1649672100-1649675700@mnnow.org
SUMMARY:LGBTQIA+ Committee Meeting
DESCRIPTION:The LGBTQIA+ Committee will meet Monday\, April 11\, 2022\, 10:15-11:15am over zoom.
URL:https://mnnow.org/event/lgbtqia-committee-meeting-11/
CATEGORIES:LGBTQ Rights
END:VEVENT
BEGIN:VEVENT
DTSTART;TZID=America/New_York:20220409T090000
DTEND;TZID=America/New_York:20220409T130000
DTSTAMP:20260421T203248
CREATED:20220621T030958Z
LAST-MODIFIED:20220621T030958Z
UID:6334-1649494800-1649509200@mnnow.org
SUMMARY:MN NOW State Conference
DESCRIPTION:What Will It Take To Save Our Rights?\nMN NOW’s State Conference – April 09\, 2022\nMN NOW’S 2022 State Conference will be a virtual event filled with important business and programming. Join us from 9 a.m. to 1:00 p.m. Saturday\, April 09\, 2022 for exciting speakers\, awards\, and more. \nREGISTER NOW: \n\nRegistration is free for MN NOW Members. Send an email with your name to nowcentralmn@gmail.com to register.\nFor non-members\, a $15 donation is requested.  A paid registration will include a year long MN NOW membership. Non-members can register here.\n\n  \nSpecial Guest Speakers\nMN Legislative update with Senator Kunesh  \n \nMinnesota State Senator Mary Kunesh will talk about bills currently in the MN legislature that impact women. \nEducator\, community builder and previous State Representative\, Sen. Kunesh has fought and advocated for all Minnesotans and continues to pave the way for a more equitable and inclusive State. \nFollow her work in the legislature at state.mn. \nRachel Guerra Lorenzo – Indigenous Women Rising \nRachel Guerra Lorenzo is one of the founders of Indigenous Women Rising\, an organization committed to honoring Native & Indigenous People’s inherent right to equitable and culturally safe health options through accessible health education\, resources\, and advocacy. \nRachael Lorenzo (Mescalero Apache/Laguna Pueblo/Xicana) was born in Las Cruces\, New Mexico to young parents and was raised on their father’s ancestral land in Laguna\, New Mexico. Rachael graduated with a BA in political science and a Masters in public administration\, focusing on public health; both degrees are from the University of New Mexico.  Rachael studied political campaigns\, participated policy analyses\, and has been consulted for their expertise in public health policies that could impact indigenous communities. \nYou can learn more about them at https://www.iwrising.org/. \nShayla Walker – Executive Director of Our Justice  \nShayla is a proud Black Dominican-American living on occupied Dakhóta + Anishinaabe land (aka Twin Cities\, Minnesota). She’s an award winning Reproductive Justice advocate who’s dedicated 10 years to the reproductive freedom movement. She’s the Executive Director of Our Justice\, an organization that advocates for reproductive justice and provides support to abortion-seekers in the Midwest. In 2019\, she began shifting the internal orientation of Our Justice towards centering rest & healing\, economic justice and mutual aid beyond abortion support. Shayla has expanded Our Justice’s scope of work to include lodging support\, free emergency contraception and safer-sex kits. \nIn her free time she runs Cocoa Butta Futures’ You Are People’s Too Fund (URPPLS2). A fund that offers direct cash to QTBIPOC (Queer\, Trans\, Black\, Indigenous\, People of Color) and BIPOC single parent/fam/guardian/caretaker of vulnerable adults and/or child(ren). In true Gemini spirit she enjoys Minneapolis just as much as she does Saint Paul. Shayla feels most fulfilled when she’s getting Black people reparations\, performing spoken word and napping under the sun. \n  \n \n2022 Agenda\nThe 2022 Agenda can be found here:  2022 MN NOW State Conf Agenda. \n  \n  \n \nAward Winners\nNominations are open until March 25th! \nThe Feminist of the Year Award – open to strong MN NOW leaders who are working to build a more equitable society and move forward the core mission of MN NOW. \nThe Charlotte Striebel: Long Distance Runner Award – open to a person who has demonstrated persistence\, initiative\, cooperation and dedication on behalf of women’s rights. \nYou can find descriptions of these awards and past award recipients here: Award Recipients MN NOW 2021 \n  \n\n\n\nNOMINATIONS FOR OFFICERS & BOARD DELEGATES\n\n\nNominations for Officers are open for 2022 elections. If you’re interested in learning more about officer positions including President\, Vice President\, Treasurer\, Secretary\, Operations Coordinator and Legislative Coordinator\, see the position descriptions and  application.  President\, Secretary and Treasurer are up for election this year for a two-year term.
URL:https://mnnow.org/event/mn-now-state-conference-3/
CATEGORIES:Constitutional Equality,Economic Justice,Freedom from Violence,LGBTQ Rights,MN NOW,Racial Justice,Reproductive Rights
END:VEVENT
BEGIN:VEVENT
DTSTART;TZID=America/New_York:20220323T183000
DTEND;TZID=America/New_York:20220323T200000
DTSTAMP:20260421T203248
CREATED:20220609T172904Z
LAST-MODIFIED:20220609T172904Z
UID:6248-1648060200-1648065600@mnnow.org
SUMMARY:MN Valley NOW Chapter Meeting
DESCRIPTION:The Minnesota Valley Chapter of NOW will meet Wednesday\, March 23\, 2022. Social time starts at 6:30pm while the business section starts at 7pm. Meetings are currently over zoom.
URL:https://mnnow.org/event/mn-valley-now-chapter-meeting-4/
CATEGORIES:Local Chapters
END:VEVENT
BEGIN:VEVENT
DTSTART;TZID=America/New_York:20220320T080000
DTEND;TZID=America/New_York:20220320T170000
DTSTAMP:20260421T203248
CREATED:20220117T051311Z
LAST-MODIFIED:20220117T051311Z
UID:5985-1647763200-1647795600@mnnow.org
SUMMARY:MN NOW PAC Meeting
DESCRIPTION:The MN NOW PAC will meet Sunday\, March 20\, 5-6pm.
URL:https://mnnow.org/event/mn-now-pac-meeting-3/
CATEGORIES:PAC
END:VEVENT
BEGIN:VEVENT
DTSTART;TZID=America/New_York:20220316T173000
DTEND;TZID=America/New_York:20220316T183000
DTSTAMP:20260421T203248
CREATED:20211020T040847Z
LAST-MODIFIED:20211020T040847Z
UID:5856-1647451800-1647455400@mnnow.org
SUMMARY:Fergus Falls NOW Chapter Meeting
DESCRIPTION:The Fergus Falls NOW Chapter meetings are held every third Wednesday of the month. \nPlease join us on Wednesday\, March 16\, at 5:30pm. We’ll meet over Zoom. Social hour begins at 5pm.
URL:https://mnnow.org/event/fergus-falls-now-chapter-meeting-4/
CATEGORIES:Local Chapters
END:VEVENT
BEGIN:VEVENT
DTSTART;TZID=America/New_York:20220305T100000
DTEND;TZID=America/New_York:20220305T120000
DTSTAMP:20260421T203248
CREATED:20220117T051157Z
LAST-MODIFIED:20220117T051157Z
UID:5983-1646474400-1646481600@mnnow.org
SUMMARY:MN NOW State Board Meeting
DESCRIPTION:MN NOW will hold a State Board meeting on March 5\, 2022\, 10a-12n. All Committee\, Issue\, and Chapter Chairs\, please submit your written reports prior to the meeting to give people time to read them. Thank you.
URL:https://mnnow.org/event/mn-now-state-board-meeting-3/
CATEGORIES:Constitutional Equality,Economic Justice,Freedom from Violence,LGBTQ Rights,Local Chapters,MN NOW,Racial Justice,Reproductive Rights
END:VEVENT
BEGIN:VEVENT
DTSTART;TZID=America/New_York:20220223T183000
DTEND;TZID=America/New_York:20220223T200000
DTSTAMP:20260421T203248
CREATED:20220609T172812Z
LAST-MODIFIED:20220609T172812Z
UID:6246-1645641000-1645646400@mnnow.org
SUMMARY:MN Valley NOW Chapter Meeting
DESCRIPTION:The Minnesota Valley Chapter of NOW will meet Wednesday\, February 23\, 2022. Social time starts at 6:30pm while the business section starts at 7pm. Meetings are currently over zoom.
URL:https://mnnow.org/event/mn-valley-now-chapter-meeting-3/
CATEGORIES:Local Chapters
END:VEVENT
BEGIN:VEVENT
DTSTART;TZID=America/New_York:20220216T173000
DTEND;TZID=America/New_York:20220216T183000
DTSTAMP:20260421T203248
CREATED:20211020T040754Z
LAST-MODIFIED:20211020T040754Z
UID:5854-1645032600-1645036200@mnnow.org
SUMMARY:Fergus Falls NOW Chapter Meeting
DESCRIPTION:The Fergus Falls NOW Chapter meetings are held every third Wednesday of the month. \nPlease join us on Wednesday\, February 16\, at 5:30pm. We’ll meet over Zoom. Social hour begins at 5pm.
URL:https://mnnow.org/event/fergus-falls-now-chapter-meeting-3/
CATEGORIES:Local Chapters
END:VEVENT
BEGIN:VEVENT
DTSTART;TZID=America/New_York:20220207T114500
DTEND;TZID=America/New_York:20220207T124500
DTSTAMP:20260421T203248
CREATED:20220117T051437Z
LAST-MODIFIED:20220117T051437Z
UID:5987-1644234300-1644237900@mnnow.org
SUMMARY:LGBTQIA+ Committee Meeting
DESCRIPTION:LGBTQIA+ Committee will meet Monday\, February 7\, 11:45a-12:45p.
URL:https://mnnow.org/event/lgbtqia-committee-meeting-7/
CATEGORIES:LGBTQ Rights
END:VEVENT
BEGIN:VEVENT
DTSTART;TZID=America/New_York:20220131T110000
DTEND;TZID=America/New_York:20220131T120000
DTSTAMP:20260421T203248
CREATED:20220119T025926Z
LAST-MODIFIED:20220119T030139Z
UID:5992-1643626800-1643630400@mnnow.org
SUMMARY:Day 1 for ERA! Rally at MN State Capitol
DESCRIPTION:Please join us on January 31\, 11a-12n\, in the Rotunda of the Minnesota State Capitol as we rally for the ratification of the ERA! \nFor more information and to rsvp\, email info[at]eramn.org.
URL:https://mnnow.org/event/day-1-for-era-rally-at-mn-state-capitol/
CATEGORIES:Constitutional Equality
END:VEVENT
BEGIN:VEVENT
DTSTART;VALUE=DATE:20220131
DTEND;VALUE=DATE:20220201
DTSTAMP:20260421T203248
CREATED:20220108T185035Z
LAST-MODIFIED:20220108T185035Z
UID:5965-1643587200-1643673599@mnnow.org
SUMMARY:2022 Minnesota Legislative Session First Day
DESCRIPTION:
URL:https://mnnow.org/event/2022-minnesota-legislative-session-first-day/
END:VEVENT
BEGIN:VEVENT
DTSTART;TZID=America/New_York:20220121T110000
DTEND;TZID=America/New_York:20220121T130000
DTSTAMP:20260421T203248
CREATED:20220117T050650Z
LAST-MODIFIED:20220117T050650Z
UID:5979-1642762800-1642770000@mnnow.org
SUMMARY:LGBTQIA+: Legislation Training
DESCRIPTION:Our legislation training is Friday\, 1/21 from 11AM-1PM via Zoom. Committee member Renee Cardarelle (UND) will guide us through an introduction to the legislature\, how legislation is created and the Minnesota legislative website. Melanie Sedqi\, our MN NOW Legislative Coordinator and Reproductive Freedom Chair\, will also join us.\n\nWe will apply this groundwork to help us monitor legislation related to LGBTQIA+ issues.  The training will be recorded if you can’t make it and is also open to board members and other committees.
URL:https://mnnow.org/event/lgbtqia-legislation-training/
CATEGORIES:LGBTQ Rights
END:VEVENT
BEGIN:VEVENT
DTSTART;TZID=America/New_York:20220119T170000
DTEND;TZID=America/New_York:20220119T183000
DTSTAMP:20260421T203248
CREATED:20211020T040506Z
LAST-MODIFIED:20220119T025437Z
UID:5849-1642611600-1642617000@mnnow.org
SUMMARY:Fergus Falls NOW Chapter Meeting
DESCRIPTION:The Fergus Falls NOW Chapter meetings are held every third Wednesday of the month. \nPlease join us on Wednesday\, January 19\, at 5:30pm for our November meeting. We’ll meet over Zoom. Social hour begins at 5pm.
URL:https://mnnow.org/event/fergus-falls-now-chapter-meeting/
CATEGORIES:Local Chapters
END:VEVENT
BEGIN:VEVENT
DTSTART;TZID=America/New_York:20220116T190000
DTEND;TZID=America/New_York:20220116T203000
DTSTAMP:20260421T203248
CREATED:20220117T050351Z
LAST-MODIFIED:20220117T050351Z
UID:5977-1642359600-1642365000@mnnow.org
SUMMARY:Racial Justic Book Club: My Grandmother's Hands by Resmaa Menakem
DESCRIPTION:You are invited to the next NOW Racial Justice Book Read – My Grandmother’s Hands by Resmaa Menakem. Happening January 16 at 7 pm and again on February 20th at 7 pm. \nHere’s the registration link: https://www.eventbrite.com/e/mn-now-racial-justice-book-club-my-grandmothers-hands-by-resmaa-menakem-tickets-244847173487 \nWe welcome all to attend\, no matter how far into the book you are. We will discuss the concepts of the book and invite people to reflect on what they have learned. \nTo learn more\, watch the video below to hear what others have experienced reading the book. Resmaa Menakem challenges us to understand our own trauma that keeps us from moving forward\, not just trauma we have today\, but trauma from our historical past. \nHere is a great video about the book: https://www.youtube.com/watch?v=Yl8NKF5to-0 \nSee you Sunday!
URL:https://mnnow.org/event/racial-justic-book-club-my-grandmothers-hands-by-resmaa-menakem/
CATEGORIES:Racial Justice
END:VEVENT
END:VCALENDAR