BEGIN:VCALENDAR
VERSION:2.0
PRODID:-//Minnesota NOW - ECPv6.15.20//NONSGML v1.0//EN
CALSCALE:GREGORIAN
METHOD:PUBLISH
X-WR-CALNAME:Minnesota NOW
X-ORIGINAL-URL:https://mnnow.org
X-WR-CALDESC:Events for Minnesota NOW
REFRESH-INTERVAL;VALUE=DURATION:PT1H
X-Robots-Tag:noindex
X-PUBLISHED-TTL:PT1H
BEGIN:VTIMEZONE
TZID:America/New_York
BEGIN:DAYLIGHT
TZOFFSETFROM:-0500
TZOFFSETTO:-0400
TZNAME:EDT
DTSTART:20200308T070000
END:DAYLIGHT
BEGIN:STANDARD
TZOFFSETFROM:-0400
TZOFFSETTO:-0500
TZNAME:EST
DTSTART:20201101T060000
END:STANDARD
BEGIN:DAYLIGHT
TZOFFSETFROM:-0500
TZOFFSETTO:-0400
TZNAME:EDT
DTSTART:20210314T070000
END:DAYLIGHT
BEGIN:STANDARD
TZOFFSETFROM:-0400
TZOFFSETTO:-0500
TZNAME:EST
DTSTART:20211107T060000
END:STANDARD
BEGIN:DAYLIGHT
TZOFFSETFROM:-0500
TZOFFSETTO:-0400
TZNAME:EDT
DTSTART:20220313T070000
END:DAYLIGHT
BEGIN:STANDARD
TZOFFSETFROM:-0400
TZOFFSETTO:-0500
TZNAME:EST
DTSTART:20221106T060000
END:STANDARD
BEGIN:DAYLIGHT
TZOFFSETFROM:-0500
TZOFFSETTO:-0400
TZNAME:EDT
DTSTART:20230312T070000
END:DAYLIGHT
BEGIN:STANDARD
TZOFFSETFROM:-0400
TZOFFSETTO:-0500
TZNAME:EST
DTSTART:20231105T060000
END:STANDARD
END:VTIMEZONE
BEGIN:VEVENT
DTSTART;TZID=America/New_York:20220106T180000
DTEND;TZID=America/New_York:20220106T190000
DTSTAMP:20260422T042119
CREATED:20220106T144811Z
LAST-MODIFIED:20220106T144811Z
UID:5958-1641492000-1641495600@mnnow.org
SUMMARY:Spotlight on Democracy Rally
DESCRIPTION:In 2021\, more than 360 voter suppression bills were introduced in 47 states in the U.S.\, including in MN. These laws aim to make it harder for people to vote\, and they particularly impact communities of color. \nJoin us tomorrow\, Thursday\, Jan 6\, at the MN State Capitol – map\, 6:00 -7:00 pm\, on the first anniversary of the failed rightwing coup attempt to rally in defense of democracy. Call on lawmakers to preserve\, protect\, and strengthen our right to vote. Demand that Congress pass the Freedom to Vote Act\, John Lewis Voting Rights Act\, and the Protecting Our Democracy Act. \nThis event is part of a nationwide day of action focused on democracy and is being organized by a number of different MN Indivisible groups. \nSpeaker & Presentation List: \n· Senator Amy Klobuchar \n· Congressman Dean Phillips \n· State Senator Erin Murphy \n· Annastasia Belladonna Carrera\, Common Cause MN \n· Jeanne Massey\, FairVote MN \n· Julio Zelaya\, ACLU MN \n· Minister JaNae Bates\, Isaiah/Faith in MN \n· State Representative Emma Greenman\, and more! \nThere will also be luminaria\, a sing-along\, and a call to action at this family-friendly event. \n Sign up TODAY with the free tickets link or copy/share this link: t.ly/Ipok \n· Masks will be required \n· Dress warmly \n· Bring light to shine (i.e. cellphone light\, glowsticks\, etc) \n· Please plan ahead as no facilities will be available. \nEvent Partners: Edina Indivisible\, Indivisible St. Paul\, Indivisible MN03\, St. Croix Valley Indivisible\, Indivisible Eden Prairie\, Plymouth Area Indivisible\, Indivisible North Metro\, FairVoteMN\, Moms Demand Action MN\, Common Cause MN\, Women’s March MN\, Let People Vote – Mpls\, Let People Vote – St. Paul\, and more. \nLearn more on the FB event page\, register for the event\, and/or sign up to volunteer.
URL:https://mnnow.org/event/spotlight-on-democracy-rally/
CATEGORIES:Elections
END:VEVENT
BEGIN:VEVENT
DTSTART;TZID=America/New_York:20220103T110000
DTEND;TZID=America/New_York:20220103T120000
DTSTAMP:20260422T042119
CREATED:20220117T050815Z
LAST-MODIFIED:20220117T050815Z
UID:5981-1641207600-1641211200@mnnow.org
SUMMARY:LGBTQIA+ Committee Meeting
DESCRIPTION:
URL:https://mnnow.org/event/lgbtqia-committee-meeting-6/
CATEGORIES:LGBTQ Rights
END:VEVENT
BEGIN:VEVENT
DTSTART;TZID=America/New_York:20211213T110000
DTEND;TZID=America/New_York:20211213T120000
DTSTAMP:20260422T042119
CREATED:20211020T040217Z
LAST-MODIFIED:20211020T040217Z
UID:5847-1639393200-1639396800@mnnow.org
SUMMARY:LGBTQIA+ Committee Meeting
DESCRIPTION:The LGBTQIA+ Committee will meet Monday\, December 13\, at 11am over Zoom.
URL:https://mnnow.org/event/lgbtqia-committee-meeting-5/
CATEGORIES:LGBTQ Rights,MN NOW
END:VEVENT
BEGIN:VEVENT
DTSTART;TZID=America/New_York:20211204T130000
DTEND;TZID=America/New_York:20211204T140000
DTSTAMP:20260422T042119
CREATED:20211203T161459Z
LAST-MODIFIED:20211203T161848Z
UID:5947-1638622800-1638626400@mnnow.org
SUMMARY:Rally to Support Trans Kids
DESCRIPTION:Saturday\, December 4\, 1:00 – 2:00 PMLevee Park Rotary Pavilion20 Ramsey Street\, Hastings\, MN 55033\nRally for Trans Kids brings together a coalition of supporters to show transgender\, non-binary\, and LGBTQ+ kids that the Hastings community has their back.\nThe rally is in direct response to the recent news reported on the front page of CNN that local School Board Chair Kelsey Waits was bullied and harassed throughout her recent bid for re-election (see https://tinyurl.com/44za7h39). These attacks went well beyond the typical criticism and scrutiny that elected officials often face. Kelsey’s youngest child\, a second-grader\, was outed as transgender by a local group of parents who had activated around the election.\n\nWe will not be divided by attacks against anyone’s family or anyone’s kids. \nWe reject division\, hate\, and fear-mongering and are here to show that Hastings embraces kindness\, respect\, and civil discourse. \nExpected attendees and supporters include Hastings Progressives; RECLAIM; ACLU of Minnesota; Afton Indivisible; St. Croix Valley Indivisible; Indivisible St. Paul; MN Indivisible Alliance; Hastings THRIVE; IDEA: Inclusion\, Diversity & Equality Alliance; Transforming Families; Hastings civic\, business\, non-profit\, and faith leaders; and more. \nIn addition\, to show support to the Waits Family you can do so by: \nWriting a letter/card. The letter can be picked up by one of our members and delivered to her or send to PO Box 794 Hastings MN 55033. Please address it to IDEA HASTINGS CC Waits Family so that we can get it to them.
URL:https://mnnow.org/event/rally-to-support-trans-kids/
LOCATION:Levee Park Rotary Pavilion\, 20 Ramsey Street\, Hastings\, MN\, 55033
CATEGORIES:LGBTQ Rights
END:VEVENT
BEGIN:VEVENT
DTSTART;VALUE=DATE:20211120
DTEND;VALUE=DATE:20211121
DTSTAMP:20260422T042119
CREATED:20211106T182837Z
LAST-MODIFIED:20211106T182837Z
UID:5902-1637366400-1637452799@mnnow.org
SUMMARY:Transgender and Non-Binary People Day of Remembrance
DESCRIPTION:Today is Transgender and Non-Binary People Day of Remembrance.
URL:https://mnnow.org/event/transgender-and-non-binary-people-day-of-remembrance/
CATEGORIES:LGBTQ Rights
END:VEVENT
BEGIN:VEVENT
DTSTART;TZID=America/New_York:20211117T183000
DTEND;TZID=America/New_York:20211117T200000
DTSTAMP:20260422T042119
CREATED:20211116T043540Z
LAST-MODIFIED:20211116T043603Z
UID:5916-1637173800-1637179200@mnnow.org
SUMMARY:Minnesota Valley NOW Chapter Meeting
DESCRIPTION:Minnesota Valley NOW’s next business meeting is scheduled for Wednesday\, November 17. This will be both online via Zoom\, and in person at Clubhouse by Villas at Mary T\, 6941 140th St W\, Savage\, MN. \nThe 7:00pm business meeting will be preceded by a social gathering at 6:30pm. If attending in person\, this will include a potluck. All are welcome.
URL:https://mnnow.org/event/minnesota-valley-now-chapter-meeting/
LOCATION:at Clubhouse by Villas at Mary T\, 6941 140th St W\, Savage\, MN\, \, 6941 140th St W\, Savage\, Minnesota
CATEGORIES:Local Chapters
END:VEVENT
BEGIN:VEVENT
DTSTART;TZID=America/New_York:20211117T173000
DTEND;TZID=America/New_York:20211117T183000
DTSTAMP:20260422T042119
CREATED:20211020T040633Z
LAST-MODIFIED:20211020T041719Z
UID:5851-1637170200-1637173800@mnnow.org
SUMMARY:Fergus Falls NOW Chapter Meeting
DESCRIPTION:The Fergus Falls NOW Chapter meetings are held every third Wednesday of the month. \nPlease join us on Wednesday\, November 17\, at 5:30pm. We’ll meet over Zoom. Social hour begins at 5pm.
URL:https://mnnow.org/event/fergus-falls-now-chapter-meeting-2/
CATEGORIES:Local Chapters
END:VEVENT
BEGIN:VEVENT
DTSTART;TZID=America/New_York:20211116T170000
DTEND;TZID=America/New_York:20211116T180000
DTSTAMP:20260422T042119
CREATED:20211106T181526Z
LAST-MODIFIED:20211106T181526Z
UID:5900-1637082000-1637085600@mnnow.org
SUMMARY:Economic Justice Committee Meeting
DESCRIPTION:The Economic Justice Committee will meet Tuesday\, November 16\, 5-6pm. We’ll meet over zoom.
URL:https://mnnow.org/event/economic-justice-committee-meeting-3/
CATEGORIES:Economic Justice
END:VEVENT
BEGIN:VEVENT
DTSTART;TZID=America/New_York:20211108T110000
DTEND;TZID=America/New_York:20211108T120000
DTSTAMP:20260422T042119
CREATED:20211020T040128Z
LAST-MODIFIED:20211020T040128Z
UID:5844-1636369200-1636372800@mnnow.org
SUMMARY:LGBTQIA+ Committee Meeting
DESCRIPTION:The LGBTQIA+ Committee will meet Monday\, November 8\, at 11am over Zoom.
URL:https://mnnow.org/event/lgbtqia-committee-meeting-4/
CATEGORIES:LGBTQ Rights,MN NOW
END:VEVENT
BEGIN:VEVENT
DTSTART;TZID=America/New_York:20211106T100000
DTEND;TZID=America/New_York:20211106T120000
DTSTAMP:20260422T042119
CREATED:20210927T043511Z
LAST-MODIFIED:20210927T043511Z
UID:5772-1636192800-1636200000@mnnow.org
SUMMARY:MN NOW Board Meeting
DESCRIPTION:The Minnesota NOW Board will be meeting Saturday\, November 6\, 10am-12n via zoom.
URL:https://mnnow.org/event/mn-now-board-meeting-9/
CATEGORIES:Constitutional Equality,Economic Justice,Freedom from Violence,LGBTQ Rights,Local Chapters,MN NOW,Racial Justice,Reproductive Rights
END:VEVENT
BEGIN:VEVENT
DTSTART;TZID=America/New_York:20211027T183000
DTEND;TZID=America/New_York:20211027T203000
DTSTAMP:20260422T042119
CREATED:20210927T043353Z
LAST-MODIFIED:20210929T010148Z
UID:5770-1635359400-1635366600@mnnow.org
SUMMARY:MN Valley NOW’s Annual Meeting
DESCRIPTION:MN Valley NOW’s annual meeting will be held Wednesday\, October 27th\, 6:30pm social\, 7:00pm business\, on Zoom.
URL:https://mnnow.org/event/mn-valley-nows-annual-meeting/
CATEGORIES:Local Partners
END:VEVENT
BEGIN:VEVENT
DTSTART;TZID=America/New_York:20211025T110000
DTEND;TZID=America/New_York:20211025T120000
DTSTAMP:20260422T042119
CREATED:20211020T035855Z
LAST-MODIFIED:20211020T040053Z
UID:5841-1635159600-1635163200@mnnow.org
SUMMARY:LGBTQIA+ Committee Meeting
DESCRIPTION:The LGBTQIA+ Committee will meet Monday\, October 25\, at 11am over Zoom.
URL:https://mnnow.org/event/lgbtqia-committee-meeting-3/
CATEGORIES:LGBTQ Rights,MN NOW
END:VEVENT
BEGIN:VEVENT
DTSTART;TZID=America/New_York:20211020T170000
DTEND;TZID=America/New_York:20211020T183000
DTSTAMP:20260422T042119
CREATED:20211020T035224Z
LAST-MODIFIED:20211020T035224Z
UID:5839-1634749200-1634754600@mnnow.org
SUMMARY:Fergus Falls Chapter Meeting
DESCRIPTION:Hello\, Equal Rights Petitioners!\n \n    Were you able to receive the MN Move! email directing you to consider signing the petition to President Biden and AG Garland requesting that they direct the Archivist to publish the ERA? If not and you are interested in signing and sending\, click on the link below. Or go to MN NOW’s website and select/click on “News” News (mnnow.org). You’ll get background on the ERA’s importance and why\, post-ratification by the required number of states\, that it must now be sent to the U.S. Archivist to be published.\n\n    We can thank members of the MN NOW Economic Justice Committee (that includes several members of our local FF Area Chapter!) for their work in creating the petition. It will have a deadline of November 15 for you to sign. At that time our MN NOW President\, Mariquita Anderson\, has promised to print copies of the petitions and mail them to both President Biden and Attorney General Garland. \n \nAre you ready for Equality under the law? Sign here:\nEnter the Equal Rights Amendment as the 28th Amendment to the US Constitution – Action Network\n\n\nNext Meeting:  Third Wednesday\, October 20 on Zoom (no meeting at the FF Library this month due to Covid-19 precautions)\, 5 pm Social Time with meeting beginning at 5:30-5:45. Bring your ideas for our Holiday gathering in December! 
URL:https://mnnow.org/event/fergus-falls-chapter-meeting-2/
CATEGORIES:Constitutional Equality,Economic Justice,Local Chapters
END:VEVENT
BEGIN:VEVENT
DTSTART;TZID=America/New_York:20211017T190000
DTEND;TZID=America/New_York:20211017T203000
DTSTAMP:20260422T042119
CREATED:20211016T144640Z
LAST-MODIFIED:20211016T144640Z
UID:5825-1634497200-1634502600@mnnow.org
SUMMARY:Racial Justice Book Club: Caste by Isabel Wilkerson featuring Terri Thao
DESCRIPTION:Please join us for a second discussion on our third book Caste: The Origins of our Discontents by Isabel Wilkerson.  As a bonus\, we will be having Terri Thao\, Eastside Saint Paul activist\, community organizer and housing expert\, joining us to lead the discussion. \nIf you haven’t yet registered\, please find the link on our website: https://mnnow.org/bookclub \nWe ask that those that want to join us register so we have all attendees in one location to provide the zoom information and discussion questions in advance.
URL:https://mnnow.org/event/racial-justice-book-club-caste-by-isabel-wilkerson-featuring-terri-thao/
CATEGORIES:Racial Justice
END:VEVENT
BEGIN:VEVENT
DTSTART;TZID=America/New_York:20211017T180000
DTEND;TZID=America/New_York:20211017T190000
DTSTAMP:20260422T042119
CREATED:20211016T144233Z
LAST-MODIFIED:20211016T144846Z
UID:5823-1634493600-1634497200@mnnow.org
SUMMARY:MN NOW PAC Meeting
DESCRIPTION:The Minnesota NOW PAC will meet Sunday\, October 17\, 6-7pm over Zoom.
URL:https://mnnow.org/event/mn-now-pac/
CATEGORIES:Elections,MN NOW,PAC
END:VEVENT
BEGIN:VEVENT
DTSTART;TZID=America/New_York:20211016T100000
DTEND;TZID=America/New_York:20211016T110000
DTSTAMP:20260422T042119
CREATED:20211016T144057Z
LAST-MODIFIED:20211016T144057Z
UID:5821-1634378400-1634382000@mnnow.org
SUMMARY:Reproductive Rights Committee Meeting
DESCRIPTION:The Reproductive Rights Committee will meet Saturday\, October 16\, 10-11am over Zoom.
URL:https://mnnow.org/event/reproductive-rights-committee-meeting-2/
CATEGORIES:Reproductive Rights
END:VEVENT
BEGIN:VEVENT
DTSTART;TZID=America/New_York:20211012T170000
DTEND;TZID=America/New_York:20211012T180000
DTSTAMP:20260422T042119
CREATED:20210915T031031Z
LAST-MODIFIED:20210915T031031Z
UID:5738-1634058000-1634061600@mnnow.org
SUMMARY:Economic Justice Committee Meeting
DESCRIPTION:The Economic Justice Committee will meet on Tuesday\, October 12\, 5-6pm\, over zoom.
URL:https://mnnow.org/event/economic-justice-committee-meeting-2/
CATEGORIES:Economic Justice
END:VEVENT
BEGIN:VEVENT
DTSTART;TZID=America/New_York:20211011T110000
DTEND;TZID=America/New_York:20211011T120000
DTSTAMP:20260422T042119
CREATED:20211012T053810Z
LAST-MODIFIED:20211012T053810Z
UID:5818-1633950000-1633953600@mnnow.org
SUMMARY:LGBTQIA+ Committee Meeting
DESCRIPTION:A meeting will be held over zoom on Monday\, Oct 11 at 11am.
URL:https://mnnow.org/event/lgbtqia-committee-meeting-2/
CATEGORIES:LGBTQ Rights
END:VEVENT
BEGIN:VEVENT
DTSTART;TZID=America/New_York:20211007T170000
DTEND;TZID=America/New_York:20211007T183000
DTSTAMP:20260422T042119
CREATED:20210921T230709Z
LAST-MODIFIED:20210921T230709Z
UID:5754-1633626000-1633631400@mnnow.org
SUMMARY:Membership Committee meeting
DESCRIPTION:
URL:https://mnnow.org/event/membership-committee-meeting/
CATEGORIES:MN NOW
END:VEVENT
BEGIN:VEVENT
DTSTART;VALUE=DATE:20211002
DTEND;VALUE=DATE:20211003
DTSTAMP:20260422T042119
CREATED:20210915T031443Z
LAST-MODIFIED:20210915T031443Z
UID:5743-1633132800-1633219199@mnnow.org
SUMMARY:Reproductive Rights Rally
DESCRIPTION:There will be a Reproductive Rights Rally on Saturday\, October 2\, 2021. More details to follow.
URL:https://mnnow.org/event/reproductive-rights-rally/
CATEGORIES:Reproductive Rights
END:VEVENT
BEGIN:VEVENT
DTSTART;TZID=America/New_York:20210930T190000
DTEND;TZID=America/New_York:20210930T190000
DTSTAMP:20260422T042119
CREATED:20210921T230459Z
LAST-MODIFIED:20210921T230625Z
UID:5752-1633028400-1633028400@mnnow.org
SUMMARY:Sustainability Meeting
DESCRIPTION:
URL:https://mnnow.org/event/sustainability-meeting/
CATEGORIES:MN NOW
END:VEVENT
BEGIN:VEVENT
DTSTART;TZID=America/New_York:20210928T190000
DTEND;TZID=America/New_York:20210928T200000
DTSTAMP:20260422T042119
CREATED:20210915T031235Z
LAST-MODIFIED:20210915T031235Z
UID:5741-1632855600-1632859200@mnnow.org
SUMMARY:National Task Force Meeting
DESCRIPTION:The National Task Force will meet Tuesday\, September 28\, 7-8pm\, over zoom.
URL:https://mnnow.org/event/national-task-force-meeting/
CATEGORIES:National NOW
END:VEVENT
BEGIN:VEVENT
DTSTART;TZID=America/New_York:20210925T100000
DTEND;TZID=America/New_York:20210925T120000
DTSTAMP:20260422T042119
CREATED:20210915T030311Z
LAST-MODIFIED:20210915T030311Z
UID:5731-1632564000-1632571200@mnnow.org
SUMMARY:Minnesota NOW Board Meeting
DESCRIPTION:The Minnesota NOW Board is scheduled to meet over zoom on Sat\, September 25\, 10am-12n.
URL:https://mnnow.org/event/minnesota-now-board-meeting/
CATEGORIES:Constitutional Equality,Economic Justice,Freedom from Violence,LGBTQ Rights,Local Chapters,MN NOW,Racial Justice,Reproductive Rights
END:VEVENT
BEGIN:VEVENT
DTSTART;TZID=America/New_York:20210922T190000
DTEND;TZID=America/New_York:20210922T200000
DTSTAMP:20260422T042119
CREATED:20210915T030658Z
LAST-MODIFIED:20210915T030658Z
UID:5735-1632337200-1632340800@mnnow.org
SUMMARY:Freedom from Violence Committee Meeting
DESCRIPTION:The Freedom from Violence Committee will meet Wednesday\, September 22 at 7pm over zoom.
URL:https://mnnow.org/event/freedom-from-violence-committee-meeting-3/
CATEGORIES:Freedom from Violence
END:VEVENT
BEGIN:VEVENT
DTSTART;TZID=America/New_York:20210919T190000
DTEND;TZID=America/New_York:20210919T210000
DTSTAMP:20260422T042119
CREATED:20210831T192218Z
LAST-MODIFIED:20210831T192218Z
UID:5716-1632078000-1632085200@mnnow.org
SUMMARY:Racial Justice Book Discussion #3: Caste by Isabel Wilkerson
DESCRIPTION:
URL:https://mnnow.org/event/racial-justice-book-discussion-3-caste-by-isabel-wilkerson/
LOCATION:Via Zoom
CATEGORIES:Racial Justice
ATTACH;FMTTYPE=image/jpeg:https://mnnow.org/wp-content/uploads/2021/04/Caste-e1618888784198.jpg
END:VEVENT
BEGIN:VEVENT
DTSTART;TZID=America/New_York:20210918T100000
DTEND;TZID=America/New_York:20210918T120000
DTSTAMP:20260422T042119
CREATED:20210915T040433Z
LAST-MODIFIED:20210915T040433Z
UID:5747-1631959200-1631966400@mnnow.org
SUMMARY:ERA MN ​Annual Organizational Meeting
DESCRIPTION:For the latest information\, please visit https://www.eramn.org/events.html.\n\nSaturday\, September 18th we will be holding our election of leadership\, making plans for 2021 – ’22 and giving updates on the status of the ERA in Minnesota and Nationally! \nHow does leadership work within ERAMN? \nOur leadership consists of an elected Working Group (19 members) and within that there is the Executive Committee (7 members). *For details on our Executive Committee and Working Group see below. \nWe will be voting in 16 Working Group members including our President\, Vice President and Treasurer ~ all are welcome to attend the meeting but you need to be a Member of ERAMN to vote\, so be sure to confirm your membership before the meeting by emailing HERE! \nTo become a voting member visit HERE! \nWHAT: ERAMN Annual Organizational Meeting\nWHEN: September 18th\, 10:00am – Noon\nWHERE: Online via Zoom – RSVP HERE! \n*Working Group Executive Committee: \n\nThe Executive Committee oversees the Working Group committees and organizational operations. Each Executive Committee member leads a Committee (i.e. Website\, Outreach & Education\, State or National Legislation\, etc.)\n\nPresident – oversees all aspects of the organization; spokesperson for organization\nVice President – assists the President\, steps in when President is unable to perform duties\nPresident Emeriti – immediate past president serves as voting member of executive committee during current president term then rotates off with election of new president.\nSecretary – records meeting minutes\nTreasurer – oversees financials of organization; cross-check against our fiscal agent MN NOW\nAt-Large (2)\n\n\n\n*Working Group Committees: \n\nThe Working Group is comprised of Committee Leads and the Executive Committee (as above).\n\nFundraising – facilitates & oversees fundraising events & actions\nCommunications – facilitates & oversees communications; email\, social media\, print newsletters (if doing)\nVolunteer Coordinator – oversees & coordinates volunteers for events & actions\nMarketing/Website – works with Communications on marketing practices; works with web designer to keep site current\nState Legislation – oversees and coordinates State-level focus of organization\nNational Legislation – oversees and coordinates National-level focus of organization\nPartner Outreach – oversees and coordinates outreach to existing and new allies\nInclusion & Diversity – oversees and coordinates outreach and ensures organizational diversity and inclusion practices\nEducation & Outreach – oversees and coordinates education and outreach events & actions\nMembership – oversees and coordinates membership enrollment\, outreach and processing\nAt Large (2)​
URL:https://mnnow.org/event/era-mn-%e2%80%8bannual-organizational-meeting/
CATEGORIES:Constitutional Equality
END:VEVENT
BEGIN:VEVENT
DTSTART;TZID=America/New_York:20210918T100000
DTEND;TZID=America/New_York:20210918T110000
DTSTAMP:20260422T042119
CREATED:20210807T193738Z
LAST-MODIFIED:20210807T193953Z
UID:5701-1631959200-1631962800@mnnow.org
SUMMARY:Reproductive Rights Committee Meeting
DESCRIPTION:Please contact Melanie Sedqi at mlsedqi@gmail.com for the Zoom link and agenda.
URL:https://mnnow.org/event/reproductive-rights-committee-meeting/
CATEGORIES:Reproductive Rights
END:VEVENT
BEGIN:VEVENT
DTSTART;TZID=America/New_York:20210915T170000
DTEND;TZID=America/New_York:20210915T180000
DTSTAMP:20260422T042119
CREATED:20210915T022917Z
LAST-MODIFIED:20210915T022917Z
UID:5724-1631725200-1631728800@mnnow.org
SUMMARY:Fergus Falls Chapter Meeting
DESCRIPTION:Thanks to all who attended\, brought food to share and conversed with guests and newcomers at our FF Area NOW August Potluck.\n \n      Our next NOW meeting is scheduled for this Wed.\, September 15. As a hybrid meeting you have the option to either meet in person at the Fergus Falls Public Library or on Zoom via internet or phone. Our Together Time (Social “hour”) begins at 5 pm\, with the business meeting scheduled to begin at 5:30-5:45 pm. See you there in person or on Zoom!
URL:https://mnnow.org/event/fergus-falls-chapter-meeting/
CATEGORIES:Local Chapters
END:VEVENT
BEGIN:VEVENT
DTSTART;TZID=America/New_York:20210914T170000
DTEND;TZID=America/New_York:20210914T180000
DTSTAMP:20260422T042119
CREATED:20210915T023053Z
LAST-MODIFIED:20210915T023053Z
UID:5726-1631638800-1631642400@mnnow.org
SUMMARY:Economic Justice Committee Meeting
DESCRIPTION:The Economic Justice Committee will meet over zoom on Tuesday\, Sept 14\, 5-6pm.
URL:https://mnnow.org/event/economic-justice-committee-meeting/
CATEGORIES:Economic Justice
END:VEVENT
BEGIN:VEVENT
DTSTART;TZID=America/New_York:20210914T110000
DTEND;TZID=America/New_York:20210914T120000
DTSTAMP:20260422T042119
CREATED:20210915T030446Z
LAST-MODIFIED:20210915T030731Z
UID:5733-1631617200-1631620800@mnnow.org
SUMMARY:LGBTQIA+ Committee Meeting
DESCRIPTION:LGBTAIA+ Committee will meet Tuesday\, September 14\, 11am-12n.
URL:https://mnnow.org/event/lgbtaia-committee-meeting/
CATEGORIES:LGBTQ Rights
END:VEVENT
END:VCALENDAR